BEGIN:VCALENDAR
PRODID:-//eluceo/ical//2.0/EN
VERSION:2.0
CALSCALE:GREGORIAN
BEGIN:VEVENT
UID:https://hbb.rivio.dev/senioren/2018/wedstrijd/22175
DTSTAMP:20260420T200149Z
SUMMARY:Mixed 9 - Smashing Bruang 3
DESCRIPTION:Baan 14\, Wedstrijdnummer 233\, Afdeling 4e klasse II
DTSTART:20180912T200000
DTEND:20180912T230000
LOCATION:City Resort Helmond
ATTACH;FMTTYPE=text/plain:https://hbb.rivio.dev/senioren/2018/wedstrijd/221
 75
END:VEVENT
BEGIN:VEVENT
UID:https://hbb.rivio.dev/senioren/2018/wedstrijd/22217
DTSTAMP:20260420T200149Z
SUMMARY:Smashing Bruang 3 - BC '85 3
DESCRIPTION:Baan 14\, Wedstrijdnummer 237\, Afdeling 4e klasse II
DTSTART:20180926T200000
DTEND:20180926T230000
LOCATION:City Resort Helmond
ATTACH;FMTTYPE=text/plain:https://hbb.rivio.dev/senioren/2018/wedstrijd/222
 17
END:VEVENT
BEGIN:VEVENT
UID:https://hbb.rivio.dev/senioren/2018/wedstrijd/22270
DTSTAMP:20260420T200149Z
SUMMARY:Someren 5 - Smashing Bruang 3
DESCRIPTION:Baan 14\, Wedstrijdnummer 242\, Afdeling 4e klasse II
DTSTART:20181011T200000
DTEND:20181011T230000
LOCATION:City Resort Helmond
ATTACH;FMTTYPE=text/plain:https://hbb.rivio.dev/senioren/2018/wedstrijd/222
 70
END:VEVENT
BEGIN:VEVENT
UID:https://hbb.rivio.dev/senioren/2018/wedstrijd/22312
DTSTAMP:20260420T200149Z
SUMMARY:RBC 3 - Smashing Bruang 3
DESCRIPTION:Baan 14\, Wedstrijdnummer 245\, Afdeling 4e klasse II
DTSTART:20181101T200000
DTEND:20181101T230000
LOCATION:City Resort Helmond
ATTACH;FMTTYPE=text/plain:https://hbb.rivio.dev/senioren/2018/wedstrijd/223
 12
END:VEVENT
BEGIN:VEVENT
UID:https://hbb.rivio.dev/senioren/2018/wedstrijd/22348
DTSTAMP:20260420T200149Z
SUMMARY:Dommelen 4 - Smashing Bruang 3
DESCRIPTION:Baan 2\, Wedstrijdnummer 3025\, Afdeling 4e klasse I
DTSTART:20181115T200000
DTEND:20181115T230000
LOCATION:City Resort Helmond
ATTACH;FMTTYPE=text/plain:https://hbb.rivio.dev/senioren/2018/wedstrijd/223
 48
END:VEVENT
BEGIN:VEVENT
UID:https://hbb.rivio.dev/senioren/2018/wedstrijd/22362
DTSTAMP:20260420T200149Z
SUMMARY:Smashing Bruang 3 - Mierlo 12
DESCRIPTION:Baan 5\, Wedstrijdnummer 249\, Afdeling 4e klasse II
DTSTART:20181121T200000
DTEND:20181121T230000
LOCATION:City Resort Helmond
ATTACH;FMTTYPE=text/plain:https://hbb.rivio.dev/senioren/2018/wedstrijd/223
 62
END:VEVENT
BEGIN:VEVENT
UID:https://hbb.rivio.dev/senioren/2018/wedstrijd/22387
DTSTAMP:20260420T200149Z
SUMMARY:Mierlo 10 - Smashing Bruang 3
DESCRIPTION:Baan 14\, Wedstrijdnummer 252\, Afdeling 4e klasse II
DTSTART:20181128T200000
DTEND:20181128T230000
LOCATION:City Resort Helmond
ATTACH;FMTTYPE=text/plain:https://hbb.rivio.dev/senioren/2018/wedstrijd/223
 87
END:VEVENT
BEGIN:VEVENT
UID:https://hbb.rivio.dev/senioren/2018/wedstrijd/22429
DTSTAMP:20260420T200149Z
SUMMARY:Smashing Bruang 3 - Ganzeveer 4
DESCRIPTION:Baan 14\, Wedstrijdnummer 256\, Afdeling 4e klasse II
DTSTART:20181219T200000
DTEND:20181219T230000
LOCATION:City Resort Helmond
ATTACH;FMTTYPE=text/plain:https://hbb.rivio.dev/senioren/2018/wedstrijd/224
 29
END:VEVENT
BEGIN:VEVENT
UID:https://hbb.rivio.dev/senioren/2018/wedstrijd/22487
DTSTAMP:20260420T200149Z
SUMMARY:Smashing Bruang 3 - Mixed 9
DESCRIPTION:Baan 2\, Wedstrijdnummer 1188\, Afdeling 4e klasse II
DTSTART:20190130T200000
DTEND:20190130T230000
LOCATION:City Resort Helmond
ATTACH;FMTTYPE=text/plain:https://hbb.rivio.dev/senioren/2018/wedstrijd/224
 87
END:VEVENT
BEGIN:VEVENT
UID:https://hbb.rivio.dev/senioren/2018/wedstrijd/22512
DTSTAMP:20260420T200149Z
SUMMARY:BC '85 3 - Smashing Bruang 3
DESCRIPTION:Baan 11\, Wedstrijdnummer 1192\, Afdeling 4e klasse II
DTSTART:20190206T200000
DTEND:20190206T230000
LOCATION:City Resort Helmond
ATTACH;FMTTYPE=text/plain:https://hbb.rivio.dev/senioren/2018/wedstrijd/225
 12
END:VEVENT
BEGIN:VEVENT
UID:https://hbb.rivio.dev/senioren/2018/wedstrijd/22574
DTSTAMP:20260420T200149Z
SUMMARY:Smashing Bruang 3 - Someren 5
DESCRIPTION:Baan 14\, Wedstrijdnummer 1197\, Afdeling 4e klasse II
DTSTART:20190227T200000
DTEND:20190227T230000
LOCATION:City Resort Helmond
ATTACH;FMTTYPE=text/plain:https://hbb.rivio.dev/senioren/2018/wedstrijd/225
 74
END:VEVENT
BEGIN:VEVENT
UID:https://hbb.rivio.dev/senioren/2018/wedstrijd/22589
DTSTAMP:20260420T200149Z
SUMMARY:Smashing Bruang 3 - RBC 3
DESCRIPTION:Baan 3\, Wedstrijdnummer 1200\, Afdeling 4e klasse II
DTSTART:20190313T200000
DTEND:20190313T230000
LOCATION:City Resort Helmond
ATTACH;FMTTYPE=text/plain:https://hbb.rivio.dev/senioren/2018/wedstrijd/225
 89
END:VEVENT
BEGIN:VEVENT
UID:https://hbb.rivio.dev/senioren/2018/wedstrijd/22612
DTSTAMP:20260420T200149Z
SUMMARY:Mierlo 12 - Smashing Bruang 3
DESCRIPTION:Baan 14\, Wedstrijdnummer 1204\, Afdeling 4e klasse II
DTSTART:20190320T200000
DTEND:20190320T230000
LOCATION:City Resort Helmond
ATTACH;FMTTYPE=text/plain:https://hbb.rivio.dev/senioren/2018/wedstrijd/226
 12
END:VEVENT
BEGIN:VEVENT
UID:https://hbb.rivio.dev/senioren/2018/wedstrijd/22649
DTSTAMP:20260420T200149Z
SUMMARY:Smashing Bruang 3 - Mierlo 10
DESCRIPTION:Baan 14\, Wedstrijdnummer 1207\, Afdeling 4e klasse II
DTSTART:20190417T200000
DTEND:20190417T230000
LOCATION:City Resort Helmond
ATTACH;FMTTYPE=text/plain:https://hbb.rivio.dev/senioren/2018/wedstrijd/226
 49
END:VEVENT
BEGIN:VEVENT
UID:https://hbb.rivio.dev/senioren/2018/wedstrijd/22675
DTSTAMP:20260420T200149Z
SUMMARY:Ganzeveer 4 - Smashing Bruang 3
DESCRIPTION:Baan 7\, Wedstrijdnummer 1211\, Afdeling 4e klasse II
DTSTART:20190522T200000
DTEND:20190522T230000
LOCATION:City Resort Helmond
ATTACH;FMTTYPE=text/plain:https://hbb.rivio.dev/senioren/2018/wedstrijd/226
 75
END:VEVENT
BEGIN:VTIMEZONE
TZID:Europe/Amsterdam
BEGIN:STANDARD
DTSTART:20180101T000000
TZNAME:CET
TZOFFSETTO:+0100
TZOFFSETFROM:+0100
END:STANDARD
BEGIN:DAYLIGHT
DTSTART:20180325T030000
TZNAME:CEST
TZOFFSETTO:+0200
TZOFFSETFROM:+0100
END:DAYLIGHT
BEGIN:STANDARD
DTSTART:20181028T020000
TZNAME:CET
TZOFFSETTO:+0100
TZOFFSETFROM:+0200
END:STANDARD
BEGIN:DAYLIGHT
DTSTART:20190331T030000
TZNAME:CEST
TZOFFSETTO:+0200
TZOFFSETFROM:+0100
END:DAYLIGHT
BEGIN:STANDARD
DTSTART:20191027T020000
TZNAME:CET
TZOFFSETTO:+0100
TZOFFSETFROM:+0200
END:STANDARD
END:VTIMEZONE
END:VCALENDAR
