BEGIN:VCALENDAR
PRODID:-//eluceo/ical//2.0/EN
VERSION:2.0
CALSCALE:GREGORIAN
BEGIN:VEVENT
UID:https://hbb.rivio.dev/senioren/2018/wedstrijd/22181
DTSTAMP:20260420T184023Z
SUMMARY:Dommelen 1 - Con Brio 5
DESCRIPTION:Baan 5\, Wedstrijdnummer 99\, Afdeling 1e klasse 
DTSTART:20180913T200000
DTEND:20180913T230000
LOCATION:City Resort Helmond
ATTACH;FMTTYPE=text/plain:https://hbb.rivio.dev/senioren/2018/wedstrijd/221
 81
END:VEVENT
BEGIN:VEVENT
UID:https://hbb.rivio.dev/senioren/2018/wedstrijd/22208
DTSTAMP:20260420T184023Z
SUMMARY:Con Brio 5 - Hanevoet 2
DESCRIPTION:Baan 15\, Wedstrijdnummer 103\, Afdeling 1e klasse 
DTSTART:20180920T200000
DTEND:20180920T230000
LOCATION:City Resort Helmond
ATTACH;FMTTYPE=text/plain:https://hbb.rivio.dev/senioren/2018/wedstrijd/222
 08
END:VEVENT
BEGIN:VEVENT
UID:https://hbb.rivio.dev/senioren/2018/wedstrijd/22233
DTSTAMP:20260420T184023Z
SUMMARY:Mierlo 5 - Con Brio 5
DESCRIPTION:Baan 4\, Wedstrijdnummer 108\, Afdeling 1e klasse 
DTSTART:20181003T200000
DTEND:20181003T230000
LOCATION:City Resort Helmond
ATTACH;FMTTYPE=text/plain:https://hbb.rivio.dev/senioren/2018/wedstrijd/222
 33
END:VEVENT
BEGIN:VEVENT
UID:https://hbb.rivio.dev/senioren/2018/wedstrijd/22281
DTSTAMP:20260420T184023Z
SUMMARY:Smashing Bruang 2 - Con Brio 5
DESCRIPTION:Baan 15\, Wedstrijdnummer 111\, Afdeling 1e klasse 
DTSTART:20181024T200000
DTEND:20181024T230000
LOCATION:City Resort Helmond
ATTACH;FMTTYPE=text/plain:https://hbb.rivio.dev/senioren/2018/wedstrijd/222
 81
END:VEVENT
BEGIN:VEVENT
UID:https://hbb.rivio.dev/senioren/2018/wedstrijd/22300
DTSTAMP:20260420T184023Z
SUMMARY:Con Brio 5 - Mixed 6
DESCRIPTION:Baan 13\, Wedstrijdnummer 115\, Afdeling 1e klasse 
DTSTART:20181031T200000
DTEND:20181031T230000
LOCATION:City Resort Helmond
ATTACH;FMTTYPE=text/plain:https://hbb.rivio.dev/senioren/2018/wedstrijd/223
 00
END:VEVENT
BEGIN:VEVENT
UID:https://hbb.rivio.dev/senioren/2018/wedstrijd/22395
DTSTAMP:20260420T184023Z
SUMMARY:Mixed 5 - Con Brio 5
DESCRIPTION:Baan 11\, Wedstrijdnummer 118\, Afdeling 1e klasse 
DTSTART:20181129T200000
DTEND:20181129T230000
LOCATION:City Resort Helmond
ATTACH;FMTTYPE=text/plain:https://hbb.rivio.dev/senioren/2018/wedstrijd/223
 95
END:VEVENT
BEGIN:VEVENT
UID:https://hbb.rivio.dev/senioren/2018/wedstrijd/22435
DTSTAMP:20260420T184023Z
SUMMARY:Con Brio 5 - BCAB 3
DESCRIPTION:Baan 5\, Wedstrijdnummer 122\, Afdeling 1e klasse 
DTSTART:20181220T200000
DTEND:20181220T230000
LOCATION:City Resort Helmond
ATTACH;FMTTYPE=text/plain:https://hbb.rivio.dev/senioren/2018/wedstrijd/224
 35
END:VEVENT
BEGIN:VEVENT
UID:https://hbb.rivio.dev/senioren/2018/wedstrijd/22448
DTSTAMP:20260420T184023Z
SUMMARY:Con Brio 5 - Mixed 5
DESCRIPTION:Baan 5\, Wedstrijdnummer 3043\, Afdeling 1e klasse 
DTSTART:20190116T200000
DTEND:20190116T230000
LOCATION:City Resort Helmond
ATTACH;FMTTYPE=text/plain:https://hbb.rivio.dev/senioren/2018/wedstrijd/224
 48
END:VEVENT
BEGIN:VEVENT
UID:https://hbb.rivio.dev/senioren/2018/wedstrijd/22466
DTSTAMP:20260420T184023Z
SUMMARY:Con Brio 5 - Dommelen 1
DESCRIPTION:Baan 2\, Wedstrijdnummer 1054\, Afdeling 1e klasse 
DTSTART:20190123T200000
DTEND:20190123T230000
LOCATION:City Resort Helmond
ATTACH;FMTTYPE=text/plain:https://hbb.rivio.dev/senioren/2018/wedstrijd/224
 66
END:VEVENT
BEGIN:VEVENT
UID:https://hbb.rivio.dev/senioren/2018/wedstrijd/22519
DTSTAMP:20260420T184023Z
SUMMARY:Hanevoet 2 - Con Brio 5
DESCRIPTION:Baan 3\, Wedstrijdnummer 1058\, Afdeling 1e klasse 
DTSTART:20190207T200000
DTEND:20190207T230000
LOCATION:City Resort Helmond
ATTACH;FMTTYPE=text/plain:https://hbb.rivio.dev/senioren/2018/wedstrijd/225
 19
END:VEVENT
BEGIN:VEVENT
UID:https://hbb.rivio.dev/senioren/2018/wedstrijd/22529
DTSTAMP:20260420T184023Z
SUMMARY:Con Brio 5 - Mierlo 5
DESCRIPTION:Baan 2\, Wedstrijdnummer 1063\, Afdeling 1e klasse 
DTSTART:20190213T200000
DTEND:20190213T230000
LOCATION:City Resort Helmond
ATTACH;FMTTYPE=text/plain:https://hbb.rivio.dev/senioren/2018/wedstrijd/225
 29
END:VEVENT
BEGIN:VEVENT
UID:https://hbb.rivio.dev/senioren/2018/wedstrijd/22567
DTSTAMP:20260420T184023Z
SUMMARY:Con Brio 5 - Smashing Bruang 2
DESCRIPTION:Baan 2\, Wedstrijdnummer 1066\, Afdeling 1e klasse 
DTSTART:20190227T200000
DTEND:20190227T230000
LOCATION:City Resort Helmond
ATTACH;FMTTYPE=text/plain:https://hbb.rivio.dev/senioren/2018/wedstrijd/225
 67
END:VEVENT
BEGIN:VEVENT
UID:https://hbb.rivio.dev/senioren/2018/wedstrijd/22606
DTSTAMP:20260420T184023Z
SUMMARY:Mixed 6 - Con Brio 5
DESCRIPTION:Baan 3\, Wedstrijdnummer 1070\, Afdeling 1e klasse 
DTSTART:20190320T200000
DTEND:20190320T230000
LOCATION:City Resort Helmond
ATTACH;FMTTYPE=text/plain:https://hbb.rivio.dev/senioren/2018/wedstrijd/226
 06
END:VEVENT
BEGIN:VEVENT
UID:https://hbb.rivio.dev/senioren/2018/wedstrijd/22687
DTSTAMP:20260420T184023Z
SUMMARY:Con Brio 5 - Mixed 5
DESCRIPTION:Baan 13\, Wedstrijdnummer 1073\, Afdeling 1e klasse 
DTSTART:20190403T200000
DTEND:20190403T230000
LOCATION:City Resort Helmond
ATTACH;FMTTYPE=text/plain:https://hbb.rivio.dev/senioren/2018/wedstrijd/226
 87
END:VEVENT
BEGIN:VEVENT
UID:https://hbb.rivio.dev/senioren/2018/wedstrijd/22656
DTSTAMP:20260420T184023Z
SUMMARY:BCAB 3 - Con Brio 5
DESCRIPTION:Baan 12\, Wedstrijdnummer 1077\, Afdeling 1e klasse 
DTSTART:20190418T200000
DTEND:20190418T230000
LOCATION:City Resort Helmond
ATTACH;FMTTYPE=text/plain:https://hbb.rivio.dev/senioren/2018/wedstrijd/226
 56
END:VEVENT
BEGIN:VTIMEZONE
TZID:Europe/Amsterdam
BEGIN:STANDARD
DTSTART:20180101T000000
TZNAME:CET
TZOFFSETTO:+0100
TZOFFSETFROM:+0100
END:STANDARD
BEGIN:DAYLIGHT
DTSTART:20180325T030000
TZNAME:CEST
TZOFFSETTO:+0200
TZOFFSETFROM:+0100
END:DAYLIGHT
BEGIN:STANDARD
DTSTART:20181028T020000
TZNAME:CET
TZOFFSETTO:+0100
TZOFFSETFROM:+0200
END:STANDARD
BEGIN:DAYLIGHT
DTSTART:20190331T030000
TZNAME:CEST
TZOFFSETTO:+0200
TZOFFSETFROM:+0100
END:DAYLIGHT
BEGIN:STANDARD
DTSTART:20191027T020000
TZNAME:CET
TZOFFSETTO:+0100
TZOFFSETFROM:+0200
END:STANDARD
END:VTIMEZONE
END:VCALENDAR
