BEGIN:VCALENDAR
PRODID:-//eluceo/ical//2.0/EN
VERSION:2.0
CALSCALE:GREGORIAN
BEGIN:VEVENT
UID:https://hbb.rivio.dev/senioren/2018/wedstrijd/22196
DTSTAMP:20260420T184756Z
SUMMARY:Con Brio 4 - Mixed 3
DESCRIPTION:Baan 14\, Wedstrijdnummer 67\, Afdeling Overgangsklasse I K
DTSTART:20180919T200000
DTEND:20180919T230000
LOCATION:City Resort Helmond
ATTACH;FMTTYPE=text/plain:https://hbb.rivio.dev/senioren/2018/wedstrijd/221
 96
END:VEVENT
BEGIN:VEVENT
UID:https://hbb.rivio.dev/senioren/2018/wedstrijd/22250
DTSTAMP:20260420T184756Z
SUMMARY:RBC 1 - Con Brio 4
DESCRIPTION:Baan 15\, Wedstrijdnummer 70\, Afdeling Overgangsklasse I D
DTSTART:20181004T200000
DTEND:20181004T230000
LOCATION:City Resort Helmond
ATTACH;FMTTYPE=text/plain:https://hbb.rivio.dev/senioren/2018/wedstrijd/222
 50
END:VEVENT
BEGIN:VEVENT
UID:https://hbb.rivio.dev/senioren/2018/wedstrijd/22286
DTSTAMP:20260420T184756Z
SUMMARY:Someren 1 - Con Brio 4
DESCRIPTION:Baan 5\, Wedstrijdnummer 73\, Afdeling Overgangsklasse I K
DTSTART:20181025T200000
DTEND:20181025T230000
LOCATION:City Resort Helmond
ATTACH;FMTTYPE=text/plain:https://hbb.rivio.dev/senioren/2018/wedstrijd/222
 86
END:VEVENT
BEGIN:VEVENT
UID:https://hbb.rivio.dev/senioren/2018/wedstrijd/22339
DTSTAMP:20260420T184756Z
SUMMARY:Con Brio 4 - Veldhoven 1
DESCRIPTION:Baan 4\, Wedstrijdnummer 3008\, Afdeling Overgangsklasse I K
DTSTART:20181114T200000
DTEND:20181114T230000
LOCATION:City Resort Helmond
ATTACH;FMTTYPE=text/plain:https://hbb.rivio.dev/senioren/2018/wedstrijd/223
 39
END:VEVENT
BEGIN:VEVENT
UID:https://hbb.rivio.dev/senioren/2018/wedstrijd/22370
DTSTAMP:20260420T184756Z
SUMMARY:Heeze 1 - Con Brio 4
DESCRIPTION:Baan 3\, Wedstrijdnummer 76\, Afdeling Overgangsklasse I D
DTSTART:20181122T200000
DTEND:20181122T230000
LOCATION:City Resort Helmond
ATTACH;FMTTYPE=text/plain:https://hbb.rivio.dev/senioren/2018/wedstrijd/223
 70
END:VEVENT
BEGIN:VEVENT
UID:https://hbb.rivio.dev/senioren/2018/wedstrijd/22414
DTSTAMP:20260420T184756Z
SUMMARY:Con Brio 4 - BC '85 1
DESCRIPTION:Baan 5\, Wedstrijdnummer 79\, Afdeling Overgangsklasse I K
DTSTART:20181213T200000
DTEND:20181213T230000
LOCATION:City Resort Helmond
ATTACH;FMTTYPE=text/plain:https://hbb.rivio.dev/senioren/2018/wedstrijd/224
 14
END:VEVENT
BEGIN:VEVENT
UID:https://hbb.rivio.dev/senioren/2018/wedstrijd/22439
DTSTAMP:20260420T184756Z
SUMMARY:Mixed 3 - Con Brio 4
DESCRIPTION:Baan 13\, Wedstrijdnummer 1022\, Afdeling Overgangsklasse I K
DTSTART:20181220T200000
DTEND:20181220T230000
LOCATION:City Resort Helmond
ATTACH;FMTTYPE=text/plain:https://hbb.rivio.dev/senioren/2018/wedstrijd/224
 39
END:VEVENT
BEGIN:VEVENT
UID:https://hbb.rivio.dev/senioren/2018/wedstrijd/22702
DTSTAMP:20260420T184756Z
SUMMARY:Brabantia 2 - Con Brio 4
DESCRIPTION:Baan 3\, Wedstrijdnummer 3041\, Afdeling Overgangsklasse II K
DTSTART:20190116T200000
DTEND:20190116T230000
LOCATION:City Resort Helmond
ATTACH;FMTTYPE=text/plain:https://hbb.rivio.dev/senioren/2018/wedstrijd/227
 02
END:VEVENT
BEGIN:VEVENT
UID:https://hbb.rivio.dev/senioren/2018/wedstrijd/22481
DTSTAMP:20260420T184756Z
SUMMARY:Con Brio 4 - RBC 1
DESCRIPTION:Baan 11\, Wedstrijdnummer 1025\, Afdeling Overgangsklasse I K
DTSTART:20190124T200000
DTEND:20190124T230000
LOCATION:City Resort Helmond
ATTACH;FMTTYPE=text/plain:https://hbb.rivio.dev/senioren/2018/wedstrijd/224
 81
END:VEVENT
BEGIN:VEVENT
UID:https://hbb.rivio.dev/senioren/2018/wedstrijd/22526
DTSTAMP:20260420T184756Z
SUMMARY:Con Brio 4 - Someren 1
DESCRIPTION:Baan 14\, Wedstrijdnummer 1028\, Afdeling Overgangsklasse I K
DTSTART:20190207T200000
DTEND:20190207T230000
LOCATION:City Resort Helmond
ATTACH;FMTTYPE=text/plain:https://hbb.rivio.dev/senioren/2018/wedstrijd/225
 26
END:VEVENT
BEGIN:VEVENT
UID:https://hbb.rivio.dev/senioren/2018/wedstrijd/22536
DTSTAMP:20260420T184756Z
SUMMARY:Con Brio 4 - Heeze 1
DESCRIPTION:Baan 14\, Wedstrijdnummer 1031\, Afdeling Overgangsklasse I K
DTSTART:20190213T200000
DTEND:20190213T230000
LOCATION:City Resort Helmond
ATTACH;FMTTYPE=text/plain:https://hbb.rivio.dev/senioren/2018/wedstrijd/225
 36
END:VEVENT
BEGIN:VEVENT
UID:https://hbb.rivio.dev/senioren/2018/wedstrijd/22570
DTSTAMP:20260420T184756Z
SUMMARY:BC '85 1 - Con Brio 4
DESCRIPTION:Baan 5\, Wedstrijdnummer 1034\, Afdeling Overgangsklasse I D
DTSTART:20190227T200000
DTEND:20190227T230000
LOCATION:City Resort Helmond
ATTACH;FMTTYPE=text/plain:https://hbb.rivio.dev/senioren/2018/wedstrijd/225
 70
END:VEVENT
BEGIN:VEVENT
UID:https://hbb.rivio.dev/senioren/2018/wedstrijd/22743
DTSTAMP:20260420T184756Z
SUMMARY:RBC 1 - Con Brio 4
DESCRIPTION:Baan 11\, Wedstrijdnummer 3064\, Afdeling Overgangsklasse I D
DTSTART:20190321T200000
DTEND:20190321T230000
LOCATION:City Resort Helmond
ATTACH;FMTTYPE=text/plain:https://hbb.rivio.dev/senioren/2018/wedstrijd/227
 43
END:VEVENT
BEGIN:VEVENT
UID:https://hbb.rivio.dev/senioren/2018/wedstrijd/22766
DTSTAMP:20260420T184756Z
SUMMARY:Someren 1 - Con Brio 4
DESCRIPTION:Baan 2\, Wedstrijdnummer 2021\, Afdeling Overgangsklasse I K
DTSTART:20190403T200000
DTEND:20190403T230000
LOCATION:City Resort Helmond
ATTACH;FMTTYPE=text/plain:https://hbb.rivio.dev/senioren/2018/wedstrijd/227
 66
END:VEVENT
BEGIN:VEVENT
UID:https://hbb.rivio.dev/senioren/2018/wedstrijd/22770
DTSTAMP:20260420T184756Z
SUMMARY:Con Brio 4 - Mixed 3
DESCRIPTION:Baan 14\, Wedstrijdnummer 2025\, Afdeling Overgangsklasse I K
DTSTART:20190418T200000
DTEND:20190418T230000
LOCATION:City Resort Helmond
ATTACH;FMTTYPE=text/plain:https://hbb.rivio.dev/senioren/2018/wedstrijd/227
 70
END:VEVENT
BEGIN:VTIMEZONE
TZID:Europe/Amsterdam
BEGIN:STANDARD
DTSTART:20180101T000000
TZNAME:CET
TZOFFSETTO:+0100
TZOFFSETFROM:+0100
END:STANDARD
BEGIN:DAYLIGHT
DTSTART:20180325T030000
TZNAME:CEST
TZOFFSETTO:+0200
TZOFFSETFROM:+0100
END:DAYLIGHT
BEGIN:STANDARD
DTSTART:20181028T020000
TZNAME:CET
TZOFFSETTO:+0100
TZOFFSETFROM:+0200
END:STANDARD
BEGIN:DAYLIGHT
DTSTART:20190331T030000
TZNAME:CEST
TZOFFSETTO:+0200
TZOFFSETFROM:+0100
END:DAYLIGHT
BEGIN:STANDARD
DTSTART:20191027T020000
TZNAME:CET
TZOFFSETTO:+0100
TZOFFSETFROM:+0200
END:STANDARD
END:VTIMEZONE
END:VCALENDAR
