BEGIN:VCALENDAR
PRODID:-//eluceo/ical//2.0/EN
VERSION:2.0
CALSCALE:GREGORIAN
BEGIN:VEVENT
UID:https://hbb.rivio.dev/jeugd/2018/wedstrijd/20506
DTSTAMP:20260420T133337Z
SUMMARY:Bakel 7 - Mierlo 10
DESCRIPTION:Baan 4\, Afdeling G-klasse 
DTSTART:20180930T111500
DTEND:20180930T130000
LOCATION:City Resort Helmond
ATTACH;FMTTYPE=text/plain:https://hbb.rivio.dev/jeugd/2018/wedstrijd/20506
END:VEVENT
BEGIN:VEVENT
UID:https://hbb.rivio.dev/jeugd/2018/wedstrijd/20500
DTSTAMP:20260420T133337Z
SUMMARY:Ganzeveer 2 - Bakel 7
DESCRIPTION:Baan 4\, Afdeling G-klasse 
DTSTART:20180930T093000
DTEND:20180930T111500
LOCATION:City Resort Helmond
ATTACH;FMTTYPE=text/plain:https://hbb.rivio.dev/jeugd/2018/wedstrijd/20500
END:VEVENT
BEGIN:VEVENT
UID:https://hbb.rivio.dev/jeugd/2018/wedstrijd/20240
DTSTAMP:20260420T133337Z
SUMMARY:Bakel 7 - Someren 3
DESCRIPTION:Baan 11\, Afdeling G-klasse 
DTSTART:20181028T093000
DTEND:20181028T111500
LOCATION:City Resort Helmond
ATTACH;FMTTYPE=text/plain:https://hbb.rivio.dev/jeugd/2018/wedstrijd/20240
END:VEVENT
BEGIN:VEVENT
UID:https://hbb.rivio.dev/jeugd/2018/wedstrijd/20243
DTSTAMP:20260420T133337Z
SUMMARY:Phoenix 5 - Bakel 7
DESCRIPTION:Baan 11\, Afdeling G-klasse 
DTSTART:20181028T111500
DTEND:20181028T130000
LOCATION:City Resort Helmond
ATTACH;FMTTYPE=text/plain:https://hbb.rivio.dev/jeugd/2018/wedstrijd/20243
END:VEVENT
BEGIN:VEVENT
UID:https://hbb.rivio.dev/jeugd/2018/wedstrijd/20274
DTSTAMP:20260420T133337Z
SUMMARY:Bakel 7 - Ganzeveer 2
DESCRIPTION:Baan 11\, Afdeling G-klasse 
DTSTART:20181118T093000
DTEND:20181118T111500
LOCATION:City Resort Helmond
ATTACH;FMTTYPE=text/plain:https://hbb.rivio.dev/jeugd/2018/wedstrijd/20274
END:VEVENT
BEGIN:VEVENT
UID:https://hbb.rivio.dev/jeugd/2018/wedstrijd/20279
DTSTAMP:20260420T133337Z
SUMMARY:BCV '73 4 - Bakel 7
DESCRIPTION:Baan 13\, Afdeling G-klasse 
DTSTART:20181118T111500
DTEND:20181118T130000
LOCATION:City Resort Helmond
ATTACH;FMTTYPE=text/plain:https://hbb.rivio.dev/jeugd/2018/wedstrijd/20279
END:VEVENT
BEGIN:VEVENT
UID:https://hbb.rivio.dev/jeugd/2018/wedstrijd/20346
DTSTAMP:20260420T133337Z
SUMMARY:Someren 3 - Bakel 7
DESCRIPTION:Baan 14\, Afdeling G-klasse 
DTSTART:20190203T093000
DTEND:20190203T111500
LOCATION:City Resort Helmond
ATTACH;FMTTYPE=text/plain:https://hbb.rivio.dev/jeugd/2018/wedstrijd/20346
END:VEVENT
BEGIN:VEVENT
UID:https://hbb.rivio.dev/jeugd/2018/wedstrijd/20349
DTSTAMP:20260420T133337Z
SUMMARY:Hanevoet 3 - Bakel 7
DESCRIPTION:Baan 14\, Afdeling G-klasse 
DTSTART:20190203T111500
DTEND:20190203T130000
LOCATION:City Resort Helmond
ATTACH;FMTTYPE=text/plain:https://hbb.rivio.dev/jeugd/2018/wedstrijd/20349
END:VEVENT
BEGIN:VEVENT
UID:https://hbb.rivio.dev/jeugd/2018/wedstrijd/20377
DTSTAMP:20260420T133337Z
SUMMARY:Bakel 7 - Phoenix 5
DESCRIPTION:Baan 12\, Afdeling G-klasse 
DTSTART:20190217T111500
DTEND:20190217T130000
LOCATION:City Resort Helmond
ATTACH;FMTTYPE=text/plain:https://hbb.rivio.dev/jeugd/2018/wedstrijd/20377
END:VEVENT
BEGIN:VEVENT
UID:https://hbb.rivio.dev/jeugd/2018/wedstrijd/20373
DTSTAMP:20260420T133337Z
SUMMARY:Mierlo 10 - Bakel 7
DESCRIPTION:Baan 11\, Afdeling G-klasse 
DTSTART:20190217T093000
DTEND:20190217T111500
LOCATION:City Resort Helmond
ATTACH;FMTTYPE=text/plain:https://hbb.rivio.dev/jeugd/2018/wedstrijd/20373
END:VEVENT
BEGIN:VEVENT
UID:https://hbb.rivio.dev/jeugd/2018/wedstrijd/20425
DTSTAMP:20260420T133337Z
SUMMARY:Bakel 7 - BCV '73 4
DESCRIPTION:Baan 14\, Afdeling G-klasse 
DTSTART:20190317T093000
DTEND:20190317T111500
LOCATION:City Resort Helmond
ATTACH;FMTTYPE=text/plain:https://hbb.rivio.dev/jeugd/2018/wedstrijd/20425
END:VEVENT
BEGIN:VEVENT
UID:https://hbb.rivio.dev/jeugd/2018/wedstrijd/20428
DTSTAMP:20260420T133337Z
SUMMARY:Bakel 7 - Hanevoet 3
DESCRIPTION:Baan 14\, Afdeling G-klasse 
DTSTART:20190317T111500
DTEND:20190317T130000
LOCATION:City Resort Helmond
ATTACH;FMTTYPE=text/plain:https://hbb.rivio.dev/jeugd/2018/wedstrijd/20428
END:VEVENT
BEGIN:VTIMEZONE
TZID:Europe/Amsterdam
BEGIN:STANDARD
DTSTART:20180101T000000
TZNAME:CET
TZOFFSETTO:+0100
TZOFFSETFROM:+0100
END:STANDARD
BEGIN:DAYLIGHT
DTSTART:20180325T030000
TZNAME:CEST
TZOFFSETTO:+0200
TZOFFSETFROM:+0100
END:DAYLIGHT
BEGIN:STANDARD
DTSTART:20181028T020000
TZNAME:CET
TZOFFSETTO:+0100
TZOFFSETFROM:+0200
END:STANDARD
BEGIN:DAYLIGHT
DTSTART:20190331T030000
TZNAME:CEST
TZOFFSETTO:+0200
TZOFFSETFROM:+0100
END:DAYLIGHT
BEGIN:STANDARD
DTSTART:20191027T020000
TZNAME:CET
TZOFFSETTO:+0100
TZOFFSETFROM:+0200
END:STANDARD
END:VTIMEZONE
END:VCALENDAR
