BEGIN:VCALENDAR
PRODID:-//eluceo/ical//2.0/EN
VERSION:2.0
CALSCALE:GREGORIAN
BEGIN:VEVENT
UID:https://hbb.rivio.dev/jeugd/2018/wedstrijd/20504
DTSTAMP:20260420T151251Z
SUMMARY:Phoenix 5 - Someren 3
DESCRIPTION:Baan 15\, Afdeling G-klasse 
DTSTART:20180930T093000
DTEND:20180930T111500
LOCATION:City Resort Helmond
ATTACH;FMTTYPE=text/plain:https://hbb.rivio.dev/jeugd/2018/wedstrijd/20504
END:VEVENT
BEGIN:VEVENT
UID:https://hbb.rivio.dev/jeugd/2018/wedstrijd/20510
DTSTAMP:20260420T151251Z
SUMMARY:Hanevoet 3 - Someren 3
DESCRIPTION:Baan 15\, Afdeling G-klasse 
DTSTART:20180930T111500
DTEND:20180930T130000
LOCATION:City Resort Helmond
ATTACH;FMTTYPE=text/plain:https://hbb.rivio.dev/jeugd/2018/wedstrijd/20510
END:VEVENT
BEGIN:VEVENT
UID:https://hbb.rivio.dev/jeugd/2018/wedstrijd/20244
DTSTAMP:20260420T151251Z
SUMMARY:Someren 3 - Ganzeveer 2
DESCRIPTION:Baan 12\, Afdeling G-klasse 
DTSTART:20181028T111500
DTEND:20181028T130000
LOCATION:City Resort Helmond
ATTACH;FMTTYPE=text/plain:https://hbb.rivio.dev/jeugd/2018/wedstrijd/20244
END:VEVENT
BEGIN:VEVENT
UID:https://hbb.rivio.dev/jeugd/2018/wedstrijd/20240
DTSTAMP:20260420T151251Z
SUMMARY:Bakel 7 - Someren 3
DESCRIPTION:Baan 11\, Afdeling G-klasse 
DTSTART:20181028T093000
DTEND:20181028T111500
LOCATION:City Resort Helmond
ATTACH;FMTTYPE=text/plain:https://hbb.rivio.dev/jeugd/2018/wedstrijd/20240
END:VEVENT
BEGIN:VEVENT
UID:https://hbb.rivio.dev/jeugd/2018/wedstrijd/20276
DTSTAMP:20260420T151252Z
SUMMARY:Someren 3 - BCV '73 4
DESCRIPTION:Baan 13\, Afdeling G-klasse 
DTSTART:20181118T093000
DTEND:20181118T111500
LOCATION:City Resort Helmond
ATTACH;FMTTYPE=text/plain:https://hbb.rivio.dev/jeugd/2018/wedstrijd/20276
END:VEVENT
BEGIN:VEVENT
UID:https://hbb.rivio.dev/jeugd/2018/wedstrijd/20277
DTSTAMP:20260420T151252Z
SUMMARY:Mierlo 10 - Someren 3
DESCRIPTION:Baan 11\, Afdeling G-klasse 
DTSTART:20181118T111500
DTEND:20181118T130000
LOCATION:City Resort Helmond
ATTACH;FMTTYPE=text/plain:https://hbb.rivio.dev/jeugd/2018/wedstrijd/20277
END:VEVENT
BEGIN:VEVENT
UID:https://hbb.rivio.dev/jeugd/2018/wedstrijd/20301
DTSTAMP:20260420T151252Z
SUMMARY:Someren 3 - Mierlo 10
DESCRIPTION:Baan 13\, Afdeling G-klasse 
DTSTART:20181216T093000
DTEND:20181216T111500
LOCATION:City Resort Helmond
ATTACH;FMTTYPE=text/plain:https://hbb.rivio.dev/jeugd/2018/wedstrijd/20301
END:VEVENT
BEGIN:VEVENT
UID:https://hbb.rivio.dev/jeugd/2018/wedstrijd/20303
DTSTAMP:20260420T151252Z
SUMMARY:Someren 3 - Hanevoet 3
DESCRIPTION:Baan 12\, Afdeling G-klasse 
DTSTART:20181216T111500
DTEND:20181216T130000
LOCATION:City Resort Helmond
ATTACH;FMTTYPE=text/plain:https://hbb.rivio.dev/jeugd/2018/wedstrijd/20303
END:VEVENT
BEGIN:VEVENT
UID:https://hbb.rivio.dev/jeugd/2018/wedstrijd/20346
DTSTAMP:20260420T151252Z
SUMMARY:Someren 3 - Bakel 7
DESCRIPTION:Baan 14\, Afdeling G-klasse 
DTSTART:20190203T093000
DTEND:20190203T111500
LOCATION:City Resort Helmond
ATTACH;FMTTYPE=text/plain:https://hbb.rivio.dev/jeugd/2018/wedstrijd/20346
END:VEVENT
BEGIN:VEVENT
UID:https://hbb.rivio.dev/jeugd/2018/wedstrijd/20351
DTSTAMP:20260420T151252Z
SUMMARY:BCV '73 4 - Someren 3
DESCRIPTION:Baan 10\, Afdeling G-klasse 
DTSTART:20190203T111500
DTEND:20190203T130000
LOCATION:City Resort Helmond
ATTACH;FMTTYPE=text/plain:https://hbb.rivio.dev/jeugd/2018/wedstrijd/20351
END:VEVENT
BEGIN:VEVENT
UID:https://hbb.rivio.dev/jeugd/2018/wedstrijd/20430
DTSTAMP:20260420T151252Z
SUMMARY:Someren 3 - Phoenix 5
DESCRIPTION:Baan 10\, Afdeling G-klasse 
DTSTART:20190317T111500
DTEND:20190317T130000
LOCATION:City Resort Helmond
ATTACH;FMTTYPE=text/plain:https://hbb.rivio.dev/jeugd/2018/wedstrijd/20430
END:VEVENT
BEGIN:VEVENT
UID:https://hbb.rivio.dev/jeugd/2018/wedstrijd/20427
DTSTAMP:20260420T151252Z
SUMMARY:Ganzeveer 2 - Someren 3
DESCRIPTION:Baan 10\, Afdeling G-klasse 
DTSTART:20190317T093000
DTEND:20190317T111500
LOCATION:City Resort Helmond
ATTACH;FMTTYPE=text/plain:https://hbb.rivio.dev/jeugd/2018/wedstrijd/20427
END:VEVENT
BEGIN:VTIMEZONE
TZID:Europe/Amsterdam
BEGIN:STANDARD
DTSTART:20180101T000000
TZNAME:CET
TZOFFSETTO:+0100
TZOFFSETFROM:+0100
END:STANDARD
BEGIN:DAYLIGHT
DTSTART:20180325T030000
TZNAME:CEST
TZOFFSETTO:+0200
TZOFFSETFROM:+0100
END:DAYLIGHT
BEGIN:STANDARD
DTSTART:20181028T020000
TZNAME:CET
TZOFFSETTO:+0100
TZOFFSETFROM:+0200
END:STANDARD
BEGIN:DAYLIGHT
DTSTART:20190331T030000
TZNAME:CEST
TZOFFSETTO:+0200
TZOFFSETFROM:+0100
END:DAYLIGHT
BEGIN:STANDARD
DTSTART:20191027T020000
TZNAME:CET
TZOFFSETTO:+0100
TZOFFSETFROM:+0200
END:STANDARD
END:VTIMEZONE
END:VCALENDAR
