BEGIN:VCALENDAR
PRODID:-//eluceo/ical//2.0/EN
VERSION:2.0
CALSCALE:GREGORIAN
BEGIN:VEVENT
UID:https://hbb.rivio.dev/jeugd/2018/wedstrijd/20189
DTSTAMP:20260420T150732Z
SUMMARY:Someren 2 - BCAB 2
DESCRIPTION:Baan 15\, Afdeling F-klasse 
DTSTART:20180916T093000
DTEND:20180916T111500
LOCATION:City Resort Helmond
ATTACH;FMTTYPE=text/plain:https://hbb.rivio.dev/jeugd/2018/wedstrijd/20189
END:VEVENT
BEGIN:VEVENT
UID:https://hbb.rivio.dev/jeugd/2018/wedstrijd/20190
DTSTAMP:20260420T150732Z
SUMMARY:Mierlo 8 - Someren 2
DESCRIPTION:Baan 5\, Afdeling F-klasse 
DTSTART:20180916T111500
DTEND:20180916T130000
LOCATION:City Resort Helmond
ATTACH;FMTTYPE=text/plain:https://hbb.rivio.dev/jeugd/2018/wedstrijd/20190
END:VEVENT
BEGIN:VEVENT
UID:https://hbb.rivio.dev/jeugd/2018/wedstrijd/20214
DTSTAMP:20260420T150732Z
SUMMARY:Someren 2 - Hanevoet 2
DESCRIPTION:Baan 5\, Afdeling F-klasse 
DTSTART:20180930T130000
DTEND:20180930T144500
LOCATION:City Resort Helmond
ATTACH;FMTTYPE=text/plain:https://hbb.rivio.dev/jeugd/2018/wedstrijd/20214
END:VEVENT
BEGIN:VEVENT
UID:https://hbb.rivio.dev/jeugd/2018/wedstrijd/20216
DTSTAMP:20260420T150732Z
SUMMARY:Someren 2 - Mierlo 9
DESCRIPTION:Baan 4\, Afdeling F-klasse 
DTSTART:20180930T144500
DTEND:20180930T160000
LOCATION:City Resort Helmond
ATTACH;FMTTYPE=text/plain:https://hbb.rivio.dev/jeugd/2018/wedstrijd/20216
END:VEVENT
BEGIN:VEVENT
UID:https://hbb.rivio.dev/jeugd/2018/wedstrijd/20258
DTSTAMP:20260420T150732Z
SUMMARY:Gemert 1 - Someren 2
DESCRIPTION:Baan 13\, Afdeling F-klasse 
DTSTART:20181111T093000
DTEND:20181111T111500
LOCATION:City Resort Helmond
ATTACH;FMTTYPE=text/plain:https://hbb.rivio.dev/jeugd/2018/wedstrijd/20258
END:VEVENT
BEGIN:VEVENT
UID:https://hbb.rivio.dev/jeugd/2018/wedstrijd/20261
DTSTAMP:20260420T150732Z
SUMMARY:BCAB 2 - Someren 2
DESCRIPTION:Baan 13\, Afdeling F-klasse 
DTSTART:20181111T111500
DTEND:20181111T130000
LOCATION:City Resort Helmond
ATTACH;FMTTYPE=text/plain:https://hbb.rivio.dev/jeugd/2018/wedstrijd/20261
END:VEVENT
BEGIN:VEVENT
UID:https://hbb.rivio.dev/jeugd/2018/wedstrijd/20282
DTSTAMP:20260420T150732Z
SUMMARY:Someren 2 - Mierlo 8
DESCRIPTION:Baan 3\, Afdeling F-klasse 
DTSTART:20181125T093000
DTEND:20181125T111500
LOCATION:City Resort Helmond
ATTACH;FMTTYPE=text/plain:https://hbb.rivio.dev/jeugd/2018/wedstrijd/20282
END:VEVENT
BEGIN:VEVENT
UID:https://hbb.rivio.dev/jeugd/2018/wedstrijd/20287
DTSTAMP:20260420T150732Z
SUMMARY:Hanevoet 2 - Someren 2
DESCRIPTION:Baan 5\, Afdeling F-klasse 
DTSTART:20181125T111500
DTEND:20181125T130000
LOCATION:City Resort Helmond
ATTACH;FMTTYPE=text/plain:https://hbb.rivio.dev/jeugd/2018/wedstrijd/20287
END:VEVENT
BEGIN:VEVENT
UID:https://hbb.rivio.dev/jeugd/2018/wedstrijd/20328
DTSTAMP:20260420T150732Z
SUMMARY:Someren 2 - Gemert 1
DESCRIPTION:Baan 15\, Afdeling F-klasse 
DTSTART:20190120T111500
DTEND:20190120T130000
LOCATION:City Resort Helmond
ATTACH;FMTTYPE=text/plain:https://hbb.rivio.dev/jeugd/2018/wedstrijd/20328
END:VEVENT
BEGIN:VEVENT
UID:https://hbb.rivio.dev/jeugd/2018/wedstrijd/20324
DTSTAMP:20260420T150732Z
SUMMARY:Mierlo 9 - Someren 2
DESCRIPTION:Baan 14\, Afdeling F-klasse 
DTSTART:20190120T093000
DTEND:20190120T111500
LOCATION:City Resort Helmond
ATTACH;FMTTYPE=text/plain:https://hbb.rivio.dev/jeugd/2018/wedstrijd/20324
END:VEVENT
BEGIN:VEVENT
UID:https://hbb.rivio.dev/jeugd/2018/wedstrijd/20339
DTSTAMP:20260420T150732Z
SUMMARY:Someren 2 - BCAB 2
DESCRIPTION:Baan 13\, Afdeling F-klasse 
DTSTART:20190203T093000
DTEND:20190203T111500
LOCATION:City Resort Helmond
ATTACH;FMTTYPE=text/plain:https://hbb.rivio.dev/jeugd/2018/wedstrijd/20339
END:VEVENT
BEGIN:VEVENT
UID:https://hbb.rivio.dev/jeugd/2018/wedstrijd/20341
DTSTAMP:20260420T150732Z
SUMMARY:Mierlo 8 - Someren 2
DESCRIPTION:Baan 11\, Afdeling F-klasse 
DTSTART:20190203T111500
DTEND:20190203T130000
LOCATION:City Resort Helmond
ATTACH;FMTTYPE=text/plain:https://hbb.rivio.dev/jeugd/2018/wedstrijd/20341
END:VEVENT
BEGIN:VEVENT
UID:https://hbb.rivio.dev/jeugd/2018/wedstrijd/20418
DTSTAMP:20260420T150732Z
SUMMARY:Someren 2 - Hanevoet 2
DESCRIPTION:Baan 13\, Afdeling F-klasse 
DTSTART:20190317T093000
DTEND:20190317T111500
LOCATION:City Resort Helmond
ATTACH;FMTTYPE=text/plain:https://hbb.rivio.dev/jeugd/2018/wedstrijd/20418
END:VEVENT
BEGIN:VEVENT
UID:https://hbb.rivio.dev/jeugd/2018/wedstrijd/20422
DTSTAMP:20260420T150732Z
SUMMARY:Someren 2 - Mierlo 9
DESCRIPTION:Baan 12\, Afdeling F-klasse 
DTSTART:20190317T111500
DTEND:20190317T130000
LOCATION:City Resort Helmond
ATTACH;FMTTYPE=text/plain:https://hbb.rivio.dev/jeugd/2018/wedstrijd/20422
END:VEVENT
BEGIN:VEVENT
UID:https://hbb.rivio.dev/jeugd/2018/wedstrijd/20470
DTSTAMP:20260420T150732Z
SUMMARY:Gemert 1 - Someren 2
DESCRIPTION:Baan 15\, Afdeling F-klasse 
DTSTART:20190407T093000
DTEND:20190407T111500
LOCATION:City Resort Helmond
ATTACH;FMTTYPE=text/plain:https://hbb.rivio.dev/jeugd/2018/wedstrijd/20470
END:VEVENT
BEGIN:VTIMEZONE
TZID:Europe/Amsterdam
BEGIN:STANDARD
DTSTART:20180101T000000
TZNAME:CET
TZOFFSETTO:+0100
TZOFFSETFROM:+0100
END:STANDARD
BEGIN:DAYLIGHT
DTSTART:20180325T030000
TZNAME:CEST
TZOFFSETTO:+0200
TZOFFSETFROM:+0100
END:DAYLIGHT
BEGIN:STANDARD
DTSTART:20181028T020000
TZNAME:CET
TZOFFSETTO:+0100
TZOFFSETFROM:+0200
END:STANDARD
BEGIN:DAYLIGHT
DTSTART:20190331T030000
TZNAME:CEST
TZOFFSETTO:+0200
TZOFFSETFROM:+0100
END:DAYLIGHT
BEGIN:STANDARD
DTSTART:20191027T020000
TZNAME:CET
TZOFFSETTO:+0100
TZOFFSETFROM:+0200
END:STANDARD
END:VTIMEZONE
END:VCALENDAR
