BEGIN:VCALENDAR
PRODID:-//eluceo/ical//2.0/EN
VERSION:2.0
CALSCALE:GREGORIAN
BEGIN:VEVENT
UID:https://hbb.rivio.dev/senioren/2018/wedstrijd/22183
DTSTAMP:20260420T202822Z
SUMMARY:Heiakker 1 - Never Down 3
DESCRIPTION:Baan 11\, Wedstrijdnummer 203\, Afdeling 4e klasse I
DTSTART:20180913T200000
DTEND:20180913T230000
LOCATION:City Resort Helmond
ATTACH;FMTTYPE=text/plain:https://hbb.rivio.dev/senioren/2018/wedstrijd/221
 83
END:VEVENT
BEGIN:VEVENT
UID:https://hbb.rivio.dev/senioren/2018/wedstrijd/22219
DTSTAMP:20260420T202822Z
SUMMARY:Never Down 3 - Dommelen 4
DESCRIPTION:Baan 1\, Wedstrijdnummer 207\, Afdeling 4e klasse I
DTSTART:20180927T200000
DTEND:20180927T230000
LOCATION:City Resort Helmond
ATTACH;FMTTYPE=text/plain:https://hbb.rivio.dev/senioren/2018/wedstrijd/222
 19
END:VEVENT
BEGIN:VEVENT
UID:https://hbb.rivio.dev/senioren/2018/wedstrijd/22249
DTSTAMP:20260420T202822Z
SUMMARY:Mixed 10 - Never Down 3
DESCRIPTION:Baan 14\, Wedstrijdnummer 212\, Afdeling 4e klasse I
DTSTART:20181004T200000
DTEND:20181004T230000
LOCATION:City Resort Helmond
ATTACH;FMTTYPE=text/plain:https://hbb.rivio.dev/senioren/2018/wedstrijd/222
 49
END:VEVENT
BEGIN:VEVENT
UID:https://hbb.rivio.dev/senioren/2018/wedstrijd/22292
DTSTAMP:20260420T202822Z
SUMMARY:Never Down 3 - Mierlo 11
DESCRIPTION:Baan 15\, Wedstrijdnummer 216\, Afdeling 4e klasse I
DTSTART:20181025T200000
DTEND:20181025T230000
LOCATION:City Resort Helmond
ATTACH;FMTTYPE=text/plain:https://hbb.rivio.dev/senioren/2018/wedstrijd/222
 92
END:VEVENT
BEGIN:VEVENT
UID:https://hbb.rivio.dev/senioren/2018/wedstrijd/22354
DTSTAMP:20260420T202822Z
SUMMARY:Never Down 3 - Mierlo 12
DESCRIPTION:Baan 12\, Wedstrijdnummer 3031\, Afdeling 4e klasse I
DTSTART:20181115T200000
DTEND:20181115T230000
LOCATION:City Resort Helmond
ATTACH;FMTTYPE=text/plain:https://hbb.rivio.dev/senioren/2018/wedstrijd/223
 54
END:VEVENT
BEGIN:VEVENT
UID:https://hbb.rivio.dev/senioren/2018/wedstrijd/22369
DTSTAMP:20260420T202822Z
SUMMARY:Gemert 4 - Never Down 3
DESCRIPTION:Baan 2\, Wedstrijdnummer 221\, Afdeling 4e klasse I
DTSTART:20181122T200000
DTEND:20181122T230000
LOCATION:City Resort Helmond
ATTACH;FMTTYPE=text/plain:https://hbb.rivio.dev/senioren/2018/wedstrijd/223
 69
END:VEVENT
BEGIN:VEVENT
UID:https://hbb.rivio.dev/senioren/2018/wedstrijd/22398
DTSTAMP:20260420T202822Z
SUMMARY:Never Down 3 - Con Brio 7
DESCRIPTION:Baan 14\, Wedstrijdnummer 225\, Afdeling 4e klasse I
DTSTART:20181129T200000
DTEND:20181129T230000
LOCATION:City Resort Helmond
ATTACH;FMTTYPE=text/plain:https://hbb.rivio.dev/senioren/2018/wedstrijd/223
 98
END:VEVENT
BEGIN:VEVENT
UID:https://hbb.rivio.dev/senioren/2018/wedstrijd/22422
DTSTAMP:20260420T202822Z
SUMMARY:Phoenix 3 - Never Down 3
DESCRIPTION:Baan 2\, Wedstrijdnummer 230\, Afdeling 4e klasse I
DTSTART:20181219T200000
DTEND:20181219T230000
LOCATION:City Resort Helmond
ATTACH;FMTTYPE=text/plain:https://hbb.rivio.dev/senioren/2018/wedstrijd/224
 22
END:VEVENT
BEGIN:VEVENT
UID:https://hbb.rivio.dev/senioren/2018/wedstrijd/22704
DTSTAMP:20260420T202822Z
SUMMARY:Never Down 3 - RBC 3
DESCRIPTION:Baan 12\, Wedstrijdnummer 3055\, Afdeling 4e klasse I
DTSTART:20190109T200000
DTEND:20190109T230000
LOCATION:City Resort Helmond
ATTACH;FMTTYPE=text/plain:https://hbb.rivio.dev/senioren/2018/wedstrijd/227
 04
END:VEVENT
BEGIN:VEVENT
UID:https://hbb.rivio.dev/senioren/2018/wedstrijd/22477
DTSTAMP:20260420T202822Z
SUMMARY:Never Down 3 - Heiakker 1
DESCRIPTION:Baan 3\, Wedstrijdnummer 1158\, Afdeling 4e klasse I
DTSTART:20190124T200000
DTEND:20190124T230000
LOCATION:City Resort Helmond
ATTACH;FMTTYPE=text/plain:https://hbb.rivio.dev/senioren/2018/wedstrijd/224
 77
END:VEVENT
BEGIN:VEVENT
UID:https://hbb.rivio.dev/senioren/2018/wedstrijd/22521
DTSTAMP:20260420T202822Z
SUMMARY:Dommelen 4 - Never Down 3
DESCRIPTION:Baan 5\, Wedstrijdnummer 1162\, Afdeling 4e klasse I
DTSTART:20190207T200000
DTEND:20190207T230000
LOCATION:City Resort Helmond
ATTACH;FMTTYPE=text/plain:https://hbb.rivio.dev/senioren/2018/wedstrijd/225
 21
END:VEVENT
BEGIN:VEVENT
UID:https://hbb.rivio.dev/senioren/2018/wedstrijd/22559
DTSTAMP:20260420T202822Z
SUMMARY:Never Down 3 - Mixed 10
DESCRIPTION:Baan 5\, Wedstrijdnummer 1167\, Afdeling 4e klasse I
DTSTART:20190221T200000
DTEND:20190221T230000
LOCATION:City Resort Helmond
ATTACH;FMTTYPE=text/plain:https://hbb.rivio.dev/senioren/2018/wedstrijd/225
 59
END:VEVENT
BEGIN:VEVENT
UID:https://hbb.rivio.dev/senioren/2018/wedstrijd/22598
DTSTAMP:20260420T202822Z
SUMMARY:Mierlo 11 - Never Down 3
DESCRIPTION:Baan 2\, Wedstrijdnummer 1171\, Afdeling 4e klasse I
DTSTART:20190314T200000
DTEND:20190314T230000
LOCATION:City Resort Helmond
ATTACH;FMTTYPE=text/plain:https://hbb.rivio.dev/senioren/2018/wedstrijd/225
 98
END:VEVENT
BEGIN:VEVENT
UID:https://hbb.rivio.dev/senioren/2018/wedstrijd/22737
DTSTAMP:20260420T202822Z
SUMMARY:Mixed 9 - Never Down 3
DESCRIPTION:Baan 14\, Wedstrijdnummer 3072\, Afdeling 4e klasse II
DTSTART:20190327T200000
DTEND:20190327T230000
LOCATION:City Resort Helmond
ATTACH;FMTTYPE=text/plain:https://hbb.rivio.dev/senioren/2018/wedstrijd/227
 37
END:VEVENT
BEGIN:VEVENT
UID:https://hbb.rivio.dev/senioren/2018/wedstrijd/22628
DTSTAMP:20260420T202822Z
SUMMARY:Never Down 3 - Gemert 4
DESCRIPTION:Baan 2\, Wedstrijdnummer 1176\, Afdeling 4e klasse I
DTSTART:20190404T200000
DTEND:20190404T230000
LOCATION:City Resort Helmond
ATTACH;FMTTYPE=text/plain:https://hbb.rivio.dev/senioren/2018/wedstrijd/226
 28
END:VEVENT
BEGIN:VEVENT
UID:https://hbb.rivio.dev/senioren/2018/wedstrijd/22637
DTSTAMP:20260420T202822Z
SUMMARY:Con Brio 7 - Never Down 3
DESCRIPTION:Baan 9\, Wedstrijdnummer 1180\, Afdeling 4e klasse I
DTSTART:20190411T200000
DTEND:20190411T230000
LOCATION:City Resort Helmond
ATTACH;FMTTYPE=text/plain:https://hbb.rivio.dev/senioren/2018/wedstrijd/226
 37
END:VEVENT
BEGIN:VEVENT
UID:https://hbb.rivio.dev/senioren/2018/wedstrijd/22665
DTSTAMP:20260420T202822Z
SUMMARY:Never Down 3 - Phoenix 3
DESCRIPTION:Baan 7\, Wedstrijdnummer 1185\, Afdeling 4e klasse I
DTSTART:20190516T200000
DTEND:20190516T230000
LOCATION:City Resort Helmond
ATTACH;FMTTYPE=text/plain:https://hbb.rivio.dev/senioren/2018/wedstrijd/226
 65
END:VEVENT
BEGIN:VEVENT
UID:https://hbb.rivio.dev/senioren/2018/wedstrijd/22790
DTSTAMP:20260420T202822Z
SUMMARY:Mixed 10 - Never Down 3
DESCRIPTION:Baan 13\, Wedstrijdnummer 3078\, Afdeling 4e klasse I
DTSTART:20190526T130000
DTEND:20190526T144500
LOCATION:City Resort Helmond
ATTACH;FMTTYPE=text/plain:https://hbb.rivio.dev/senioren/2018/wedstrijd/227
 90
END:VEVENT
BEGIN:VTIMEZONE
TZID:Europe/Amsterdam
BEGIN:STANDARD
DTSTART:20180101T000000
TZNAME:CET
TZOFFSETTO:+0100
TZOFFSETFROM:+0100
END:STANDARD
BEGIN:DAYLIGHT
DTSTART:20180325T030000
TZNAME:CEST
TZOFFSETTO:+0200
TZOFFSETFROM:+0100
END:DAYLIGHT
BEGIN:STANDARD
DTSTART:20181028T020000
TZNAME:CET
TZOFFSETTO:+0100
TZOFFSETFROM:+0200
END:STANDARD
BEGIN:DAYLIGHT
DTSTART:20190331T030000
TZNAME:CEST
TZOFFSETTO:+0200
TZOFFSETFROM:+0100
END:DAYLIGHT
BEGIN:STANDARD
DTSTART:20191027T020000
TZNAME:CET
TZOFFSETTO:+0100
TZOFFSETFROM:+0200
END:STANDARD
END:VTIMEZONE
END:VCALENDAR
