BEGIN:VCALENDAR
PRODID:-//eluceo/ical//2.0/EN
VERSION:2.0
CALSCALE:GREGORIAN
BEGIN:VEVENT
UID:https://hbb.rivio.dev/senioren/2018/wedstrijd/22243
DTSTAMP:20260420T221526Z
SUMMARY:Mierlo 8 - Never Down 2
DESCRIPTION:Baan 4\, Wedstrijdnummer 189\, Afdeling 3e klasse II K
DTSTART:20181004T200000
DTEND:20181004T230000
LOCATION:City Resort Helmond
ATTACH;FMTTYPE=text/plain:https://hbb.rivio.dev/senioren/2018/wedstrijd/222
 43
END:VEVENT
BEGIN:VEVENT
UID:https://hbb.rivio.dev/senioren/2018/wedstrijd/22283
DTSTAMP:20260420T221526Z
SUMMARY:Never Down 2 - BCAB 5
DESCRIPTION:Baan 2\, Wedstrijdnummer 192\, Afdeling 3e klasse II D
DTSTART:20181025T200000
DTEND:20181025T230000
LOCATION:City Resort Helmond
ATTACH;FMTTYPE=text/plain:https://hbb.rivio.dev/senioren/2018/wedstrijd/222
 83
END:VEVENT
BEGIN:VEVENT
UID:https://hbb.rivio.dev/senioren/2018/wedstrijd/22304
DTSTAMP:20260420T221526Z
SUMMARY:Never Down 2 - Someren 4
DESCRIPTION:Baan 2\, Wedstrijdnummer 196\, Afdeling 3e klasse II D
DTSTART:20181101T200000
DTEND:20181101T230000
LOCATION:City Resort Helmond
ATTACH;FMTTYPE=text/plain:https://hbb.rivio.dev/senioren/2018/wedstrijd/223
 04
END:VEVENT
BEGIN:VEVENT
UID:https://hbb.rivio.dev/senioren/2018/wedstrijd/22321
DTSTAMP:20260420T221526Z
SUMMARY:Gemert 3 - Never Down 2
DESCRIPTION:Baan 12\, Wedstrijdnummer 3020\, Afdeling 3e klasse I
DTSTART:20181107T200000
DTEND:20181107T230000
LOCATION:City Resort Helmond
ATTACH;FMTTYPE=text/plain:https://hbb.rivio.dev/senioren/2018/wedstrijd/223
 21
END:VEVENT
BEGIN:VEVENT
UID:https://hbb.rivio.dev/senioren/2018/wedstrijd/22393
DTSTAMP:20260420T221527Z
SUMMARY:BC '85 2 - Never Down 2
DESCRIPTION:Baan 5\, Wedstrijdnummer 199\, Afdeling 3e klasse II D
DTSTART:20181129T200000
DTEND:20181129T230000
LOCATION:City Resort Helmond
ATTACH;FMTTYPE=text/plain:https://hbb.rivio.dev/senioren/2018/wedstrijd/223
 93
END:VEVENT
BEGIN:VEVENT
UID:https://hbb.rivio.dev/senioren/2018/wedstrijd/22405
DTSTAMP:20260420T221527Z
SUMMARY:Dommelen 3 - Never Down 2
DESCRIPTION:Baan 11\, Wedstrijdnummer 200\, Afdeling 3e klasse II D
DTSTART:20181212T200000
DTEND:20181212T230000
LOCATION:City Resort Helmond
ATTACH;FMTTYPE=text/plain:https://hbb.rivio.dev/senioren/2018/wedstrijd/224
 05
END:VEVENT
BEGIN:VEVENT
UID:https://hbb.rivio.dev/senioren/2018/wedstrijd/22455
DTSTAMP:20260420T221527Z
SUMMARY:Never Down 2 - Mierlo 8
DESCRIPTION:Baan 2\, Wedstrijdnummer 1144\, Afdeling 3e klasse II D
DTSTART:20190117T200000
DTEND:20190117T230000
LOCATION:City Resort Helmond
ATTACH;FMTTYPE=text/plain:https://hbb.rivio.dev/senioren/2018/wedstrijd/224
 55
END:VEVENT
BEGIN:VEVENT
UID:https://hbb.rivio.dev/senioren/2018/wedstrijd/22505
DTSTAMP:20260420T221527Z
SUMMARY:BCAB 5 - Never Down 2
DESCRIPTION:Baan 14\, Wedstrijdnummer 1147\, Afdeling 3e klasse II K
DTSTART:20190131T200000
DTEND:20190131T230000
LOCATION:City Resort Helmond
ATTACH;FMTTYPE=text/plain:https://hbb.rivio.dev/senioren/2018/wedstrijd/225
 05
END:VEVENT
BEGIN:VEVENT
UID:https://hbb.rivio.dev/senioren/2018/wedstrijd/22547
DTSTAMP:20260420T221527Z
SUMMARY:Someren 4 - Never Down 2
DESCRIPTION:Baan 14\, Wedstrijdnummer 1151\, Afdeling 3e klasse II K
DTSTART:20190214T200000
DTEND:20190214T230000
LOCATION:City Resort Helmond
ATTACH;FMTTYPE=text/plain:https://hbb.rivio.dev/senioren/2018/wedstrijd/225
 47
END:VEVENT
BEGIN:VEVENT
UID:https://hbb.rivio.dev/senioren/2018/wedstrijd/22583
DTSTAMP:20260420T221527Z
SUMMARY:Never Down 2 - BC '85 2
DESCRIPTION:Baan 12\, Wedstrijdnummer 1154\, Afdeling 3e klasse II D
DTSTART:20190228T200000
DTEND:20190228T230000
LOCATION:City Resort Helmond
ATTACH;FMTTYPE=text/plain:https://hbb.rivio.dev/senioren/2018/wedstrijd/225
 83
END:VEVENT
BEGIN:VEVENT
UID:https://hbb.rivio.dev/senioren/2018/wedstrijd/22602
DTSTAMP:20260420T221527Z
SUMMARY:Never Down 2 - Dommelen 3
DESCRIPTION:Baan 10\, Wedstrijdnummer 1155\, Afdeling 3e klasse II D
DTSTART:20190314T200000
DTEND:20190314T230000
LOCATION:City Resort Helmond
ATTACH;FMTTYPE=text/plain:https://hbb.rivio.dev/senioren/2018/wedstrijd/226
 02
END:VEVENT
BEGIN:VEVENT
UID:https://hbb.rivio.dev/senioren/2018/wedstrijd/22781
DTSTAMP:20260420T221527Z
SUMMARY:Never Down 2 - BC '85 2
DESCRIPTION:Baan 7\, Wedstrijdnummer 2036\, Afdeling 3e klasse II D
DTSTART:20190418T200000
DTEND:20190418T230000
LOCATION:City Resort Helmond
ATTACH;FMTTYPE=text/plain:https://hbb.rivio.dev/senioren/2018/wedstrijd/227
 81
END:VEVENT
BEGIN:VEVENT
UID:https://hbb.rivio.dev/senioren/2018/wedstrijd/22783
DTSTAMP:20260420T221527Z
SUMMARY:Dommelen 3 - Never Down 2
DESCRIPTION:Baan 12\, Wedstrijdnummer 2038\, Afdeling 3e klasse II D
DTSTART:20190522T200000
DTEND:20190522T230000
LOCATION:City Resort Helmond
ATTACH;FMTTYPE=text/plain:https://hbb.rivio.dev/senioren/2018/wedstrijd/227
 83
END:VEVENT
BEGIN:VTIMEZONE
TZID:Europe/Amsterdam
BEGIN:STANDARD
DTSTART:20180101T000000
TZNAME:CET
TZOFFSETTO:+0100
TZOFFSETFROM:+0100
END:STANDARD
BEGIN:DAYLIGHT
DTSTART:20180325T030000
TZNAME:CEST
TZOFFSETTO:+0200
TZOFFSETFROM:+0100
END:DAYLIGHT
BEGIN:STANDARD
DTSTART:20181028T020000
TZNAME:CET
TZOFFSETTO:+0100
TZOFFSETFROM:+0200
END:STANDARD
BEGIN:DAYLIGHT
DTSTART:20190331T030000
TZNAME:CEST
TZOFFSETTO:+0200
TZOFFSETFROM:+0100
END:DAYLIGHT
BEGIN:STANDARD
DTSTART:20191027T020000
TZNAME:CET
TZOFFSETTO:+0100
TZOFFSETFROM:+0200
END:STANDARD
END:VTIMEZONE
END:VCALENDAR
