BEGIN:VCALENDAR
PRODID:-//eluceo/ical//2.0/EN
VERSION:2.0
CALSCALE:GREGORIAN
BEGIN:VEVENT
UID:https://hbb.rivio.dev/senioren/2018/wedstrijd/22202
DTSTAMP:20260420T165758Z
SUMMARY:Bakel 2 - Never Down 1
DESCRIPTION:Baan 5\, Wedstrijdnummer 125\, Afdeling 2e klasse I
DTSTART:20180920T200000
DTEND:20180920T230000
LOCATION:City Resort Helmond
ATTACH;FMTTYPE=text/plain:https://hbb.rivio.dev/senioren/2018/wedstrijd/222
 02
END:VEVENT
BEGIN:VEVENT
UID:https://hbb.rivio.dev/senioren/2018/wedstrijd/22226
DTSTAMP:20260420T165758Z
SUMMARY:Never Down 1 - Gemert 1
DESCRIPTION:Baan 12\, Wedstrijdnummer 128\, Afdeling 2e klasse I
DTSTART:20180927T200000
DTEND:20180927T230000
LOCATION:City Resort Helmond
ATTACH;FMTTYPE=text/plain:https://hbb.rivio.dev/senioren/2018/wedstrijd/222
 26
END:VEVENT
BEGIN:VEVENT
UID:https://hbb.rivio.dev/senioren/2018/wedstrijd/22269
DTSTAMP:20260420T165758Z
SUMMARY:Mierlo 6 - Never Down 1
DESCRIPTION:Baan 13\, Wedstrijdnummer 132\, Afdeling 2e klasse I
DTSTART:20181011T200000
DTEND:20181011T230000
LOCATION:City Resort Helmond
ATTACH;FMTTYPE=text/plain:https://hbb.rivio.dev/senioren/2018/wedstrijd/222
 69
END:VEVENT
BEGIN:VEVENT
UID:https://hbb.rivio.dev/senioren/2018/wedstrijd/22310
DTSTAMP:20260420T165758Z
SUMMARY:Never Down 1 - Ganzeveer 2
DESCRIPTION:Baan 12\, Wedstrijdnummer 135\, Afdeling 2e klasse I
DTSTART:20181101T200000
DTEND:20181101T230000
LOCATION:City Resort Helmond
ATTACH;FMTTYPE=text/plain:https://hbb.rivio.dev/senioren/2018/wedstrijd/223
 10
END:VEVENT
BEGIN:VEVENT
UID:https://hbb.rivio.dev/senioren/2018/wedstrijd/22326
DTSTAMP:20260420T165758Z
SUMMARY:Never Down 1 - Gemert 2
DESCRIPTION:Baan 2\, Wedstrijdnummer 3012\, Afdeling 2e klasse I
DTSTART:20181108T200000
DTEND:20181108T230000
LOCATION:City Resort Helmond
ATTACH;FMTTYPE=text/plain:https://hbb.rivio.dev/senioren/2018/wedstrijd/223
 26
END:VEVENT
BEGIN:VEVENT
UID:https://hbb.rivio.dev/senioren/2018/wedstrijd/22377
DTSTAMP:20260420T165758Z
SUMMARY:Someren 2 - Never Down 1
DESCRIPTION:Baan 14\, Wedstrijdnummer 139\, Afdeling 2e klasse I
DTSTART:20181122T200000
DTEND:20181122T230000
LOCATION:City Resort Helmond
ATTACH;FMTTYPE=text/plain:https://hbb.rivio.dev/senioren/2018/wedstrijd/223
 77
END:VEVENT
BEGIN:VEVENT
UID:https://hbb.rivio.dev/senioren/2018/wedstrijd/22418
DTSTAMP:20260420T165758Z
SUMMARY:Never Down 1 - Dommelen 2
DESCRIPTION:Baan 13\, Wedstrijdnummer 142\, Afdeling 2e klasse I
DTSTART:20181213T200000
DTEND:20181213T230000
LOCATION:City Resort Helmond
ATTACH;FMTTYPE=text/plain:https://hbb.rivio.dev/senioren/2018/wedstrijd/224
 18
END:VEVENT
BEGIN:VEVENT
UID:https://hbb.rivio.dev/senioren/2018/wedstrijd/22692
DTSTAMP:20260420T165758Z
SUMMARY:Never Down 1 - Ganzeveer 2
DESCRIPTION:Baan 1\, Wedstrijdnummer 3047\, Afdeling 2e klasse I
DTSTART:20190110T200000
DTEND:20190110T230000
LOCATION:City Resort Helmond
ATTACH;FMTTYPE=text/plain:https://hbb.rivio.dev/senioren/2018/wedstrijd/226
 92
END:VEVENT
BEGIN:VEVENT
UID:https://hbb.rivio.dev/senioren/2018/wedstrijd/22497
DTSTAMP:20260420T165758Z
SUMMARY:Never Down 1 - Bakel 2
DESCRIPTION:Baan 2\, Wedstrijdnummer 1080\, Afdeling 2e klasse I
DTSTART:20190131T200000
DTEND:20190131T230000
LOCATION:City Resort Helmond
ATTACH;FMTTYPE=text/plain:https://hbb.rivio.dev/senioren/2018/wedstrijd/224
 97
END:VEVENT
BEGIN:VEVENT
UID:https://hbb.rivio.dev/senioren/2018/wedstrijd/22520
DTSTAMP:20260420T165758Z
SUMMARY:Gemert 1 - Never Down 1
DESCRIPTION:Baan 4\, Wedstrijdnummer 1083\, Afdeling 2e klasse I
DTSTART:20190207T200000
DTEND:20190207T230000
LOCATION:City Resort Helmond
ATTACH;FMTTYPE=text/plain:https://hbb.rivio.dev/senioren/2018/wedstrijd/225
 20
END:VEVENT
BEGIN:VEVENT
UID:https://hbb.rivio.dev/senioren/2018/wedstrijd/22563
DTSTAMP:20260420T165758Z
SUMMARY:Never Down 1 - Mierlo 6
DESCRIPTION:Baan 13\, Wedstrijdnummer 1087\, Afdeling 2e klasse I
DTSTART:20190221T200000
DTEND:20190221T230000
LOCATION:City Resort Helmond
ATTACH;FMTTYPE=text/plain:https://hbb.rivio.dev/senioren/2018/wedstrijd/225
 63
END:VEVENT
BEGIN:VEVENT
UID:https://hbb.rivio.dev/senioren/2018/wedstrijd/22573
DTSTAMP:20260420T165758Z
SUMMARY:Ganzeveer 2 - Never Down 1
DESCRIPTION:Baan 13\, Wedstrijdnummer 1090\, Afdeling 2e klasse I
DTSTART:20190227T200000
DTEND:20190227T230000
LOCATION:City Resort Helmond
ATTACH;FMTTYPE=text/plain:https://hbb.rivio.dev/senioren/2018/wedstrijd/225
 73
END:VEVENT
BEGIN:VEVENT
UID:https://hbb.rivio.dev/senioren/2018/wedstrijd/22741
DTSTAMP:20260420T165758Z
SUMMARY:Never Down 1 - Bakel 2
DESCRIPTION:Baan 4\, Wedstrijdnummer 3068\, Afdeling 2e klasse I
DTSTART:20190321T200000
DTEND:20190321T230000
LOCATION:City Resort Helmond
ATTACH;FMTTYPE=text/plain:https://hbb.rivio.dev/senioren/2018/wedstrijd/227
 41
END:VEVENT
BEGIN:VEVENT
UID:https://hbb.rivio.dev/senioren/2018/wedstrijd/22620
DTSTAMP:20260420T165758Z
SUMMARY:Never Down 1 - Someren 2
DESCRIPTION:Baan 14\, Wedstrijdnummer 1094\, Afdeling 2e klasse I
DTSTART:20190328T200000
DTEND:20190328T230000
LOCATION:City Resort Helmond
ATTACH;FMTTYPE=text/plain:https://hbb.rivio.dev/senioren/2018/wedstrijd/226
 20
END:VEVENT
BEGIN:VEVENT
UID:https://hbb.rivio.dev/senioren/2018/wedstrijd/22640
DTSTAMP:20260420T165758Z
SUMMARY:Dommelen 2 - Never Down 1
DESCRIPTION:Baan 15\, Wedstrijdnummer 1097\, Afdeling 2e klasse I
DTSTART:20190411T200000
DTEND:20190411T230000
LOCATION:City Resort Helmond
ATTACH;FMTTYPE=text/plain:https://hbb.rivio.dev/senioren/2018/wedstrijd/226
 40
END:VEVENT
BEGIN:VTIMEZONE
TZID:Europe/Amsterdam
BEGIN:STANDARD
DTSTART:20180101T000000
TZNAME:CET
TZOFFSETTO:+0100
TZOFFSETFROM:+0100
END:STANDARD
BEGIN:DAYLIGHT
DTSTART:20180325T030000
TZNAME:CEST
TZOFFSETTO:+0200
TZOFFSETFROM:+0100
END:DAYLIGHT
BEGIN:STANDARD
DTSTART:20181028T020000
TZNAME:CET
TZOFFSETTO:+0100
TZOFFSETFROM:+0200
END:STANDARD
BEGIN:DAYLIGHT
DTSTART:20190331T030000
TZNAME:CEST
TZOFFSETTO:+0200
TZOFFSETFROM:+0100
END:DAYLIGHT
BEGIN:STANDARD
DTSTART:20191027T020000
TZNAME:CET
TZOFFSETTO:+0100
TZOFFSETFROM:+0200
END:STANDARD
END:VTIMEZONE
END:VCALENDAR
