BEGIN:VCALENDAR
PRODID:-//eluceo/ical//2.0/EN
VERSION:2.0
CALSCALE:GREGORIAN
BEGIN:VEVENT
UID:https://hbb.rivio.dev/jeugd/2018/wedstrijd/20482
DTSTAMP:20260420T165728Z
SUMMARY:Mierlo 6 - Bakel 5
DESCRIPTION:Baan 12\, Afdeling C-klasse 
DTSTART:20180916T111500
DTEND:20180916T130000
LOCATION:City Resort Helmond
ATTACH;FMTTYPE=text/plain:https://hbb.rivio.dev/jeugd/2018/wedstrijd/20482
END:VEVENT
BEGIN:VEVENT
UID:https://hbb.rivio.dev/jeugd/2018/wedstrijd/20477
DTSTAMP:20260420T165728Z
SUMMARY:Mierlo 5 - Mierlo 6
DESCRIPTION:Baan 11\, Afdeling C-klasse 
DTSTART:20180916T093000
DTEND:20180916T111500
LOCATION:City Resort Helmond
ATTACH;FMTTYPE=text/plain:https://hbb.rivio.dev/jeugd/2018/wedstrijd/20477
END:VEVENT
BEGIN:VEVENT
UID:https://hbb.rivio.dev/jeugd/2018/wedstrijd/20492
DTSTAMP:20260420T165728Z
SUMMARY:Mierlo 6 - Phoenix 1
DESCRIPTION:Baan 12\, Afdeling C-klasse 
DTSTART:20180930T093000
DTEND:20180930T111500
LOCATION:City Resort Helmond
ATTACH;FMTTYPE=text/plain:https://hbb.rivio.dev/jeugd/2018/wedstrijd/20492
END:VEVENT
BEGIN:VEVENT
UID:https://hbb.rivio.dev/jeugd/2018/wedstrijd/20496
DTSTAMP:20260420T165728Z
SUMMARY:Someren 1 - Mierlo 6
DESCRIPTION:Baan 12\, Afdeling D-klasse 
DTSTART:20180930T111500
DTEND:20180930T130000
LOCATION:City Resort Helmond
ATTACH;FMTTYPE=text/plain:https://hbb.rivio.dev/jeugd/2018/wedstrijd/20496
END:VEVENT
BEGIN:VEVENT
UID:https://hbb.rivio.dev/jeugd/2018/wedstrijd/20512
DTSTAMP:20260420T165728Z
SUMMARY:Mierlo 6 - Mixed 3
DESCRIPTION:Baan 3\, Afdeling C-klasse 
DTSTART:20181111T093000
DTEND:20181111T111500
LOCATION:City Resort Helmond
ATTACH;FMTTYPE=text/plain:https://hbb.rivio.dev/jeugd/2018/wedstrijd/20512
END:VEVENT
BEGIN:VEVENT
UID:https://hbb.rivio.dev/jeugd/2018/wedstrijd/20516
DTSTAMP:20260420T165728Z
SUMMARY:Bakel 4 - Mierlo 6
DESCRIPTION:Baan 3\, Afdeling D-klasse 
DTSTART:20181111T111500
DTEND:20181111T130000
LOCATION:City Resort Helmond
ATTACH;FMTTYPE=text/plain:https://hbb.rivio.dev/jeugd/2018/wedstrijd/20516
END:VEVENT
BEGIN:VEVENT
UID:https://hbb.rivio.dev/jeugd/2018/wedstrijd/20521
DTSTAMP:20260420T165728Z
SUMMARY:Mierlo 6 - Phoenix 2
DESCRIPTION:Baan 11\, Afdeling C-klasse 
DTSTART:20181125T111500
DTEND:20181125T130000
LOCATION:City Resort Helmond
ATTACH;FMTTYPE=text/plain:https://hbb.rivio.dev/jeugd/2018/wedstrijd/20521
END:VEVENT
BEGIN:VEVENT
UID:https://hbb.rivio.dev/jeugd/2018/wedstrijd/22715
DTSTAMP:20260420T165728Z
SUMMARY:Mierlo 6 - Mixed 3
DESCRIPTION:Baan 12\, Afdeling C-klasse 
DTSTART:20190120T111500
DTEND:20190120T130000
LOCATION:City Resort Helmond
ATTACH;FMTTYPE=text/plain:https://hbb.rivio.dev/jeugd/2018/wedstrijd/22715
END:VEVENT
BEGIN:VEVENT
UID:https://hbb.rivio.dev/jeugd/2018/wedstrijd/22712
DTSTAMP:20260420T165728Z
SUMMARY:Mierlo 5 - Mierlo 6
DESCRIPTION:Baan 11\, Afdeling C-klasse 
DTSTART:20190120T093000
DTEND:20190120T111500
LOCATION:City Resort Helmond
ATTACH;FMTTYPE=text/plain:https://hbb.rivio.dev/jeugd/2018/wedstrijd/22712
END:VEVENT
BEGIN:VEVENT
UID:https://hbb.rivio.dev/jeugd/2018/wedstrijd/22717
DTSTAMP:20260420T165728Z
SUMMARY:Mierlo 6 - Phoenix 1
DESCRIPTION:Baan 4\, Afdeling C-klasse 
DTSTART:20190210T093000
DTEND:20190210T111500
LOCATION:City Resort Helmond
ATTACH;FMTTYPE=text/plain:https://hbb.rivio.dev/jeugd/2018/wedstrijd/22717
END:VEVENT
BEGIN:VEVENT
UID:https://hbb.rivio.dev/jeugd/2018/wedstrijd/22718
DTSTAMP:20260420T165728Z
SUMMARY:Mierlo 6 - Mierlo 5
DESCRIPTION:Baan 3\, Afdeling C-klasse 
DTSTART:20190210T111500
DTEND:20190210T130000
LOCATION:City Resort Helmond
ATTACH;FMTTYPE=text/plain:https://hbb.rivio.dev/jeugd/2018/wedstrijd/22718
END:VEVENT
BEGIN:VEVENT
UID:https://hbb.rivio.dev/jeugd/2018/wedstrijd/22725
DTSTAMP:20260420T165728Z
SUMMARY:Mixed 3 - Mierlo 6
DESCRIPTION:Baan 15\, Afdeling C-klasse 
DTSTART:20190224T093000
DTEND:20190224T111500
LOCATION:City Resort Helmond
ATTACH;FMTTYPE=text/plain:https://hbb.rivio.dev/jeugd/2018/wedstrijd/22725
END:VEVENT
BEGIN:VEVENT
UID:https://hbb.rivio.dev/jeugd/2018/wedstrijd/22727
DTSTAMP:20260420T165728Z
SUMMARY:Phoenix 1 - Mierlo 6
DESCRIPTION:Baan 15\, Afdeling C-klasse 
DTSTART:20190224T111500
DTEND:20190224T130000
LOCATION:City Resort Helmond
ATTACH;FMTTYPE=text/plain:https://hbb.rivio.dev/jeugd/2018/wedstrijd/22727
END:VEVENT
BEGIN:VTIMEZONE
TZID:Europe/Amsterdam
BEGIN:STANDARD
DTSTART:20180101T000000
TZNAME:CET
TZOFFSETTO:+0100
TZOFFSETFROM:+0100
END:STANDARD
BEGIN:DAYLIGHT
DTSTART:20180325T030000
TZNAME:CEST
TZOFFSETTO:+0200
TZOFFSETFROM:+0100
END:DAYLIGHT
BEGIN:STANDARD
DTSTART:20181028T020000
TZNAME:CET
TZOFFSETTO:+0100
TZOFFSETFROM:+0200
END:STANDARD
BEGIN:DAYLIGHT
DTSTART:20190331T030000
TZNAME:CEST
TZOFFSETTO:+0200
TZOFFSETFROM:+0100
END:DAYLIGHT
BEGIN:STANDARD
DTSTART:20191027T020000
TZNAME:CET
TZOFFSETTO:+0100
TZOFFSETFROM:+0200
END:STANDARD
END:VTIMEZONE
END:VCALENDAR
