BEGIN:VCALENDAR
PRODID:-//eluceo/ical//2.0/EN
VERSION:2.0
CALSCALE:GREGORIAN
BEGIN:VEVENT
UID:https://hbb.rivio.dev/senioren/2018/wedstrijd/22185
DTSTAMP:20260420T150833Z
SUMMARY:Mierlo 7 - RBC 2
DESCRIPTION:Baan 13\, Wedstrijdnummer 147\, Afdeling 2e klasse II
DTSTART:20180913T200000
DTEND:20180913T230000
LOCATION:City Resort Helmond
ATTACH;FMTTYPE=text/plain:https://hbb.rivio.dev/senioren/2018/wedstrijd/221
 85
END:VEVENT
BEGIN:VEVENT
UID:https://hbb.rivio.dev/senioren/2018/wedstrijd/22221
DTSTAMP:20260420T150833Z
SUMMARY:RBC 2 - BCAB 4
DESCRIPTION:Baan 3\, Wedstrijdnummer 150\, Afdeling 2e klasse II
DTSTART:20180927T200000
DTEND:20180927T230000
LOCATION:City Resort Helmond
ATTACH;FMTTYPE=text/plain:https://hbb.rivio.dev/senioren/2018/wedstrijd/222
 21
END:VEVENT
BEGIN:VEVENT
UID:https://hbb.rivio.dev/senioren/2018/wedstrijd/22262
DTSTAMP:20260420T150833Z
SUMMARY:Gemert 2 - RBC 2
DESCRIPTION:Baan 2\, Wedstrijdnummer 154\, Afdeling 2e klasse II
DTSTART:20181011T200000
DTEND:20181011T230000
LOCATION:City Resort Helmond
ATTACH;FMTTYPE=text/plain:https://hbb.rivio.dev/senioren/2018/wedstrijd/222
 62
END:VEVENT
BEGIN:VEVENT
UID:https://hbb.rivio.dev/senioren/2018/wedstrijd/22288
DTSTAMP:20260420T150833Z
SUMMARY:RBC 2 - Con Brio 6
DESCRIPTION:Baan 11\, Wedstrijdnummer 157\, Afdeling 2e klasse II
DTSTART:20181025T200000
DTEND:20181025T230000
LOCATION:City Resort Helmond
ATTACH;FMTTYPE=text/plain:https://hbb.rivio.dev/senioren/2018/wedstrijd/222
 88
END:VEVENT
BEGIN:VEVENT
UID:https://hbb.rivio.dev/senioren/2018/wedstrijd/22328
DTSTAMP:20260420T150833Z
SUMMARY:Someren 2 - RBC 2
DESCRIPTION:Baan 4\, Wedstrijdnummer 3014\, Afdeling 2e klasse I
DTSTART:20181108T200000
DTEND:20181108T230000
LOCATION:City Resort Helmond
ATTACH;FMTTYPE=text/plain:https://hbb.rivio.dev/senioren/2018/wedstrijd/223
 28
END:VEVENT
BEGIN:VEVENT
UID:https://hbb.rivio.dev/senioren/2018/wedstrijd/22399
DTSTAMP:20260420T150833Z
SUMMARY:Hanevoet 3 - RBC 2
DESCRIPTION:Baan 15\, Wedstrijdnummer 163\, Afdeling 2e klasse II
DTSTART:20181129T200000
DTEND:20181129T230000
LOCATION:City Resort Helmond
ATTACH;FMTTYPE=text/plain:https://hbb.rivio.dev/senioren/2018/wedstrijd/223
 99
END:VEVENT
BEGIN:VEVENT
UID:https://hbb.rivio.dev/senioren/2018/wedstrijd/22438
DTSTAMP:20260420T150833Z
SUMMARY:RBC 2 - Mixed 7
DESCRIPTION:Baan 12\, Wedstrijdnummer 166\, Afdeling 2e klasse II
DTSTART:20181220T200000
DTEND:20181220T230000
LOCATION:City Resort Helmond
ATTACH;FMTTYPE=text/plain:https://hbb.rivio.dev/senioren/2018/wedstrijd/224
 38
END:VEVENT
BEGIN:VEVENT
UID:https://hbb.rivio.dev/senioren/2018/wedstrijd/22694
DTSTAMP:20260420T150833Z
SUMMARY:RBC 2 - Bakel 2
DESCRIPTION:Baan 3\, Wedstrijdnummer 3049\, Afdeling 2e klasse II
DTSTART:20190110T200000
DTEND:20190110T230000
LOCATION:City Resort Helmond
ATTACH;FMTTYPE=text/plain:https://hbb.rivio.dev/senioren/2018/wedstrijd/226
 94
END:VEVENT
BEGIN:VEVENT
UID:https://hbb.rivio.dev/senioren/2018/wedstrijd/22479
DTSTAMP:20260420T150833Z
SUMMARY:RBC 2 - Mierlo 7
DESCRIPTION:Baan 5\, Wedstrijdnummer 1102\, Afdeling 2e klasse II
DTSTART:20190124T200000
DTEND:20190124T230000
LOCATION:City Resort Helmond
ATTACH;FMTTYPE=text/plain:https://hbb.rivio.dev/senioren/2018/wedstrijd/224
 79
END:VEVENT
BEGIN:VEVENT
UID:https://hbb.rivio.dev/senioren/2018/wedstrijd/22524
DTSTAMP:20260420T150833Z
SUMMARY:BCAB 4 - RBC 2
DESCRIPTION:Baan 12\, Wedstrijdnummer 1105\, Afdeling 2e klasse II
DTSTART:20190207T200000
DTEND:20190207T230000
LOCATION:City Resort Helmond
ATTACH;FMTTYPE=text/plain:https://hbb.rivio.dev/senioren/2018/wedstrijd/225
 24
END:VEVENT
BEGIN:VEVENT
UID:https://hbb.rivio.dev/senioren/2018/wedstrijd/22561
DTSTAMP:20260420T150833Z
SUMMARY:RBC 2 - Gemert 2
DESCRIPTION:Baan 11\, Wedstrijdnummer 1109\, Afdeling 2e klasse II
DTSTART:20190221T200000
DTEND:20190221T230000
LOCATION:City Resort Helmond
ATTACH;FMTTYPE=text/plain:https://hbb.rivio.dev/senioren/2018/wedstrijd/225
 61
END:VEVENT
BEGIN:VEVENT
UID:https://hbb.rivio.dev/senioren/2018/wedstrijd/22592
DTSTAMP:20260420T150833Z
SUMMARY:Con Brio 6 - RBC 2
DESCRIPTION:Baan 11\, Wedstrijdnummer 1112\, Afdeling 2e klasse II
DTSTART:20190313T200000
DTEND:20190313T230000
LOCATION:City Resort Helmond
ATTACH;FMTTYPE=text/plain:https://hbb.rivio.dev/senioren/2018/wedstrijd/225
 92
END:VEVENT
BEGIN:VEVENT
UID:https://hbb.rivio.dev/senioren/2018/wedstrijd/22635
DTSTAMP:20260420T150833Z
SUMMARY:RBC 2 - Hanevoet 3
DESCRIPTION:Baan 15\, Wedstrijdnummer 1118\, Afdeling 2e klasse II
DTSTART:20190404T200000
DTEND:20190404T230000
LOCATION:City Resort Helmond
ATTACH;FMTTYPE=text/plain:https://hbb.rivio.dev/senioren/2018/wedstrijd/226
 35
END:VEVENT
BEGIN:VEVENT
UID:https://hbb.rivio.dev/senioren/2018/wedstrijd/22667
DTSTAMP:20260420T150833Z
SUMMARY:Mixed 7 - RBC 2
DESCRIPTION:Baan 9\, Wedstrijdnummer 1121\, Afdeling 2e klasse II
DTSTART:20190516T200000
DTEND:20190516T230000
LOCATION:City Resort Helmond
ATTACH;FMTTYPE=text/plain:https://hbb.rivio.dev/senioren/2018/wedstrijd/226
 67
END:VEVENT
BEGIN:VTIMEZONE
TZID:Europe/Amsterdam
BEGIN:STANDARD
DTSTART:20180101T000000
TZNAME:CET
TZOFFSETTO:+0100
TZOFFSETFROM:+0100
END:STANDARD
BEGIN:DAYLIGHT
DTSTART:20180325T030000
TZNAME:CEST
TZOFFSETTO:+0200
TZOFFSETFROM:+0100
END:DAYLIGHT
BEGIN:STANDARD
DTSTART:20181028T020000
TZNAME:CET
TZOFFSETTO:+0100
TZOFFSETFROM:+0200
END:STANDARD
BEGIN:DAYLIGHT
DTSTART:20190331T030000
TZNAME:CEST
TZOFFSETTO:+0200
TZOFFSETFROM:+0100
END:DAYLIGHT
BEGIN:STANDARD
DTSTART:20191027T020000
TZNAME:CET
TZOFFSETTO:+0100
TZOFFSETFROM:+0200
END:STANDARD
END:VTIMEZONE
END:VCALENDAR
