BEGIN:VCALENDAR
PRODID:-//eluceo/ical//2.0/EN
VERSION:2.0
CALSCALE:GREGORIAN
BEGIN:VEVENT
UID:https://hbb.rivio.dev/senioren/2018/wedstrijd/22223
DTSTAMP:20260420T133640Z
SUMMARY:RBC 1 - Heeze 1
DESCRIPTION:Baan 5\, Wedstrijdnummer 69\, Afdeling Overgangsklasse I D
DTSTART:20180927T200000
DTEND:20180927T230000
LOCATION:City Resort Helmond
ATTACH;FMTTYPE=text/plain:https://hbb.rivio.dev/senioren/2018/wedstrijd/222
 23
END:VEVENT
BEGIN:VEVENT
UID:https://hbb.rivio.dev/senioren/2018/wedstrijd/22250
DTSTAMP:20260420T133640Z
SUMMARY:RBC 1 - Con Brio 4
DESCRIPTION:Baan 15\, Wedstrijdnummer 70\, Afdeling Overgangsklasse I D
DTSTART:20181004T200000
DTEND:20181004T230000
LOCATION:City Resort Helmond
ATTACH;FMTTYPE=text/plain:https://hbb.rivio.dev/senioren/2018/wedstrijd/222
 50
END:VEVENT
BEGIN:VEVENT
UID:https://hbb.rivio.dev/senioren/2018/wedstrijd/22295
DTSTAMP:20260420T133640Z
SUMMARY:Mixed 3 - RBC 1
DESCRIPTION:Baan 3\, Wedstrijdnummer 74\, Afdeling Overgangsklasse I K
DTSTART:20181031T200000
DTEND:20181031T230000
LOCATION:City Resort Helmond
ATTACH;FMTTYPE=text/plain:https://hbb.rivio.dev/senioren/2018/wedstrijd/222
 95
END:VEVENT
BEGIN:VEVENT
UID:https://hbb.rivio.dev/senioren/2018/wedstrijd/22338
DTSTAMP:20260420T133640Z
SUMMARY:RBC 1 - Brabantia 2
DESCRIPTION:Baan 3\, Wedstrijdnummer 3007\, Afdeling Overgangsklasse I D
DTSTART:20181114T200000
DTEND:20181114T230000
LOCATION:City Resort Helmond
ATTACH;FMTTYPE=text/plain:https://hbb.rivio.dev/senioren/2018/wedstrijd/223
 38
END:VEVENT
BEGIN:VEVENT
UID:https://hbb.rivio.dev/senioren/2018/wedstrijd/22372
DTSTAMP:20260420T133640Z
SUMMARY:RBC 1 - BC '85 1
DESCRIPTION:Baan 5\, Wedstrijdnummer 78\, Afdeling Overgangsklasse I D
DTSTART:20181122T200000
DTEND:20181122T230000
LOCATION:City Resort Helmond
ATTACH;FMTTYPE=text/plain:https://hbb.rivio.dev/senioren/2018/wedstrijd/223
 72
END:VEVENT
BEGIN:VEVENT
UID:https://hbb.rivio.dev/senioren/2018/wedstrijd/22396
DTSTAMP:20260420T133640Z
SUMMARY:Someren 1 - RBC 1
DESCRIPTION:Baan 12\, Wedstrijdnummer 81\, Afdeling Overgangsklasse I K
DTSTART:20181129T200000
DTEND:20181129T230000
LOCATION:City Resort Helmond
ATTACH;FMTTYPE=text/plain:https://hbb.rivio.dev/senioren/2018/wedstrijd/223
 96
END:VEVENT
BEGIN:VEVENT
UID:https://hbb.rivio.dev/senioren/2018/wedstrijd/22441
DTSTAMP:20260420T133640Z
SUMMARY:Heeze 1 - RBC 1
DESCRIPTION:Baan 15\, Wedstrijdnummer 1024\, Afdeling Overgangsklasse I D
DTSTART:20181220T200000
DTEND:20181220T230000
LOCATION:City Resort Helmond
ATTACH;FMTTYPE=text/plain:https://hbb.rivio.dev/senioren/2018/wedstrijd/224
 41
END:VEVENT
BEGIN:VEVENT
UID:https://hbb.rivio.dev/senioren/2018/wedstrijd/22700
DTSTAMP:20260420T133640Z
SUMMARY:RBC 1 - BC '85 1
DESCRIPTION:Baan 1\, Wedstrijdnummer 3039\, Afdeling Overgangsklasse I D
DTSTART:20190116T200000
DTEND:20190116T230000
LOCATION:City Resort Helmond
ATTACH;FMTTYPE=text/plain:https://hbb.rivio.dev/senioren/2018/wedstrijd/227
 00
END:VEVENT
BEGIN:VEVENT
UID:https://hbb.rivio.dev/senioren/2018/wedstrijd/22481
DTSTAMP:20260420T133640Z
SUMMARY:Con Brio 4 - RBC 1
DESCRIPTION:Baan 11\, Wedstrijdnummer 1025\, Afdeling Overgangsklasse I K
DTSTART:20190124T200000
DTEND:20190124T230000
LOCATION:City Resort Helmond
ATTACH;FMTTYPE=text/plain:https://hbb.rivio.dev/senioren/2018/wedstrijd/224
 81
END:VEVENT
BEGIN:VEVENT
UID:https://hbb.rivio.dev/senioren/2018/wedstrijd/22527
DTSTAMP:20260420T133640Z
SUMMARY:RBC 1 - Mixed 3
DESCRIPTION:Baan 15\, Wedstrijdnummer 1029\, Afdeling Overgangsklasse I D
DTSTART:20190207T200000
DTEND:20190207T230000
LOCATION:City Resort Helmond
ATTACH;FMTTYPE=text/plain:https://hbb.rivio.dev/senioren/2018/wedstrijd/225
 27
END:VEVENT
BEGIN:VEVENT
UID:https://hbb.rivio.dev/senioren/2018/wedstrijd/22541
DTSTAMP:20260420T133640Z
SUMMARY:BC '85 1 - RBC 1
DESCRIPTION:Baan 4\, Wedstrijdnummer 1033\, Afdeling Overgangsklasse I D
DTSTART:20190214T200000
DTEND:20190214T230000
LOCATION:City Resort Helmond
ATTACH;FMTTYPE=text/plain:https://hbb.rivio.dev/senioren/2018/wedstrijd/225
 41
END:VEVENT
BEGIN:VEVENT
UID:https://hbb.rivio.dev/senioren/2018/wedstrijd/22565
DTSTAMP:20260420T133640Z
SUMMARY:RBC 1 - Someren 1
DESCRIPTION:Baan 15\, Wedstrijdnummer 1036\, Afdeling Overgangsklasse I D
DTSTART:20190221T200000
DTEND:20190221T230000
LOCATION:City Resort Helmond
ATTACH;FMTTYPE=text/plain:https://hbb.rivio.dev/senioren/2018/wedstrijd/225
 65
END:VEVENT
BEGIN:VEVENT
UID:https://hbb.rivio.dev/senioren/2018/wedstrijd/22743
DTSTAMP:20260420T133640Z
SUMMARY:RBC 1 - Con Brio 4
DESCRIPTION:Baan 11\, Wedstrijdnummer 3064\, Afdeling Overgangsklasse I D
DTSTART:20190321T200000
DTEND:20190321T230000
LOCATION:City Resort Helmond
ATTACH;FMTTYPE=text/plain:https://hbb.rivio.dev/senioren/2018/wedstrijd/227
 43
END:VEVENT
BEGIN:VEVENT
UID:https://hbb.rivio.dev/senioren/2018/wedstrijd/22767
DTSTAMP:20260420T133640Z
SUMMARY:BC '85 1 - RBC 1
DESCRIPTION:Baan 3\, Wedstrijdnummer 2022\, Afdeling Overgangsklasse I D
DTSTART:20190403T200000
DTEND:20190403T230000
LOCATION:City Resort Helmond
ATTACH;FMTTYPE=text/plain:https://hbb.rivio.dev/senioren/2018/wedstrijd/227
 67
END:VEVENT
BEGIN:VEVENT
UID:https://hbb.rivio.dev/senioren/2018/wedstrijd/22771
DTSTAMP:20260420T133640Z
SUMMARY:RBC 1 - Heeze 1
DESCRIPTION:Baan 15\, Wedstrijdnummer 2026\, Afdeling Overgangsklasse I D
DTSTART:20190418T200000
DTEND:20190418T230000
LOCATION:City Resort Helmond
ATTACH;FMTTYPE=text/plain:https://hbb.rivio.dev/senioren/2018/wedstrijd/227
 71
END:VEVENT
BEGIN:VEVENT
UID:https://hbb.rivio.dev/senioren/2018/wedstrijd/22786
DTSTAMP:20260420T133640Z
SUMMARY:BCAB 2 - RBC 1
DESCRIPTION:Baan 8\, Wedstrijdnummer 3074\, Afdeling Overgangsklasse II K
DTSTART:20190526T130000
DTEND:20190526T144500
LOCATION:City Resort Helmond
ATTACH;FMTTYPE=text/plain:https://hbb.rivio.dev/senioren/2018/wedstrijd/227
 86
END:VEVENT
BEGIN:VTIMEZONE
TZID:Europe/Amsterdam
BEGIN:STANDARD
DTSTART:20180101T000000
TZNAME:CET
TZOFFSETTO:+0100
TZOFFSETFROM:+0100
END:STANDARD
BEGIN:DAYLIGHT
DTSTART:20180325T030000
TZNAME:CEST
TZOFFSETTO:+0200
TZOFFSETFROM:+0100
END:DAYLIGHT
BEGIN:STANDARD
DTSTART:20181028T020000
TZNAME:CET
TZOFFSETTO:+0100
TZOFFSETFROM:+0200
END:STANDARD
BEGIN:DAYLIGHT
DTSTART:20190331T030000
TZNAME:CEST
TZOFFSETTO:+0200
TZOFFSETFROM:+0100
END:DAYLIGHT
BEGIN:STANDARD
DTSTART:20191027T020000
TZNAME:CET
TZOFFSETTO:+0100
TZOFFSETFROM:+0200
END:STANDARD
END:VTIMEZONE
END:VCALENDAR
