BEGIN:VCALENDAR
PRODID:-//eluceo/ical//2.0/EN
VERSION:2.0
CALSCALE:GREGORIAN
BEGIN:VEVENT
UID:https://hbb.rivio.dev/jeugd/2018/wedstrijd/20184
DTSTAMP:20260420T220410Z
SUMMARY:Mierlo 1 - Mierlo 2
DESCRIPTION:Baan 2\, Afdeling A-klasse 
DTSTART:20180916T093000
DTEND:20180916T111500
LOCATION:City Resort Helmond
ATTACH;FMTTYPE=text/plain:https://hbb.rivio.dev/jeugd/2018/wedstrijd/20184
END:VEVENT
BEGIN:VEVENT
UID:https://hbb.rivio.dev/jeugd/2018/wedstrijd/20203
DTSTAMP:20260420T220410Z
SUMMARY:Bakel 2 - Mierlo 2
DESCRIPTION:Baan 2\, Afdeling A-klasse 
DTSTART:20180930T130000
DTEND:20180930T144500
LOCATION:City Resort Helmond
ATTACH;FMTTYPE=text/plain:https://hbb.rivio.dev/jeugd/2018/wedstrijd/20203
END:VEVENT
BEGIN:VEVENT
UID:https://hbb.rivio.dev/jeugd/2018/wedstrijd/20218
DTSTAMP:20260420T220410Z
SUMMARY:Mierlo 2 - BCV '73 1
DESCRIPTION:Baan 1\, Afdeling A-klasse 
DTSTART:20181007T093000
DTEND:20181007T111500
LOCATION:City Resort Helmond
ATTACH;FMTTYPE=text/plain:https://hbb.rivio.dev/jeugd/2018/wedstrijd/20218
END:VEVENT
BEGIN:VEVENT
UID:https://hbb.rivio.dev/jeugd/2018/wedstrijd/20252
DTSTAMP:20260420T220410Z
SUMMARY:Mierlo 2 - Bakel 1
DESCRIPTION:Baan 1\, Afdeling A-klasse 
DTSTART:20181111T093000
DTEND:20181111T111500
LOCATION:City Resort Helmond
ATTACH;FMTTYPE=text/plain:https://hbb.rivio.dev/jeugd/2018/wedstrijd/20252
END:VEVENT
BEGIN:VEVENT
UID:https://hbb.rivio.dev/jeugd/2018/wedstrijd/20281
DTSTAMP:20260420T220410Z
SUMMARY:Mierlo 2 - Mierlo 1
DESCRIPTION:Baan 2\, Afdeling A-klasse 
DTSTART:20181125T093000
DTEND:20181125T111500
LOCATION:City Resort Helmond
ATTACH;FMTTYPE=text/plain:https://hbb.rivio.dev/jeugd/2018/wedstrijd/20281
END:VEVENT
BEGIN:VEVENT
UID:https://hbb.rivio.dev/jeugd/2018/wedstrijd/20294
DTSTAMP:20260420T220410Z
SUMMARY:BCV '73 1 - Mierlo 2
DESCRIPTION:Baan 1\, Afdeling A-klasse 
DTSTART:20181216T093000
DTEND:20181216T111500
LOCATION:City Resort Helmond
ATTACH;FMTTYPE=text/plain:https://hbb.rivio.dev/jeugd/2018/wedstrijd/20294
END:VEVENT
BEGIN:VEVENT
UID:https://hbb.rivio.dev/jeugd/2018/wedstrijd/20306
DTSTAMP:20260420T220410Z
SUMMARY:Mierlo 2 - Bakel 2
DESCRIPTION:Baan 2\, Afdeling A-klasse 
DTSTART:20190113T093000
DTEND:20190113T111500
LOCATION:City Resort Helmond
ATTACH;FMTTYPE=text/plain:https://hbb.rivio.dev/jeugd/2018/wedstrijd/20306
END:VEVENT
BEGIN:VEVENT
UID:https://hbb.rivio.dev/jeugd/2018/wedstrijd/20329
DTSTAMP:20260420T220410Z
SUMMARY:Bakel 1 - Mierlo 2
DESCRIPTION:Baan 1\, Afdeling A-klasse 
DTSTART:20190203T093000
DTEND:20190203T111500
LOCATION:City Resort Helmond
ATTACH;FMTTYPE=text/plain:https://hbb.rivio.dev/jeugd/2018/wedstrijd/20329
END:VEVENT
BEGIN:VEVENT
UID:https://hbb.rivio.dev/jeugd/2018/wedstrijd/20355
DTSTAMP:20260420T220410Z
SUMMARY:Mierlo 1 - Mierlo 2
DESCRIPTION:Baan 2\, Afdeling A-klasse 
DTSTART:20190210T093000
DTEND:20190210T111500
LOCATION:City Resort Helmond
ATTACH;FMTTYPE=text/plain:https://hbb.rivio.dev/jeugd/2018/wedstrijd/20355
END:VEVENT
BEGIN:VEVENT
UID:https://hbb.rivio.dev/jeugd/2018/wedstrijd/20392
DTSTAMP:20260420T220410Z
SUMMARY:Mierlo 2 - BCV '73 1
DESCRIPTION:Baan 1\, Afdeling A-klasse 
DTSTART:20190224T093000
DTEND:20190224T111500
LOCATION:City Resort Helmond
ATTACH;FMTTYPE=text/plain:https://hbb.rivio.dev/jeugd/2018/wedstrijd/20392
END:VEVENT
BEGIN:VEVENT
UID:https://hbb.rivio.dev/jeugd/2018/wedstrijd/20409
DTSTAMP:20260420T220410Z
SUMMARY:Bakel 2 - Mierlo 2
DESCRIPTION:Baan 2\, Afdeling A-klasse 
DTSTART:20190317T093000
DTEND:20190317T111500
LOCATION:City Resort Helmond
ATTACH;FMTTYPE=text/plain:https://hbb.rivio.dev/jeugd/2018/wedstrijd/20409
END:VEVENT
BEGIN:VEVENT
UID:https://hbb.rivio.dev/jeugd/2018/wedstrijd/20451
DTSTAMP:20260420T220410Z
SUMMARY:Mierlo 2 - Bakel 1
DESCRIPTION:Baan 1\, Afdeling A-klasse 
DTSTART:20190407T093000
DTEND:20190407T111500
LOCATION:City Resort Helmond
ATTACH;FMTTYPE=text/plain:https://hbb.rivio.dev/jeugd/2018/wedstrijd/20451
END:VEVENT
BEGIN:VTIMEZONE
TZID:Europe/Amsterdam
BEGIN:STANDARD
DTSTART:20180101T000000
TZNAME:CET
TZOFFSETTO:+0100
TZOFFSETFROM:+0100
END:STANDARD
BEGIN:DAYLIGHT
DTSTART:20180325T030000
TZNAME:CEST
TZOFFSETTO:+0200
TZOFFSETFROM:+0100
END:DAYLIGHT
BEGIN:STANDARD
DTSTART:20181028T020000
TZNAME:CET
TZOFFSETTO:+0100
TZOFFSETFROM:+0200
END:STANDARD
BEGIN:DAYLIGHT
DTSTART:20190331T030000
TZNAME:CEST
TZOFFSETTO:+0200
TZOFFSETFROM:+0100
END:DAYLIGHT
BEGIN:STANDARD
DTSTART:20191027T020000
TZNAME:CET
TZOFFSETTO:+0100
TZOFFSETFROM:+0200
END:STANDARD
END:VTIMEZONE
END:VCALENDAR
