BEGIN:VCALENDAR
PRODID:-//eluceo/ical//2.0/EN
VERSION:2.0
CALSCALE:GREGORIAN
BEGIN:VEVENT
UID:https://hbb.rivio.dev/jeugd/2018/wedstrijd/20229
DTSTAMP:20260420T203349Z
SUMMARY:Mixed 5 - Mixed 6
DESCRIPTION:Baan 4\, Afdeling I-klasse 
DTSTART:20181007T093000
DTEND:20181007T111500
LOCATION:City Resort Helmond
ATTACH;FMTTYPE=text/plain:https://hbb.rivio.dev/jeugd/2018/wedstrijd/20229
END:VEVENT
BEGIN:VEVENT
UID:https://hbb.rivio.dev/jeugd/2018/wedstrijd/20232
DTSTAMP:20260420T203349Z
SUMMARY:Mixed 5 - Con Brio 1
DESCRIPTION:Baan 4\, Afdeling I-klasse 
DTSTART:20181007T111500
DTEND:20181007T130000
LOCATION:City Resort Helmond
ATTACH;FMTTYPE=text/plain:https://hbb.rivio.dev/jeugd/2018/wedstrijd/20232
END:VEVENT
BEGIN:VEVENT
UID:https://hbb.rivio.dev/jeugd/2018/wedstrijd/20246
DTSTAMP:20260420T203349Z
SUMMARY:Mixed 8 - Mixed 5
DESCRIPTION:Baan 14\, Afdeling I-klasse 
DTSTART:20181028T093000
DTEND:20181028T111500
LOCATION:City Resort Helmond
ATTACH;FMTTYPE=text/plain:https://hbb.rivio.dev/jeugd/2018/wedstrijd/20246
END:VEVENT
BEGIN:VEVENT
UID:https://hbb.rivio.dev/jeugd/2018/wedstrijd/20249
DTSTAMP:20260420T203349Z
SUMMARY:Mixed 7 - Mixed 5
DESCRIPTION:Baan 14\, Afdeling I-klasse 
DTSTART:20181028T111500
DTEND:20181028T130000
LOCATION:City Resort Helmond
ATTACH;FMTTYPE=text/plain:https://hbb.rivio.dev/jeugd/2018/wedstrijd/20249
END:VEVENT
BEGIN:VEVENT
UID:https://hbb.rivio.dev/jeugd/2018/wedstrijd/20288
DTSTAMP:20260420T203349Z
SUMMARY:Mixed 5 - Phoenix 6
DESCRIPTION:Baan 13\, Afdeling I-klasse 
DTSTART:20181125T093000
DTEND:20181125T111500
LOCATION:City Resort Helmond
ATTACH;FMTTYPE=text/plain:https://hbb.rivio.dev/jeugd/2018/wedstrijd/20288
END:VEVENT
BEGIN:VEVENT
UID:https://hbb.rivio.dev/jeugd/2018/wedstrijd/20291
DTSTAMP:20260420T203349Z
SUMMARY:Mixed 6 - Mixed 5
DESCRIPTION:Baan 13\, Afdeling I-klasse 
DTSTART:20181125T111500
DTEND:20181125T130000
LOCATION:City Resort Helmond
ATTACH;FMTTYPE=text/plain:https://hbb.rivio.dev/jeugd/2018/wedstrijd/20291
END:VEVENT
BEGIN:VEVENT
UID:https://hbb.rivio.dev/jeugd/2018/wedstrijd/20526
DTSTAMP:20260420T203349Z
SUMMARY:Mixed 5 - Mixed 8
DESCRIPTION:Baan 14\, Afdeling I-klasse 
DTSTART:20181216T111500
DTEND:20181216T130000
LOCATION:City Resort Helmond
ATTACH;FMTTYPE=text/plain:https://hbb.rivio.dev/jeugd/2018/wedstrijd/20526
END:VEVENT
BEGIN:VEVENT
UID:https://hbb.rivio.dev/jeugd/2018/wedstrijd/20523
DTSTAMP:20260420T203349Z
SUMMARY:Con Brio 1 - Mixed 5
DESCRIPTION:Baan 14\, Afdeling I-klasse 
DTSTART:20181216T093000
DTEND:20181216T111500
LOCATION:City Resort Helmond
ATTACH;FMTTYPE=text/plain:https://hbb.rivio.dev/jeugd/2018/wedstrijd/20523
END:VEVENT
BEGIN:VEVENT
UID:https://hbb.rivio.dev/jeugd/2018/wedstrijd/20364
DTSTAMP:20260420T203349Z
SUMMARY:Mixed 5 - Mixed 7
DESCRIPTION:Baan 5\, Afdeling I-klasse 
DTSTART:20190210T093000
DTEND:20190210T111500
LOCATION:City Resort Helmond
ATTACH;FMTTYPE=text/plain:https://hbb.rivio.dev/jeugd/2018/wedstrijd/20364
END:VEVENT
BEGIN:VEVENT
UID:https://hbb.rivio.dev/jeugd/2018/wedstrijd/20367
DTSTAMP:20260420T203349Z
SUMMARY:Phoenix 6 - Mixed 5
DESCRIPTION:Baan 5\, Afdeling I-klasse 
DTSTART:20190210T111500
DTEND:20190210T130000
LOCATION:City Resort Helmond
ATTACH;FMTTYPE=text/plain:https://hbb.rivio.dev/jeugd/2018/wedstrijd/20367
END:VEVENT
BEGIN:VEVENT
UID:https://hbb.rivio.dev/jeugd/2018/wedstrijd/20380
DTSTAMP:20260420T203349Z
SUMMARY:Mixed 5 - Mixed 6
DESCRIPTION:Baan 14\, Afdeling I-klasse 
DTSTART:20190217T093000
DTEND:20190217T111500
LOCATION:City Resort Helmond
ATTACH;FMTTYPE=text/plain:https://hbb.rivio.dev/jeugd/2018/wedstrijd/20380
END:VEVENT
BEGIN:VEVENT
UID:https://hbb.rivio.dev/jeugd/2018/wedstrijd/20386
DTSTAMP:20260420T203349Z
SUMMARY:Mixed 5 - Con Brio 1
DESCRIPTION:Baan 14\, Afdeling I-klasse 
DTSTART:20190217T111500
DTEND:20190217T130000
LOCATION:City Resort Helmond
ATTACH;FMTTYPE=text/plain:https://hbb.rivio.dev/jeugd/2018/wedstrijd/20386
END:VEVENT
BEGIN:VEVENT
UID:https://hbb.rivio.dev/jeugd/2018/wedstrijd/20439
DTSTAMP:20260420T203349Z
SUMMARY:Mixed 8 - Mixed 5
DESCRIPTION:Baan 13\, Afdeling I-klasse 
DTSTART:20190331T093000
DTEND:20190331T111500
LOCATION:City Resort Helmond
ATTACH;FMTTYPE=text/plain:https://hbb.rivio.dev/jeugd/2018/wedstrijd/20439
END:VEVENT
BEGIN:VEVENT
UID:https://hbb.rivio.dev/jeugd/2018/wedstrijd/20445
DTSTAMP:20260420T203349Z
SUMMARY:Mixed 7 - Mixed 5
DESCRIPTION:Baan 13\, Afdeling I-klasse 
DTSTART:20190331T111500
DTEND:20190331T130000
LOCATION:City Resort Helmond
ATTACH;FMTTYPE=text/plain:https://hbb.rivio.dev/jeugd/2018/wedstrijd/20445
END:VEVENT
BEGIN:VEVENT
UID:https://hbb.rivio.dev/jeugd/2018/wedstrijd/20472
DTSTAMP:20260420T203349Z
SUMMARY:Mixed 5 - Phoenix 6
DESCRIPTION:Baan 9\, Afdeling I-klasse 
DTSTART:20190407T111500
DTEND:20190407T130000
LOCATION:City Resort Helmond
ATTACH;FMTTYPE=text/plain:https://hbb.rivio.dev/jeugd/2018/wedstrijd/20472
END:VEVENT
BEGIN:VTIMEZONE
TZID:Europe/Amsterdam
BEGIN:STANDARD
DTSTART:20180101T000000
TZNAME:CET
TZOFFSETTO:+0100
TZOFFSETFROM:+0100
END:STANDARD
BEGIN:DAYLIGHT
DTSTART:20180325T030000
TZNAME:CEST
TZOFFSETTO:+0200
TZOFFSETFROM:+0100
END:DAYLIGHT
BEGIN:STANDARD
DTSTART:20181028T020000
TZNAME:CET
TZOFFSETTO:+0100
TZOFFSETFROM:+0200
END:STANDARD
BEGIN:DAYLIGHT
DTSTART:20190331T030000
TZNAME:CEST
TZOFFSETTO:+0200
TZOFFSETFROM:+0100
END:DAYLIGHT
BEGIN:STANDARD
DTSTART:20191027T020000
TZNAME:CET
TZOFFSETTO:+0100
TZOFFSETFROM:+0200
END:STANDARD
END:VTIMEZONE
END:VCALENDAR
