BEGIN:VCALENDAR
PRODID:-//eluceo/ical//2.0/EN
VERSION:2.0
CALSCALE:GREGORIAN
BEGIN:VEVENT
UID:https://hbb.rivio.dev/jeugd/2018/wedstrijd/20480
DTSTAMP:20260420T165518Z
SUMMARY:Mixed 3 - Someren 1
DESCRIPTION:Baan 14\, Afdeling C-klasse 
DTSTART:20180916T093000
DTEND:20180916T111500
LOCATION:City Resort Helmond
ATTACH;FMTTYPE=text/plain:https://hbb.rivio.dev/jeugd/2018/wedstrijd/20480
END:VEVENT
BEGIN:VEVENT
UID:https://hbb.rivio.dev/jeugd/2018/wedstrijd/20483
DTSTAMP:20260420T165518Z
SUMMARY:Phoenix 1 - Mixed 3
DESCRIPTION:Baan 13\, Afdeling C-klasse 
DTSTART:20180916T111500
DTEND:20180916T130000
LOCATION:City Resort Helmond
ATTACH;FMTTYPE=text/plain:https://hbb.rivio.dev/jeugd/2018/wedstrijd/20483
END:VEVENT
BEGIN:VEVENT
UID:https://hbb.rivio.dev/jeugd/2018/wedstrijd/20494
DTSTAMP:20260420T165518Z
SUMMARY:Mixed 3 - Phoenix 2
DESCRIPTION:Baan 14\, Afdeling C-klasse 
DTSTART:20180930T093000
DTEND:20180930T111500
LOCATION:City Resort Helmond
ATTACH;FMTTYPE=text/plain:https://hbb.rivio.dev/jeugd/2018/wedstrijd/20494
END:VEVENT
BEGIN:VEVENT
UID:https://hbb.rivio.dev/jeugd/2018/wedstrijd/20497
DTSTAMP:20260420T165518Z
SUMMARY:Bakel 5 - Mixed 3
DESCRIPTION:Baan 13\, Afdeling D-klasse 
DTSTART:20180930T111500
DTEND:20180930T130000
LOCATION:City Resort Helmond
ATTACH;FMTTYPE=text/plain:https://hbb.rivio.dev/jeugd/2018/wedstrijd/20497
END:VEVENT
BEGIN:VEVENT
UID:https://hbb.rivio.dev/jeugd/2018/wedstrijd/20512
DTSTAMP:20260420T165518Z
SUMMARY:Mierlo 6 - Mixed 3
DESCRIPTION:Baan 3\, Afdeling C-klasse 
DTSTART:20181111T093000
DTEND:20181111T111500
LOCATION:City Resort Helmond
ATTACH;FMTTYPE=text/plain:https://hbb.rivio.dev/jeugd/2018/wedstrijd/20512
END:VEVENT
BEGIN:VEVENT
UID:https://hbb.rivio.dev/jeugd/2018/wedstrijd/20515
DTSTAMP:20260420T165518Z
SUMMARY:Mierlo 5 - Mixed 3
DESCRIPTION:Baan 2\, Afdeling C-klasse 
DTSTART:20181111T111500
DTEND:20181111T130000
LOCATION:City Resort Helmond
ATTACH;FMTTYPE=text/plain:https://hbb.rivio.dev/jeugd/2018/wedstrijd/20515
END:VEVENT
BEGIN:VEVENT
UID:https://hbb.rivio.dev/jeugd/2018/wedstrijd/20520
DTSTAMP:20260420T165518Z
SUMMARY:Bakel 4 - Mixed 3
DESCRIPTION:Baan 12\, Afdeling D-klasse 
DTSTART:20181125T093000
DTEND:20181125T111500
LOCATION:City Resort Helmond
ATTACH;FMTTYPE=text/plain:https://hbb.rivio.dev/jeugd/2018/wedstrijd/20520
END:VEVENT
BEGIN:VEVENT
UID:https://hbb.rivio.dev/jeugd/2018/wedstrijd/22713
DTSTAMP:20260420T165518Z
SUMMARY:Phoenix 1 - Mixed 3
DESCRIPTION:Baan 12\, Afdeling C-klasse 
DTSTART:20190120T093000
DTEND:20190120T111500
LOCATION:City Resort Helmond
ATTACH;FMTTYPE=text/plain:https://hbb.rivio.dev/jeugd/2018/wedstrijd/22713
END:VEVENT
BEGIN:VEVENT
UID:https://hbb.rivio.dev/jeugd/2018/wedstrijd/22715
DTSTAMP:20260420T165518Z
SUMMARY:Mierlo 6 - Mixed 3
DESCRIPTION:Baan 12\, Afdeling C-klasse 
DTSTART:20190120T111500
DTEND:20190120T130000
LOCATION:City Resort Helmond
ATTACH;FMTTYPE=text/plain:https://hbb.rivio.dev/jeugd/2018/wedstrijd/22715
END:VEVENT
BEGIN:VEVENT
UID:https://hbb.rivio.dev/jeugd/2018/wedstrijd/22719
DTSTAMP:20260420T165518Z
SUMMARY:Mixed 3 - Phoenix 1
DESCRIPTION:Baan 4\, Afdeling C-klasse 
DTSTART:20190210T111500
DTEND:20190210T130000
LOCATION:City Resort Helmond
ATTACH;FMTTYPE=text/plain:https://hbb.rivio.dev/jeugd/2018/wedstrijd/22719
END:VEVENT
BEGIN:VEVENT
UID:https://hbb.rivio.dev/jeugd/2018/wedstrijd/22716
DTSTAMP:20260420T165518Z
SUMMARY:Mierlo 5 - Mixed 3
DESCRIPTION:Baan 3\, Afdeling C-klasse 
DTSTART:20190210T093000
DTEND:20190210T111500
LOCATION:City Resort Helmond
ATTACH;FMTTYPE=text/plain:https://hbb.rivio.dev/jeugd/2018/wedstrijd/22716
END:VEVENT
BEGIN:VEVENT
UID:https://hbb.rivio.dev/jeugd/2018/wedstrijd/22725
DTSTAMP:20260420T165518Z
SUMMARY:Mixed 3 - Mierlo 6
DESCRIPTION:Baan 15\, Afdeling C-klasse 
DTSTART:20190224T093000
DTEND:20190224T111500
LOCATION:City Resort Helmond
ATTACH;FMTTYPE=text/plain:https://hbb.rivio.dev/jeugd/2018/wedstrijd/22725
END:VEVENT
BEGIN:VEVENT
UID:https://hbb.rivio.dev/jeugd/2018/wedstrijd/22726
DTSTAMP:20260420T165518Z
SUMMARY:Mixed 3 - Mierlo 5
DESCRIPTION:Baan 10\, Afdeling C-klasse 
DTSTART:20190224T111500
DTEND:20190224T130000
LOCATION:City Resort Helmond
ATTACH;FMTTYPE=text/plain:https://hbb.rivio.dev/jeugd/2018/wedstrijd/22726
END:VEVENT
BEGIN:VTIMEZONE
TZID:Europe/Amsterdam
BEGIN:STANDARD
DTSTART:20180101T000000
TZNAME:CET
TZOFFSETTO:+0100
TZOFFSETFROM:+0100
END:STANDARD
BEGIN:DAYLIGHT
DTSTART:20180325T030000
TZNAME:CEST
TZOFFSETTO:+0200
TZOFFSETFROM:+0100
END:DAYLIGHT
BEGIN:STANDARD
DTSTART:20181028T020000
TZNAME:CET
TZOFFSETTO:+0100
TZOFFSETFROM:+0200
END:STANDARD
BEGIN:DAYLIGHT
DTSTART:20190331T030000
TZNAME:CEST
TZOFFSETTO:+0200
TZOFFSETFROM:+0100
END:DAYLIGHT
BEGIN:STANDARD
DTSTART:20191027T020000
TZNAME:CET
TZOFFSETTO:+0100
TZOFFSETFROM:+0200
END:STANDARD
END:VTIMEZONE
END:VCALENDAR
