BEGIN:VCALENDAR
PRODID:-//eluceo/ical//2.0/EN
VERSION:2.0
CALSCALE:GREGORIAN
BEGIN:VEVENT
UID:https://hbb.rivio.dev/jeugd/2018/wedstrijd/20186
DTSTAMP:20260420T190433Z
SUMMARY:Mixed 1 - Mixed 2
DESCRIPTION:Baan 4\, Afdeling B-klasse 
DTSTART:20180916T093000
DTEND:20180916T111500
LOCATION:City Resort Helmond
ATTACH;FMTTYPE=text/plain:https://hbb.rivio.dev/jeugd/2018/wedstrijd/20186
END:VEVENT
BEGIN:VEVENT
UID:https://hbb.rivio.dev/jeugd/2018/wedstrijd/20488
DTSTAMP:20260420T190433Z
SUMMARY:Mierlo 4 - Mixed 1
DESCRIPTION:Baan 2\, Afdeling B-klasse 
DTSTART:20180930T093000
DTEND:20180930T111500
LOCATION:City Resort Helmond
ATTACH;FMTTYPE=text/plain:https://hbb.rivio.dev/jeugd/2018/wedstrijd/20488
END:VEVENT
BEGIN:VEVENT
UID:https://hbb.rivio.dev/jeugd/2018/wedstrijd/20238
DTSTAMP:20260420T190433Z
SUMMARY:Mixed 1 - Mierlo 3
DESCRIPTION:Baan 4\, Afdeling B-klasse 
DTSTART:20181028T093000
DTEND:20181028T111500
LOCATION:City Resort Helmond
ATTACH;FMTTYPE=text/plain:https://hbb.rivio.dev/jeugd/2018/wedstrijd/20238
END:VEVENT
BEGIN:VEVENT
UID:https://hbb.rivio.dev/jeugd/2018/wedstrijd/20254
DTSTAMP:20260420T190433Z
SUMMARY:Mixed 1 - BCV '73 2
DESCRIPTION:Baan 15\, Afdeling B-klasse 
DTSTART:20181111T093000
DTEND:20181111T111500
LOCATION:City Resort Helmond
ATTACH;FMTTYPE=text/plain:https://hbb.rivio.dev/jeugd/2018/wedstrijd/20254
END:VEVENT
BEGIN:VEVENT
UID:https://hbb.rivio.dev/jeugd/2018/wedstrijd/20265
DTSTAMP:20260420T190433Z
SUMMARY:Bakel 3 - Mixed 1
DESCRIPTION:Baan 10\, Afdeling B-klasse 
DTSTART:20181118T093000
DTEND:20181118T111500
LOCATION:City Resort Helmond
ATTACH;FMTTYPE=text/plain:https://hbb.rivio.dev/jeugd/2018/wedstrijd/20265
END:VEVENT
BEGIN:VEVENT
UID:https://hbb.rivio.dev/jeugd/2018/wedstrijd/20307
DTSTAMP:20260420T190433Z
SUMMARY:Mixed 1 - BCAB 1
DESCRIPTION:Baan 3\, Afdeling B-klasse 
DTSTART:20190113T093000
DTEND:20190113T111500
LOCATION:City Resort Helmond
ATTACH;FMTTYPE=text/plain:https://hbb.rivio.dev/jeugd/2018/wedstrijd/20307
END:VEVENT
BEGIN:VEVENT
UID:https://hbb.rivio.dev/jeugd/2018/wedstrijd/20321
DTSTAMP:20260420T190433Z
SUMMARY:Mixed 2 - Mixed 1
DESCRIPTION:Baan 4\, Afdeling B-klasse 
DTSTART:20190120T093000
DTEND:20190120T111500
LOCATION:City Resort Helmond
ATTACH;FMTTYPE=text/plain:https://hbb.rivio.dev/jeugd/2018/wedstrijd/20321
END:VEVENT
BEGIN:VEVENT
UID:https://hbb.rivio.dev/jeugd/2018/wedstrijd/20332
DTSTAMP:20260420T190433Z
SUMMARY:Mixed 1 - Mierlo 4
DESCRIPTION:Baan 4\, Afdeling B-klasse 
DTSTART:20190203T093000
DTEND:20190203T111500
LOCATION:City Resort Helmond
ATTACH;FMTTYPE=text/plain:https://hbb.rivio.dev/jeugd/2018/wedstrijd/20332
END:VEVENT
BEGIN:VEVENT
UID:https://hbb.rivio.dev/jeugd/2018/wedstrijd/20371
DTSTAMP:20260420T190433Z
SUMMARY:Mierlo 3 - Mixed 1
DESCRIPTION:Baan 2\, Afdeling B-klasse 
DTSTART:20190217T093000
DTEND:20190217T111500
LOCATION:City Resort Helmond
ATTACH;FMTTYPE=text/plain:https://hbb.rivio.dev/jeugd/2018/wedstrijd/20371
END:VEVENT
BEGIN:VEVENT
UID:https://hbb.rivio.dev/jeugd/2018/wedstrijd/20396
DTSTAMP:20260420T190433Z
SUMMARY:BCV '73 2 - Mixed 1
DESCRIPTION:Baan 4\, Afdeling B-klasse 
DTSTART:20190224T093000
DTEND:20190224T111500
LOCATION:City Resort Helmond
ATTACH;FMTTYPE=text/plain:https://hbb.rivio.dev/jeugd/2018/wedstrijd/20396
END:VEVENT
BEGIN:VEVENT
UID:https://hbb.rivio.dev/jeugd/2018/wedstrijd/20412
DTSTAMP:20260420T190433Z
SUMMARY:Mixed 1 - Bakel 3
DESCRIPTION:Baan 5\, Afdeling B-klasse 
DTSTART:20190317T093000
DTEND:20190317T111500
LOCATION:City Resort Helmond
ATTACH;FMTTYPE=text/plain:https://hbb.rivio.dev/jeugd/2018/wedstrijd/20412
END:VEVENT
BEGIN:VEVENT
UID:https://hbb.rivio.dev/jeugd/2018/wedstrijd/20454
DTSTAMP:20260420T190433Z
SUMMARY:BCAB 1 - Mixed 1
DESCRIPTION:Baan 3\, Afdeling B-klasse 
DTSTART:20190407T093000
DTEND:20190407T111500
LOCATION:City Resort Helmond
ATTACH;FMTTYPE=text/plain:https://hbb.rivio.dev/jeugd/2018/wedstrijd/20454
END:VEVENT
BEGIN:VTIMEZONE
TZID:Europe/Amsterdam
BEGIN:STANDARD
DTSTART:20180101T000000
TZNAME:CET
TZOFFSETTO:+0100
TZOFFSETFROM:+0100
END:STANDARD
BEGIN:DAYLIGHT
DTSTART:20180325T030000
TZNAME:CEST
TZOFFSETTO:+0200
TZOFFSETFROM:+0100
END:DAYLIGHT
BEGIN:STANDARD
DTSTART:20181028T020000
TZNAME:CET
TZOFFSETTO:+0100
TZOFFSETFROM:+0200
END:STANDARD
BEGIN:DAYLIGHT
DTSTART:20190331T030000
TZNAME:CEST
TZOFFSETTO:+0200
TZOFFSETFROM:+0100
END:DAYLIGHT
BEGIN:STANDARD
DTSTART:20191027T020000
TZNAME:CET
TZOFFSETTO:+0100
TZOFFSETFROM:+0200
END:STANDARD
END:VTIMEZONE
END:VCALENDAR
