BEGIN:VCALENDAR
PRODID:-//eluceo/ical//2.0/EN
VERSION:2.0
CALSCALE:GREGORIAN
BEGIN:VEVENT
UID:https://hbb.rivio.dev/senioren/2018/wedstrijd/22188
DTSTAMP:20260420T165433Z
SUMMARY:Mierlo 10 - Mierlo 12
DESCRIPTION:Baan 1\, Wedstrijdnummer 231\, Afdeling 4e klasse II
DTSTART:20180919T200000
DTEND:20180919T230000
LOCATION:City Resort Helmond
ATTACH;FMTTYPE=text/plain:https://hbb.rivio.dev/senioren/2018/wedstrijd/221
 88
END:VEVENT
BEGIN:VEVENT
UID:https://hbb.rivio.dev/senioren/2018/wedstrijd/22216
DTSTAMP:20260420T165433Z
SUMMARY:Mierlo 12 - Ganzeveer 4
DESCRIPTION:Baan 13\, Wedstrijdnummer 235\, Afdeling 4e klasse II
DTSTART:20180926T200000
DTEND:20180926T230000
LOCATION:City Resort Helmond
ATTACH;FMTTYPE=text/plain:https://hbb.rivio.dev/senioren/2018/wedstrijd/222
 16
END:VEVENT
BEGIN:VEVENT
UID:https://hbb.rivio.dev/senioren/2018/wedstrijd/22253
DTSTAMP:20260420T165433Z
SUMMARY:Mixed 9 - Mierlo 12
DESCRIPTION:Baan 3\, Wedstrijdnummer 240\, Afdeling 4e klasse II
DTSTART:20181010T200000
DTEND:20181010T230000
LOCATION:City Resort Helmond
ATTACH;FMTTYPE=text/plain:https://hbb.rivio.dev/senioren/2018/wedstrijd/222
 53
END:VEVENT
BEGIN:VEVENT
UID:https://hbb.rivio.dev/senioren/2018/wedstrijd/22278
DTSTAMP:20260420T165433Z
SUMMARY:Mierlo 12 - BC '85 3
DESCRIPTION:Baan 12\, Wedstrijdnummer 244\, Afdeling 4e klasse II
DTSTART:20181024T200000
DTEND:20181024T230000
LOCATION:City Resort Helmond
ATTACH;FMTTYPE=text/plain:https://hbb.rivio.dev/senioren/2018/wedstrijd/222
 78
END:VEVENT
BEGIN:VEVENT
UID:https://hbb.rivio.dev/senioren/2018/wedstrijd/22354
DTSTAMP:20260420T165433Z
SUMMARY:Never Down 3 - Mierlo 12
DESCRIPTION:Baan 12\, Wedstrijdnummer 3031\, Afdeling 4e klasse I
DTSTART:20181115T200000
DTEND:20181115T230000
LOCATION:City Resort Helmond
ATTACH;FMTTYPE=text/plain:https://hbb.rivio.dev/senioren/2018/wedstrijd/223
 54
END:VEVENT
BEGIN:VEVENT
UID:https://hbb.rivio.dev/senioren/2018/wedstrijd/22362
DTSTAMP:20260420T165433Z
SUMMARY:Smashing Bruang 3 - Mierlo 12
DESCRIPTION:Baan 5\, Wedstrijdnummer 249\, Afdeling 4e klasse II
DTSTART:20181121T200000
DTEND:20181121T230000
LOCATION:City Resort Helmond
ATTACH;FMTTYPE=text/plain:https://hbb.rivio.dev/senioren/2018/wedstrijd/223
 62
END:VEVENT
BEGIN:VEVENT
UID:https://hbb.rivio.dev/senioren/2018/wedstrijd/22404
DTSTAMP:20260420T165433Z
SUMMARY:Mierlo 12 - RBC 3
DESCRIPTION:Baan 5\, Wedstrijdnummer 253\, Afdeling 4e klasse II
DTSTART:20181212T200000
DTEND:20181212T230000
LOCATION:City Resort Helmond
ATTACH;FMTTYPE=text/plain:https://hbb.rivio.dev/senioren/2018/wedstrijd/224
 04
END:VEVENT
BEGIN:VEVENT
UID:https://hbb.rivio.dev/senioren/2018/wedstrijd/22462
DTSTAMP:20260420T165433Z
SUMMARY:Someren 5 - Mierlo 12
DESCRIPTION:Baan 13\, Wedstrijdnummer 258\, Afdeling 4e klasse II
DTSTART:20190117T200000
DTEND:20190117T230000
LOCATION:City Resort Helmond
ATTACH;FMTTYPE=text/plain:https://hbb.rivio.dev/senioren/2018/wedstrijd/224
 62
END:VEVENT
BEGIN:VEVENT
UID:https://hbb.rivio.dev/senioren/2018/wedstrijd/22486
DTSTAMP:20260420T165433Z
SUMMARY:Mierlo 12 - Mierlo 10
DESCRIPTION:Baan 1\, Wedstrijdnummer 1186\, Afdeling 4e klasse II
DTSTART:20190130T200000
DTEND:20190130T230000
LOCATION:City Resort Helmond
ATTACH;FMTTYPE=text/plain:https://hbb.rivio.dev/senioren/2018/wedstrijd/224
 86
END:VEVENT
BEGIN:VEVENT
UID:https://hbb.rivio.dev/senioren/2018/wedstrijd/22511
DTSTAMP:20260420T165433Z
SUMMARY:Ganzeveer 4 - Mierlo 12
DESCRIPTION:Baan 5\, Wedstrijdnummer 1190\, Afdeling 4e klasse II
DTSTART:20190206T200000
DTEND:20190206T230000
LOCATION:City Resort Helmond
ATTACH;FMTTYPE=text/plain:https://hbb.rivio.dev/senioren/2018/wedstrijd/225
 11
END:VEVENT
BEGIN:VEVENT
UID:https://hbb.rivio.dev/senioren/2018/wedstrijd/22553
DTSTAMP:20260420T165433Z
SUMMARY:Mierlo 12 - Mixed 9
DESCRIPTION:Baan 12\, Wedstrijdnummer 1195\, Afdeling 4e klasse II
DTSTART:20190220T200000
DTEND:20190220T230000
LOCATION:City Resort Helmond
ATTACH;FMTTYPE=text/plain:https://hbb.rivio.dev/senioren/2018/wedstrijd/225
 53
END:VEVENT
BEGIN:VEVENT
UID:https://hbb.rivio.dev/senioren/2018/wedstrijd/22588
DTSTAMP:20260420T165433Z
SUMMARY:BC '85 3 - Mierlo 12
DESCRIPTION:Baan 2\, Wedstrijdnummer 1199\, Afdeling 4e klasse II
DTSTART:20190313T200000
DTEND:20190313T230000
LOCATION:City Resort Helmond
ATTACH;FMTTYPE=text/plain:https://hbb.rivio.dev/senioren/2018/wedstrijd/225
 88
END:VEVENT
BEGIN:VEVENT
UID:https://hbb.rivio.dev/senioren/2018/wedstrijd/22612
DTSTAMP:20260420T165433Z
SUMMARY:Mierlo 12 - Smashing Bruang 3
DESCRIPTION:Baan 14\, Wedstrijdnummer 1204\, Afdeling 4e klasse II
DTSTART:20190320T200000
DTEND:20190320T230000
LOCATION:City Resort Helmond
ATTACH;FMTTYPE=text/plain:https://hbb.rivio.dev/senioren/2018/wedstrijd/226
 12
END:VEVENT
BEGIN:VEVENT
UID:https://hbb.rivio.dev/senioren/2018/wedstrijd/22651
DTSTAMP:20260420T165433Z
SUMMARY:RBC 3 - Mierlo 12
DESCRIPTION:Baan 8\, Wedstrijdnummer 1208\, Afdeling 4e klasse II
DTSTART:20190418T200000
DTEND:20190418T230000
LOCATION:City Resort Helmond
ATTACH;FMTTYPE=text/plain:https://hbb.rivio.dev/senioren/2018/wedstrijd/226
 51
END:VEVENT
BEGIN:VEVENT
UID:https://hbb.rivio.dev/senioren/2018/wedstrijd/22671
DTSTAMP:20260420T165433Z
SUMMARY:Mierlo 12 - Someren 5
DESCRIPTION:Baan 13\, Wedstrijdnummer 1213\, Afdeling 4e klasse II
DTSTART:20190516T200000
DTEND:20190516T230000
LOCATION:City Resort Helmond
ATTACH;FMTTYPE=text/plain:https://hbb.rivio.dev/senioren/2018/wedstrijd/226
 71
END:VEVENT
BEGIN:VTIMEZONE
TZID:Europe/Amsterdam
BEGIN:STANDARD
DTSTART:20180101T000000
TZNAME:CET
TZOFFSETTO:+0100
TZOFFSETFROM:+0100
END:STANDARD
BEGIN:DAYLIGHT
DTSTART:20180325T030000
TZNAME:CEST
TZOFFSETTO:+0200
TZOFFSETFROM:+0100
END:DAYLIGHT
BEGIN:STANDARD
DTSTART:20181028T020000
TZNAME:CET
TZOFFSETTO:+0100
TZOFFSETFROM:+0200
END:STANDARD
BEGIN:DAYLIGHT
DTSTART:20190331T030000
TZNAME:CEST
TZOFFSETTO:+0200
TZOFFSETFROM:+0100
END:DAYLIGHT
BEGIN:STANDARD
DTSTART:20191027T020000
TZNAME:CET
TZOFFSETTO:+0100
TZOFFSETFROM:+0200
END:STANDARD
END:VTIMEZONE
END:VCALENDAR
