BEGIN:VCALENDAR
PRODID:-//eluceo/ical//2.0/EN
VERSION:2.0
CALSCALE:GREGORIAN
BEGIN:VEVENT
UID:https://hbb.rivio.dev/senioren/2018/wedstrijd/22170
DTSTAMP:20260420T202202Z
SUMMARY:Mierlo 11 - Phoenix 3
DESCRIPTION:Baan 4\, Wedstrijdnummer 206\, Afdeling 4e klasse I
DTSTART:20180912T200000
DTEND:20180912T230000
LOCATION:City Resort Helmond
ATTACH;FMTTYPE=text/plain:https://hbb.rivio.dev/senioren/2018/wedstrijd/221
 70
END:VEVENT
BEGIN:VEVENT
UID:https://hbb.rivio.dev/senioren/2018/wedstrijd/22193
DTSTAMP:20260420T202202Z
SUMMARY:Gemert 4 - Mierlo 11
DESCRIPTION:Baan 11\, Wedstrijdnummer 209\, Afdeling 4e klasse I
DTSTART:20180919T200000
DTEND:20180919T230000
LOCATION:City Resort Helmond
ATTACH;FMTTYPE=text/plain:https://hbb.rivio.dev/senioren/2018/wedstrijd/221
 93
END:VEVENT
BEGIN:VEVENT
UID:https://hbb.rivio.dev/senioren/2018/wedstrijd/22234
DTSTAMP:20260420T202202Z
SUMMARY:Mierlo 11 - Con Brio 7
DESCRIPTION:Baan 5\, Wedstrijdnummer 213\, Afdeling 4e klasse I
DTSTART:20181003T200000
DTEND:20181003T230000
LOCATION:City Resort Helmond
ATTACH;FMTTYPE=text/plain:https://hbb.rivio.dev/senioren/2018/wedstrijd/222
 34
END:VEVENT
BEGIN:VEVENT
UID:https://hbb.rivio.dev/senioren/2018/wedstrijd/22292
DTSTAMP:20260420T202202Z
SUMMARY:Never Down 3 - Mierlo 11
DESCRIPTION:Baan 15\, Wedstrijdnummer 216\, Afdeling 4e klasse I
DTSTART:20181025T200000
DTEND:20181025T230000
LOCATION:City Resort Helmond
ATTACH;FMTTYPE=text/plain:https://hbb.rivio.dev/senioren/2018/wedstrijd/222
 92
END:VEVENT
BEGIN:VEVENT
UID:https://hbb.rivio.dev/senioren/2018/wedstrijd/22351
DTSTAMP:20260420T202202Z
SUMMARY:Mierlo 11 - RBC 3
DESCRIPTION:Baan 5\, Wedstrijdnummer 3028\, Afdeling 4e klasse I
DTSTART:20181115T200000
DTEND:20181115T230000
LOCATION:City Resort Helmond
ATTACH;FMTTYPE=text/plain:https://hbb.rivio.dev/senioren/2018/wedstrijd/223
 51
END:VEVENT
BEGIN:VEVENT
UID:https://hbb.rivio.dev/senioren/2018/wedstrijd/22368
DTSTAMP:20260420T202202Z
SUMMARY:Mierlo 11 - Heiakker 1
DESCRIPTION:Baan 1\, Wedstrijdnummer 220\, Afdeling 4e klasse I
DTSTART:20181122T200000
DTEND:20181122T230000
LOCATION:City Resort Helmond
ATTACH;FMTTYPE=text/plain:https://hbb.rivio.dev/senioren/2018/wedstrijd/223
 68
END:VEVENT
BEGIN:VEVENT
UID:https://hbb.rivio.dev/senioren/2018/wedstrijd/22379
DTSTAMP:20260420T202202Z
SUMMARY:Dommelen 4 - Mierlo 11
DESCRIPTION:Baan 1\, Wedstrijdnummer 223\, Afdeling 4e klasse I
DTSTART:20181128T200000
DTEND:20181128T230000
LOCATION:City Resort Helmond
ATTACH;FMTTYPE=text/plain:https://hbb.rivio.dev/senioren/2018/wedstrijd/223
 79
END:VEVENT
BEGIN:VEVENT
UID:https://hbb.rivio.dev/senioren/2018/wedstrijd/22409
DTSTAMP:20260420T202202Z
SUMMARY:Mierlo 11 - Mixed 10
DESCRIPTION:Baan 15\, Wedstrijdnummer 227\, Afdeling 4e klasse I
DTSTART:20181212T200000
DTEND:20181212T230000
LOCATION:City Resort Helmond
ATTACH;FMTTYPE=text/plain:https://hbb.rivio.dev/senioren/2018/wedstrijd/224
 09
END:VEVENT
BEGIN:VEVENT
UID:https://hbb.rivio.dev/senioren/2018/wedstrijd/22469
DTSTAMP:20260420T202202Z
SUMMARY:Phoenix 3 - Mierlo 11
DESCRIPTION:Baan 5\, Wedstrijdnummer 1161\, Afdeling 4e klasse I
DTSTART:20190123T200000
DTEND:20190123T230000
LOCATION:City Resort Helmond
ATTACH;FMTTYPE=text/plain:https://hbb.rivio.dev/senioren/2018/wedstrijd/224
 69
END:VEVENT
BEGIN:VEVENT
UID:https://hbb.rivio.dev/senioren/2018/wedstrijd/22492
DTSTAMP:20260420T202202Z
SUMMARY:Mierlo 11 - Gemert 4
DESCRIPTION:Baan 12\, Wedstrijdnummer 1164\, Afdeling 4e klasse I
DTSTART:20190130T200000
DTEND:20190130T230000
LOCATION:City Resort Helmond
ATTACH;FMTTYPE=text/plain:https://hbb.rivio.dev/senioren/2018/wedstrijd/224
 92
END:VEVENT
BEGIN:VEVENT
UID:https://hbb.rivio.dev/senioren/2018/wedstrijd/22530
DTSTAMP:20260420T202202Z
SUMMARY:Con Brio 7 - Mierlo 11
DESCRIPTION:Baan 3\, Wedstrijdnummer 1168\, Afdeling 4e klasse I
DTSTART:20190213T200000
DTEND:20190213T230000
LOCATION:City Resort Helmond
ATTACH;FMTTYPE=text/plain:https://hbb.rivio.dev/senioren/2018/wedstrijd/225
 30
END:VEVENT
BEGIN:VEVENT
UID:https://hbb.rivio.dev/senioren/2018/wedstrijd/22598
DTSTAMP:20260420T202202Z
SUMMARY:Mierlo 11 - Never Down 3
DESCRIPTION:Baan 2\, Wedstrijdnummer 1171\, Afdeling 4e klasse I
DTSTART:20190314T200000
DTEND:20190314T230000
LOCATION:City Resort Helmond
ATTACH;FMTTYPE=text/plain:https://hbb.rivio.dev/senioren/2018/wedstrijd/225
 98
END:VEVENT
BEGIN:VEVENT
UID:https://hbb.rivio.dev/senioren/2018/wedstrijd/22627
DTSTAMP:20260420T202202Z
SUMMARY:Heiakker 1 - Mierlo 11
DESCRIPTION:Baan 1\, Wedstrijdnummer 1175\, Afdeling 4e klasse I
DTSTART:20190404T200000
DTEND:20190404T230000
LOCATION:City Resort Helmond
ATTACH;FMTTYPE=text/plain:https://hbb.rivio.dev/senioren/2018/wedstrijd/226
 27
END:VEVENT
BEGIN:VEVENT
UID:https://hbb.rivio.dev/senioren/2018/wedstrijd/22641
DTSTAMP:20260420T202202Z
SUMMARY:Mierlo 11 - Dommelen 4
DESCRIPTION:Baan 6\, Wedstrijdnummer 1178\, Afdeling 4e klasse I
DTSTART:20190417T200000
DTEND:20190417T230000
LOCATION:City Resort Helmond
ATTACH;FMTTYPE=text/plain:https://hbb.rivio.dev/senioren/2018/wedstrijd/226
 41
END:VEVENT
BEGIN:VEVENT
UID:https://hbb.rivio.dev/senioren/2018/wedstrijd/22659
DTSTAMP:20260420T202202Z
SUMMARY:Mixed 10 - Mierlo 11
DESCRIPTION:Baan 9\, Wedstrijdnummer 1182\, Afdeling 4e klasse I
DTSTART:20190515T200000
DTEND:20190515T230000
LOCATION:City Resort Helmond
ATTACH;FMTTYPE=text/plain:https://hbb.rivio.dev/senioren/2018/wedstrijd/226
 59
END:VEVENT
BEGIN:VTIMEZONE
TZID:Europe/Amsterdam
BEGIN:STANDARD
DTSTART:20180101T000000
TZNAME:CET
TZOFFSETTO:+0100
TZOFFSETFROM:+0100
END:STANDARD
BEGIN:DAYLIGHT
DTSTART:20180325T030000
TZNAME:CEST
TZOFFSETTO:+0200
TZOFFSETFROM:+0100
END:DAYLIGHT
BEGIN:STANDARD
DTSTART:20181028T020000
TZNAME:CET
TZOFFSETTO:+0100
TZOFFSETFROM:+0200
END:STANDARD
BEGIN:DAYLIGHT
DTSTART:20190331T030000
TZNAME:CEST
TZOFFSETTO:+0200
TZOFFSETFROM:+0100
END:DAYLIGHT
BEGIN:STANDARD
DTSTART:20191027T020000
TZNAME:CET
TZOFFSETTO:+0100
TZOFFSETFROM:+0200
END:STANDARD
END:VTIMEZONE
END:VCALENDAR
