BEGIN:VCALENDAR
PRODID:-//eluceo/ical//2.0/EN
VERSION:2.0
CALSCALE:GREGORIAN
BEGIN:VEVENT
UID:https://hbb.rivio.dev/senioren/2018/wedstrijd/22188
DTSTAMP:20260420T150359Z
SUMMARY:Mierlo 10 - Mierlo 12
DESCRIPTION:Baan 1\, Wedstrijdnummer 231\, Afdeling 4e klasse II
DTSTART:20180919T200000
DTEND:20180919T230000
LOCATION:City Resort Helmond
ATTACH;FMTTYPE=text/plain:https://hbb.rivio.dev/senioren/2018/wedstrijd/221
 88
END:VEVENT
BEGIN:VEVENT
UID:https://hbb.rivio.dev/senioren/2018/wedstrijd/22229
DTSTAMP:20260420T150359Z
SUMMARY:Someren 5 - Mierlo 10
DESCRIPTION:Baan 15\, Wedstrijdnummer 238\, Afdeling 4e klasse II
DTSTART:20180927T200000
DTEND:20180927T230000
LOCATION:City Resort Helmond
ATTACH;FMTTYPE=text/plain:https://hbb.rivio.dev/senioren/2018/wedstrijd/222
 29
END:VEVENT
BEGIN:VEVENT
UID:https://hbb.rivio.dev/senioren/2018/wedstrijd/22252
DTSTAMP:20260420T150359Z
SUMMARY:Ganzeveer 4 - Mierlo 10
DESCRIPTION:Baan 2\, Wedstrijdnummer 239\, Afdeling 4e klasse II
DTSTART:20181010T200000
DTEND:20181010T230000
LOCATION:City Resort Helmond
ATTACH;FMTTYPE=text/plain:https://hbb.rivio.dev/senioren/2018/wedstrijd/222
 52
END:VEVENT
BEGIN:VEVENT
UID:https://hbb.rivio.dev/senioren/2018/wedstrijd/22277
DTSTAMP:20260420T150359Z
SUMMARY:Mierlo 10 - Mixed 9
DESCRIPTION:Baan 11\, Wedstrijdnummer 243\, Afdeling 4e klasse II
DTSTART:20181024T200000
DTEND:20181024T230000
LOCATION:City Resort Helmond
ATTACH;FMTTYPE=text/plain:https://hbb.rivio.dev/senioren/2018/wedstrijd/222
 77
END:VEVENT
BEGIN:VEVENT
UID:https://hbb.rivio.dev/senioren/2018/wedstrijd/22349
DTSTAMP:20260420T150359Z
SUMMARY:Heiakker 1 - Mierlo 10
DESCRIPTION:Baan 3\, Wedstrijdnummer 3026\, Afdeling 4e klasse I
DTSTART:20181115T200000
DTEND:20181115T230000
LOCATION:City Resort Helmond
ATTACH;FMTTYPE=text/plain:https://hbb.rivio.dev/senioren/2018/wedstrijd/223
 49
END:VEVENT
BEGIN:VEVENT
UID:https://hbb.rivio.dev/senioren/2018/wedstrijd/22361
DTSTAMP:20260420T150359Z
SUMMARY:BC '85 3 - Mierlo 10
DESCRIPTION:Baan 4\, Wedstrijdnummer 248\, Afdeling 4e klasse II
DTSTART:20181121T200000
DTEND:20181121T230000
LOCATION:City Resort Helmond
ATTACH;FMTTYPE=text/plain:https://hbb.rivio.dev/senioren/2018/wedstrijd/223
 61
END:VEVENT
BEGIN:VEVENT
UID:https://hbb.rivio.dev/senioren/2018/wedstrijd/22387
DTSTAMP:20260420T150359Z
SUMMARY:Mierlo 10 - Smashing Bruang 3
DESCRIPTION:Baan 14\, Wedstrijdnummer 252\, Afdeling 4e klasse II
DTSTART:20181128T200000
DTEND:20181128T230000
LOCATION:City Resort Helmond
ATTACH;FMTTYPE=text/plain:https://hbb.rivio.dev/senioren/2018/wedstrijd/223
 87
END:VEVENT
BEGIN:VEVENT
UID:https://hbb.rivio.dev/senioren/2018/wedstrijd/22461
DTSTAMP:20260420T150359Z
SUMMARY:RBC 3 - Mierlo 10
DESCRIPTION:Baan 12\, Wedstrijdnummer 257\, Afdeling 4e klasse II
DTSTART:20190117T200000
DTEND:20190117T230000
LOCATION:City Resort Helmond
ATTACH;FMTTYPE=text/plain:https://hbb.rivio.dev/senioren/2018/wedstrijd/224
 61
END:VEVENT
BEGIN:VEVENT
UID:https://hbb.rivio.dev/senioren/2018/wedstrijd/22486
DTSTAMP:20260420T150359Z
SUMMARY:Mierlo 12 - Mierlo 10
DESCRIPTION:Baan 1\, Wedstrijdnummer 1186\, Afdeling 4e klasse II
DTSTART:20190130T200000
DTEND:20190130T230000
LOCATION:City Resort Helmond
ATTACH;FMTTYPE=text/plain:https://hbb.rivio.dev/senioren/2018/wedstrijd/224
 86
END:VEVENT
BEGIN:VEVENT
UID:https://hbb.rivio.dev/senioren/2018/wedstrijd/22544
DTSTAMP:20260420T150359Z
SUMMARY:Mierlo 10 - Someren 5
DESCRIPTION:Baan 11\, Wedstrijdnummer 1193\, Afdeling 4e klasse II
DTSTART:20190214T200000
DTEND:20190214T230000
LOCATION:City Resort Helmond
ATTACH;FMTTYPE=text/plain:https://hbb.rivio.dev/senioren/2018/wedstrijd/225
 44
END:VEVENT
BEGIN:VEVENT
UID:https://hbb.rivio.dev/senioren/2018/wedstrijd/22552
DTSTAMP:20260420T150359Z
SUMMARY:Mierlo 10 - Ganzeveer 4
DESCRIPTION:Baan 11\, Wedstrijdnummer 1194\, Afdeling 4e klasse II
DTSTART:20190220T200000
DTEND:20190220T230000
LOCATION:City Resort Helmond
ATTACH;FMTTYPE=text/plain:https://hbb.rivio.dev/senioren/2018/wedstrijd/225
 52
END:VEVENT
BEGIN:VEVENT
UID:https://hbb.rivio.dev/senioren/2018/wedstrijd/22587
DTSTAMP:20260420T150359Z
SUMMARY:Mixed 9 - Mierlo 10
DESCRIPTION:Baan 1\, Wedstrijdnummer 1198\, Afdeling 4e klasse II
DTSTART:20190313T200000
DTEND:20190313T230000
LOCATION:City Resort Helmond
ATTACH;FMTTYPE=text/plain:https://hbb.rivio.dev/senioren/2018/wedstrijd/225
 87
END:VEVENT
BEGIN:VEVENT
UID:https://hbb.rivio.dev/senioren/2018/wedstrijd/22611
DTSTAMP:20260420T150400Z
SUMMARY:Mierlo 10 - BC '85 3
DESCRIPTION:Baan 13\, Wedstrijdnummer 1203\, Afdeling 4e klasse II
DTSTART:20190320T200000
DTEND:20190320T230000
LOCATION:City Resort Helmond
ATTACH;FMTTYPE=text/plain:https://hbb.rivio.dev/senioren/2018/wedstrijd/226
 11
END:VEVENT
BEGIN:VEVENT
UID:https://hbb.rivio.dev/senioren/2018/wedstrijd/22649
DTSTAMP:20260420T150400Z
SUMMARY:Smashing Bruang 3 - Mierlo 10
DESCRIPTION:Baan 14\, Wedstrijdnummer 1207\, Afdeling 4e klasse II
DTSTART:20190417T200000
DTEND:20190417T230000
LOCATION:City Resort Helmond
ATTACH;FMTTYPE=text/plain:https://hbb.rivio.dev/senioren/2018/wedstrijd/226
 49
END:VEVENT
BEGIN:VEVENT
UID:https://hbb.rivio.dev/senioren/2018/wedstrijd/22670
DTSTAMP:20260420T150400Z
SUMMARY:Mierlo 10 - RBC 3
DESCRIPTION:Baan 12\, Wedstrijdnummer 1212\, Afdeling 4e klasse II
DTSTART:20190516T200000
DTEND:20190516T230000
LOCATION:City Resort Helmond
ATTACH;FMTTYPE=text/plain:https://hbb.rivio.dev/senioren/2018/wedstrijd/226
 70
END:VEVENT
BEGIN:VTIMEZONE
TZID:Europe/Amsterdam
BEGIN:STANDARD
DTSTART:20180101T000000
TZNAME:CET
TZOFFSETTO:+0100
TZOFFSETFROM:+0100
END:STANDARD
BEGIN:DAYLIGHT
DTSTART:20180325T030000
TZNAME:CEST
TZOFFSETTO:+0200
TZOFFSETFROM:+0100
END:DAYLIGHT
BEGIN:STANDARD
DTSTART:20181028T020000
TZNAME:CET
TZOFFSETTO:+0100
TZOFFSETFROM:+0200
END:STANDARD
BEGIN:DAYLIGHT
DTSTART:20190331T030000
TZNAME:CEST
TZOFFSETTO:+0200
TZOFFSETFROM:+0100
END:DAYLIGHT
BEGIN:STANDARD
DTSTART:20191027T020000
TZNAME:CET
TZOFFSETTO:+0100
TZOFFSETFROM:+0200
END:STANDARD
END:VTIMEZONE
END:VCALENDAR
