BEGIN:VCALENDAR
PRODID:-//eluceo/ical//2.0/EN
VERSION:2.0
CALSCALE:GREGORIAN
BEGIN:VEVENT
UID:https://hbb.rivio.dev/senioren/2018/wedstrijd/22243
DTSTAMP:20260420T151141Z
SUMMARY:Mierlo 8 - Never Down 2
DESCRIPTION:Baan 4\, Wedstrijdnummer 189\, Afdeling 3e klasse II K
DTSTART:20181004T200000
DTEND:20181004T230000
LOCATION:City Resort Helmond
ATTACH;FMTTYPE=text/plain:https://hbb.rivio.dev/senioren/2018/wedstrijd/222
 43
END:VEVENT
BEGIN:VEVENT
UID:https://hbb.rivio.dev/senioren/2018/wedstrijd/22284
DTSTAMP:20260420T151141Z
SUMMARY:Someren 4 - Mierlo 8
DESCRIPTION:Baan 3\, Wedstrijdnummer 193\, Afdeling 3e klasse II K
DTSTART:20181025T200000
DTEND:20181025T230000
LOCATION:City Resort Helmond
ATTACH;FMTTYPE=text/plain:https://hbb.rivio.dev/senioren/2018/wedstrijd/222
 84
END:VEVENT
BEGIN:VEVENT
UID:https://hbb.rivio.dev/senioren/2018/wedstrijd/22296
DTSTAMP:20260420T151141Z
SUMMARY:Mierlo 8 - Dommelen 3
DESCRIPTION:Baan 4\, Wedstrijdnummer 194\, Afdeling 3e klasse II K
DTSTART:20181031T200000
DTEND:20181031T230000
LOCATION:City Resort Helmond
ATTACH;FMTTYPE=text/plain:https://hbb.rivio.dev/senioren/2018/wedstrijd/222
 96
END:VEVENT
BEGIN:VEVENT
UID:https://hbb.rivio.dev/senioren/2018/wedstrijd/22323
DTSTAMP:20260420T151141Z
SUMMARY:Mierlo 9 - Mierlo 8
DESCRIPTION:Baan 14\, Wedstrijdnummer 3022\, Afdeling 3e klasse I
DTSTART:20181107T200000
DTEND:20181107T230000
LOCATION:City Resort Helmond
ATTACH;FMTTYPE=text/plain:https://hbb.rivio.dev/senioren/2018/wedstrijd/223
 23
END:VEVENT
BEGIN:VEVENT
UID:https://hbb.rivio.dev/senioren/2018/wedstrijd/22392
DTSTAMP:20260420T151141Z
SUMMARY:BCAB 5 - Mierlo 8
DESCRIPTION:Baan 4\, Wedstrijdnummer 198\, Afdeling 3e klasse II K
DTSTART:20181129T200000
DTEND:20181129T230000
LOCATION:City Resort Helmond
ATTACH;FMTTYPE=text/plain:https://hbb.rivio.dev/senioren/2018/wedstrijd/223
 92
END:VEVENT
BEGIN:VEVENT
UID:https://hbb.rivio.dev/senioren/2018/wedstrijd/22403
DTSTAMP:20260420T151141Z
SUMMARY:Mierlo 8 - BC '85 2
DESCRIPTION:Baan 4\, Wedstrijdnummer 202\, Afdeling 3e klasse II K
DTSTART:20181212T200000
DTEND:20181212T230000
LOCATION:City Resort Helmond
ATTACH;FMTTYPE=text/plain:https://hbb.rivio.dev/senioren/2018/wedstrijd/224
 03
END:VEVENT
BEGIN:VEVENT
UID:https://hbb.rivio.dev/senioren/2018/wedstrijd/22698
DTSTAMP:20260420T151141Z
SUMMARY:Mierlo 8 - Veldhoven 2
DESCRIPTION:Baan 10\, Wedstrijdnummer 3053\, Afdeling 3e klasse II K
DTSTART:20190109T200000
DTEND:20190109T230000
LOCATION:City Resort Helmond
ATTACH;FMTTYPE=text/plain:https://hbb.rivio.dev/senioren/2018/wedstrijd/226
 98
END:VEVENT
BEGIN:VEVENT
UID:https://hbb.rivio.dev/senioren/2018/wedstrijd/22455
DTSTAMP:20260420T151141Z
SUMMARY:Never Down 2 - Mierlo 8
DESCRIPTION:Baan 2\, Wedstrijdnummer 1144\, Afdeling 3e klasse II D
DTSTART:20190117T200000
DTEND:20190117T230000
LOCATION:City Resort Helmond
ATTACH;FMTTYPE=text/plain:https://hbb.rivio.dev/senioren/2018/wedstrijd/224
 55
END:VEVENT
BEGIN:VEVENT
UID:https://hbb.rivio.dev/senioren/2018/wedstrijd/22506
DTSTAMP:20260420T151141Z
SUMMARY:Mierlo 8 - Someren 4
DESCRIPTION:Baan 15\, Wedstrijdnummer 1148\, Afdeling 3e klasse II K
DTSTART:20190131T200000
DTEND:20190131T230000
LOCATION:City Resort Helmond
ATTACH;FMTTYPE=text/plain:https://hbb.rivio.dev/senioren/2018/wedstrijd/225
 06
END:VEVENT
BEGIN:VEVENT
UID:https://hbb.rivio.dev/senioren/2018/wedstrijd/22515
DTSTAMP:20260420T151141Z
SUMMARY:Dommelen 3 - Mierlo 8
DESCRIPTION:Baan 14\, Wedstrijdnummer 1149\, Afdeling 3e klasse II D
DTSTART:20190206T200000
DTEND:20190206T230000
LOCATION:City Resort Helmond
ATTACH;FMTTYPE=text/plain:https://hbb.rivio.dev/senioren/2018/wedstrijd/225
 15
END:VEVENT
BEGIN:VEVENT
UID:https://hbb.rivio.dev/senioren/2018/wedstrijd/22582
DTSTAMP:20260420T151141Z
SUMMARY:Mierlo 8 - BCAB 5
DESCRIPTION:Baan 11\, Wedstrijdnummer 1153\, Afdeling 3e klasse II K
DTSTART:20190228T200000
DTEND:20190228T230000
LOCATION:City Resort Helmond
ATTACH;FMTTYPE=text/plain:https://hbb.rivio.dev/senioren/2018/wedstrijd/225
 82
END:VEVENT
BEGIN:VEVENT
UID:https://hbb.rivio.dev/senioren/2018/wedstrijd/22595
DTSTAMP:20260420T151141Z
SUMMARY:BC '85 2 - Mierlo 8
DESCRIPTION:Baan 14\, Wedstrijdnummer 1157\, Afdeling 3e klasse II D
DTSTART:20190313T200000
DTEND:20190313T230000
LOCATION:City Resort Helmond
ATTACH;FMTTYPE=text/plain:https://hbb.rivio.dev/senioren/2018/wedstrijd/225
 95
END:VEVENT
BEGIN:VEVENT
UID:https://hbb.rivio.dev/senioren/2018/wedstrijd/22778
DTSTAMP:20260420T151141Z
SUMMARY:Mierlo 8 - Someren 4
DESCRIPTION:Baan 10\, Wedstrijdnummer 2033\, Afdeling 3e klasse II K
DTSTART:20190404T200000
DTEND:20190404T230000
LOCATION:City Resort Helmond
ATTACH;FMTTYPE=text/plain:https://hbb.rivio.dev/senioren/2018/wedstrijd/227
 78
END:VEVENT
BEGIN:VEVENT
UID:https://hbb.rivio.dev/senioren/2018/wedstrijd/22780
DTSTAMP:20260420T151141Z
SUMMARY:BCAB 5 - Mierlo 8
DESCRIPTION:Baan 6\, Wedstrijdnummer 2035\, Afdeling 3e klasse II K
DTSTART:20190418T200000
DTEND:20190418T230000
LOCATION:City Resort Helmond
ATTACH;FMTTYPE=text/plain:https://hbb.rivio.dev/senioren/2018/wedstrijd/227
 80
END:VEVENT
BEGIN:VTIMEZONE
TZID:Europe/Amsterdam
BEGIN:STANDARD
DTSTART:20180101T000000
TZNAME:CET
TZOFFSETTO:+0100
TZOFFSETFROM:+0100
END:STANDARD
BEGIN:DAYLIGHT
DTSTART:20180325T030000
TZNAME:CEST
TZOFFSETTO:+0200
TZOFFSETFROM:+0100
END:DAYLIGHT
BEGIN:STANDARD
DTSTART:20181028T020000
TZNAME:CET
TZOFFSETTO:+0100
TZOFFSETFROM:+0200
END:STANDARD
BEGIN:DAYLIGHT
DTSTART:20190331T030000
TZNAME:CEST
TZOFFSETTO:+0200
TZOFFSETFROM:+0100
END:DAYLIGHT
BEGIN:STANDARD
DTSTART:20191027T020000
TZNAME:CET
TZOFFSETTO:+0100
TZOFFSETFROM:+0200
END:STANDARD
END:VTIMEZONE
END:VCALENDAR
