BEGIN:VCALENDAR
PRODID:-//eluceo/ical//2.0/EN
VERSION:2.0
CALSCALE:GREGORIAN
BEGIN:VEVENT
UID:https://hbb.rivio.dev/senioren/2018/wedstrijd/22203
DTSTAMP:20260420T234114Z
SUMMARY:Mierlo 6 - Someren 2
DESCRIPTION:Baan 10\, Wedstrijdnummer 127\, Afdeling 2e klasse I
DTSTART:20180920T200000
DTEND:20180920T230000
LOCATION:City Resort Helmond
ATTACH;FMTTYPE=text/plain:https://hbb.rivio.dev/senioren/2018/wedstrijd/222
 03
END:VEVENT
BEGIN:VEVENT
UID:https://hbb.rivio.dev/senioren/2018/wedstrijd/22215
DTSTAMP:20260420T234114Z
SUMMARY:Dommelen 2 - Mierlo 6
DESCRIPTION:Baan 12\, Wedstrijdnummer 129\, Afdeling 2e klasse I
DTSTART:20180926T200000
DTEND:20180926T230000
LOCATION:City Resort Helmond
ATTACH;FMTTYPE=text/plain:https://hbb.rivio.dev/senioren/2018/wedstrijd/222
 15
END:VEVENT
BEGIN:VEVENT
UID:https://hbb.rivio.dev/senioren/2018/wedstrijd/22269
DTSTAMP:20260420T234114Z
SUMMARY:Mierlo 6 - Never Down 1
DESCRIPTION:Baan 13\, Wedstrijdnummer 132\, Afdeling 2e klasse I
DTSTART:20181011T200000
DTEND:20181011T230000
LOCATION:City Resort Helmond
ATTACH;FMTTYPE=text/plain:https://hbb.rivio.dev/senioren/2018/wedstrijd/222
 69
END:VEVENT
BEGIN:VEVENT
UID:https://hbb.rivio.dev/senioren/2018/wedstrijd/22311
DTSTAMP:20260420T234114Z
SUMMARY:Bakel 2 - Mierlo 6
DESCRIPTION:Baan 13\, Wedstrijdnummer 134\, Afdeling 2e klasse I
DTSTART:20181101T200000
DTEND:20181101T230000
LOCATION:City Resort Helmond
ATTACH;FMTTYPE=text/plain:https://hbb.rivio.dev/senioren/2018/wedstrijd/223
 11
END:VEVENT
BEGIN:VEVENT
UID:https://hbb.rivio.dev/senioren/2018/wedstrijd/22329
DTSTAMP:20260420T234114Z
SUMMARY:Mierlo 6 - Mixed 7
DESCRIPTION:Baan 5\, Wedstrijdnummer 3015\, Afdeling 2e klasse I
DTSTART:20181108T200000
DTEND:20181108T230000
LOCATION:City Resort Helmond
ATTACH;FMTTYPE=text/plain:https://hbb.rivio.dev/senioren/2018/wedstrijd/223
 29
END:VEVENT
BEGIN:VEVENT
UID:https://hbb.rivio.dev/senioren/2018/wedstrijd/22376
DTSTAMP:20260420T234114Z
SUMMARY:Mierlo 6 - Gemert 1
DESCRIPTION:Baan 13\, Wedstrijdnummer 137\, Afdeling 2e klasse I
DTSTART:20181122T200000
DTEND:20181122T230000
LOCATION:City Resort Helmond
ATTACH;FMTTYPE=text/plain:https://hbb.rivio.dev/senioren/2018/wedstrijd/223
 76
END:VEVENT
BEGIN:VEVENT
UID:https://hbb.rivio.dev/senioren/2018/wedstrijd/22695
DTSTAMP:20260420T234114Z
SUMMARY:Mierlo 7 - Mierlo 6
DESCRIPTION:Baan 4\, Wedstrijdnummer 3050\, Afdeling 2e klasse II
DTSTART:20190110T200000
DTEND:20190110T230000
LOCATION:City Resort Helmond
ATTACH;FMTTYPE=text/plain:https://hbb.rivio.dev/senioren/2018/wedstrijd/226
 95
END:VEVENT
BEGIN:VEVENT
UID:https://hbb.rivio.dev/senioren/2018/wedstrijd/22451
DTSTAMP:20260420T234114Z
SUMMARY:Ganzeveer 2 - Mierlo 6
DESCRIPTION:Baan 13\, Wedstrijdnummer 143\, Afdeling 2e klasse I
DTSTART:20190116T200000
DTEND:20190116T230000
LOCATION:City Resort Helmond
ATTACH;FMTTYPE=text/plain:https://hbb.rivio.dev/senioren/2018/wedstrijd/224
 51
END:VEVENT
BEGIN:VEVENT
UID:https://hbb.rivio.dev/senioren/2018/wedstrijd/22499
DTSTAMP:20260420T234114Z
SUMMARY:Someren 2 - Mierlo 6
DESCRIPTION:Baan 4\, Wedstrijdnummer 1082\, Afdeling 2e klasse I
DTSTART:20190131T200000
DTEND:20190131T230000
LOCATION:City Resort Helmond
ATTACH;FMTTYPE=text/plain:https://hbb.rivio.dev/senioren/2018/wedstrijd/224
 99
END:VEVENT
BEGIN:VEVENT
UID:https://hbb.rivio.dev/senioren/2018/wedstrijd/22509
DTSTAMP:20260420T234114Z
SUMMARY:Mierlo 6 - Dommelen 2
DESCRIPTION:Baan 3\, Wedstrijdnummer 1084\, Afdeling 2e klasse I
DTSTART:20190206T200000
DTEND:20190206T230000
LOCATION:City Resort Helmond
ATTACH;FMTTYPE=text/plain:https://hbb.rivio.dev/senioren/2018/wedstrijd/225
 09
END:VEVENT
BEGIN:VEVENT
UID:https://hbb.rivio.dev/senioren/2018/wedstrijd/22563
DTSTAMP:20260420T234114Z
SUMMARY:Never Down 1 - Mierlo 6
DESCRIPTION:Baan 13\, Wedstrijdnummer 1087\, Afdeling 2e klasse I
DTSTART:20190221T200000
DTEND:20190221T230000
LOCATION:City Resort Helmond
ATTACH;FMTTYPE=text/plain:https://hbb.rivio.dev/senioren/2018/wedstrijd/225
 63
END:VEVENT
BEGIN:VEVENT
UID:https://hbb.rivio.dev/senioren/2018/wedstrijd/22580
DTSTAMP:20260420T234114Z
SUMMARY:Mierlo 6 - Bakel 2
DESCRIPTION:Baan 5\, Wedstrijdnummer 1089\, Afdeling 2e klasse I
DTSTART:20190228T200000
DTEND:20190228T230000
LOCATION:City Resort Helmond
ATTACH;FMTTYPE=text/plain:https://hbb.rivio.dev/senioren/2018/wedstrijd/225
 80
END:VEVENT
BEGIN:VEVENT
UID:https://hbb.rivio.dev/senioren/2018/wedstrijd/22618
DTSTAMP:20260420T234114Z
SUMMARY:Gemert 1 - Mierlo 6
DESCRIPTION:Baan 12\, Wedstrijdnummer 1092\, Afdeling 2e klasse I
DTSTART:20190328T200000
DTEND:20190328T230000
LOCATION:City Resort Helmond
ATTACH;FMTTYPE=text/plain:https://hbb.rivio.dev/senioren/2018/wedstrijd/226
 18
END:VEVENT
BEGIN:VEVENT
UID:https://hbb.rivio.dev/senioren/2018/wedstrijd/22663
DTSTAMP:20260420T234114Z
SUMMARY:Mierlo 6 - Ganzeveer 2
DESCRIPTION:Baan 15\, Wedstrijdnummer 1098\, Afdeling 2e klasse I
DTSTART:20190515T200000
DTEND:20190515T230000
LOCATION:City Resort Helmond
ATTACH;FMTTYPE=text/plain:https://hbb.rivio.dev/senioren/2018/wedstrijd/226
 63
END:VEVENT
BEGIN:VTIMEZONE
TZID:Europe/Amsterdam
BEGIN:STANDARD
DTSTART:20180101T000000
TZNAME:CET
TZOFFSETTO:+0100
TZOFFSETFROM:+0100
END:STANDARD
BEGIN:DAYLIGHT
DTSTART:20180325T030000
TZNAME:CEST
TZOFFSETTO:+0200
TZOFFSETFROM:+0100
END:DAYLIGHT
BEGIN:STANDARD
DTSTART:20181028T020000
TZNAME:CET
TZOFFSETTO:+0100
TZOFFSETFROM:+0200
END:STANDARD
BEGIN:DAYLIGHT
DTSTART:20190331T030000
TZNAME:CEST
TZOFFSETTO:+0200
TZOFFSETFROM:+0100
END:DAYLIGHT
BEGIN:STANDARD
DTSTART:20191027T020000
TZNAME:CET
TZOFFSETTO:+0100
TZOFFSETFROM:+0200
END:STANDARD
END:VTIMEZONE
END:VCALENDAR
