BEGIN:VCALENDAR
PRODID:-//eluceo/ical//2.0/EN
VERSION:2.0
CALSCALE:GREGORIAN
BEGIN:VEVENT
UID:https://hbb.rivio.dev/senioren/2018/wedstrijd/22199
DTSTAMP:20260420T184144Z
SUMMARY:Mierlo 2 - Mierlo 3
DESCRIPTION:Baan 2\, Wedstrijdnummer 22\, Afdeling Hoofdklasse K
DTSTART:20180920T200000
DTEND:20180920T230000
LOCATION:City Resort Helmond
ATTACH;FMTTYPE=text/plain:https://hbb.rivio.dev/senioren/2018/wedstrijd/221
 99
END:VEVENT
BEGIN:VEVENT
UID:https://hbb.rivio.dev/senioren/2018/wedstrijd/22212
DTSTAMP:20260420T184144Z
SUMMARY:Phoenix 1 - Mierlo 3
DESCRIPTION:Baan 4\, Wedstrijdnummer 28\, Afdeling Hoofdklasse D
DTSTART:20180926T200000
DTEND:20180926T230000
LOCATION:City Resort Helmond
ATTACH;FMTTYPE=text/plain:https://hbb.rivio.dev/senioren/2018/wedstrijd/222
 12
END:VEVENT
BEGIN:VEVENT
UID:https://hbb.rivio.dev/senioren/2018/wedstrijd/22237
DTSTAMP:20260420T184144Z
SUMMARY:Mierlo 3 - Mierlo 4
DESCRIPTION:Baan 13\, Wedstrijdnummer 35\, Afdeling Hoofdklasse D
DTSTART:20181003T200000
DTEND:20181003T230000
LOCATION:City Resort Helmond
ATTACH;FMTTYPE=text/plain:https://hbb.rivio.dev/senioren/2018/wedstrijd/222
 37
END:VEVENT
BEGIN:VEVENT
UID:https://hbb.rivio.dev/senioren/2018/wedstrijd/22308
DTSTAMP:20260420T184144Z
SUMMARY:Mierlo 3 - Bakel 1
DESCRIPTION:Baan 10\, Wedstrijdnummer 37\, Afdeling Hoofdklasse D
DTSTART:20181101T200000
DTEND:20181101T230000
LOCATION:City Resort Helmond
ATTACH;FMTTYPE=text/plain:https://hbb.rivio.dev/senioren/2018/wedstrijd/223
 08
END:VEVENT
BEGIN:VEVENT
UID:https://hbb.rivio.dev/senioren/2018/wedstrijd/22318
DTSTAMP:20260420T184144Z
SUMMARY:Con Brio 3 - Mierlo 3
DESCRIPTION:Baan 5\, Wedstrijdnummer 3004\, Afdeling Hoofdklasse K
DTSTART:20181107T200000
DTEND:20181107T230000
LOCATION:City Resort Helmond
ATTACH;FMTTYPE=text/plain:https://hbb.rivio.dev/senioren/2018/wedstrijd/223
 18
END:VEVENT
BEGIN:VEVENT
UID:https://hbb.rivio.dev/senioren/2018/wedstrijd/22375
DTSTAMP:20260420T184144Z
SUMMARY:Mierlo 3 - Hanevoet 1
DESCRIPTION:Baan 12\, Wedstrijdnummer 44\, Afdeling Hoofdklasse D
DTSTART:20181122T200000
DTEND:20181122T230000
LOCATION:City Resort Helmond
ATTACH;FMTTYPE=text/plain:https://hbb.rivio.dev/senioren/2018/wedstrijd/223
 75
END:VEVENT
BEGIN:VEVENT
UID:https://hbb.rivio.dev/senioren/2018/wedstrijd/22406
DTSTAMP:20260420T184144Z
SUMMARY:Brabantia 1 - Mierlo 3
DESCRIPTION:Baan 12\, Wedstrijdnummer 50\, Afdeling Hoofdklasse K
DTSTART:20181212T200000
DTEND:20181212T230000
LOCATION:City Resort Helmond
ATTACH;FMTTYPE=text/plain:https://hbb.rivio.dev/senioren/2018/wedstrijd/224
 06
END:VEVENT
BEGIN:VEVENT
UID:https://hbb.rivio.dev/senioren/2018/wedstrijd/22690
DTSTAMP:20260420T184144Z
SUMMARY:Mierlo 3 - Con Brio 3
DESCRIPTION:Baan 11\, Wedstrijdnummer 3037\, Afdeling Hoofdklasse D
DTSTART:20190110T200000
DTEND:20190110T230000
LOCATION:City Resort Helmond
ATTACH;FMTTYPE=text/plain:https://hbb.rivio.dev/senioren/2018/wedstrijd/226
 90
END:VEVENT
BEGIN:VEVENT
UID:https://hbb.rivio.dev/senioren/2018/wedstrijd/22682
DTSTAMP:20260420T184144Z
SUMMARY:Con Brio 3 - Mierlo 3
DESCRIPTION:Baan 14\, Wedstrijdnummer 54\, Afdeling Hoofdklasse K
DTSTART:20190117T200000
DTEND:20190117T230000
LOCATION:City Resort Helmond
ATTACH;FMTTYPE=text/plain:https://hbb.rivio.dev/senioren/2018/wedstrijd/226
 82
END:VEVENT
BEGIN:VEVENT
UID:https://hbb.rivio.dev/senioren/2018/wedstrijd/22471
DTSTAMP:20260420T184144Z
SUMMARY:Mierlo 3 - Smashing Bruang 1
DESCRIPTION:Baan 12\, Wedstrijdnummer 58\, Afdeling Hoofdklasse D
DTSTART:20190123T200000
DTEND:20190123T230000
LOCATION:City Resort Helmond
ATTACH;FMTTYPE=text/plain:https://hbb.rivio.dev/senioren/2018/wedstrijd/224
 71
END:VEVENT
BEGIN:VEVENT
UID:https://hbb.rivio.dev/senioren/2018/wedstrijd/22508
DTSTAMP:20260420T184144Z
SUMMARY:Mierlo 3 - Mixed 2
DESCRIPTION:Baan 2\, Wedstrijdnummer 66\, Afdeling Hoofdklasse D
DTSTART:20190206T200000
DTEND:20190206T230000
LOCATION:City Resort Helmond
ATTACH;FMTTYPE=text/plain:https://hbb.rivio.dev/senioren/2018/wedstrijd/225
 08
END:VEVENT
BEGIN:VEVENT
UID:https://hbb.rivio.dev/senioren/2018/wedstrijd/22753
DTSTAMP:20260420T184144Z
SUMMARY:Mierlo 3 - Mixed 2
DESCRIPTION:Baan 15\, Wedstrijdnummer 2008\, Afdeling Hoofdklasse D
DTSTART:20190314T200000
DTEND:20190314T230000
LOCATION:City Resort Helmond
ATTACH;FMTTYPE=text/plain:https://hbb.rivio.dev/senioren/2018/wedstrijd/227
 53
END:VEVENT
BEGIN:VEVENT
UID:https://hbb.rivio.dev/senioren/2018/wedstrijd/22756
DTSTAMP:20260420T184144Z
SUMMARY:Mierlo 3 - Bakel 1
DESCRIPTION:Baan 5\, Wedstrijdnummer 2011\, Afdeling Hoofdklasse D
DTSTART:20190328T200000
DTEND:20190328T230000
LOCATION:City Resort Helmond
ATTACH;FMTTYPE=text/plain:https://hbb.rivio.dev/senioren/2018/wedstrijd/227
 56
END:VEVENT
BEGIN:VEVENT
UID:https://hbb.rivio.dev/senioren/2018/wedstrijd/22758
DTSTAMP:20260420T184144Z
SUMMARY:Phoenix 1 - Mierlo 3
DESCRIPTION:Baan 14\, Wedstrijdnummer 2015\, Afdeling Hoofdklasse D
DTSTART:20190403T200000
DTEND:20190403T230000
LOCATION:City Resort Helmond
ATTACH;FMTTYPE=text/plain:https://hbb.rivio.dev/senioren/2018/wedstrijd/227
 58
END:VEVENT
BEGIN:VEVENT
UID:https://hbb.rivio.dev/senioren/2018/wedstrijd/22765
DTSTAMP:20260420T184144Z
SUMMARY:Smashing Bruang 1 - Mierlo 3
DESCRIPTION:Baan 14\, Wedstrijdnummer 2020\, Afdeling Hoofdklasse D
DTSTART:20190522T200000
DTEND:20190522T230000
LOCATION:City Resort Helmond
ATTACH;FMTTYPE=text/plain:https://hbb.rivio.dev/senioren/2018/wedstrijd/227
 65
END:VEVENT
BEGIN:VTIMEZONE
TZID:Europe/Amsterdam
BEGIN:STANDARD
DTSTART:20180101T000000
TZNAME:CET
TZOFFSETTO:+0100
TZOFFSETFROM:+0100
END:STANDARD
BEGIN:DAYLIGHT
DTSTART:20180325T030000
TZNAME:CEST
TZOFFSETTO:+0200
TZOFFSETFROM:+0100
END:DAYLIGHT
BEGIN:STANDARD
DTSTART:20181028T020000
TZNAME:CET
TZOFFSETTO:+0100
TZOFFSETFROM:+0200
END:STANDARD
BEGIN:DAYLIGHT
DTSTART:20190331T030000
TZNAME:CEST
TZOFFSETTO:+0200
TZOFFSETFROM:+0100
END:DAYLIGHT
BEGIN:STANDARD
DTSTART:20191027T020000
TZNAME:CET
TZOFFSETTO:+0100
TZOFFSETFROM:+0200
END:STANDARD
END:VTIMEZONE
END:VCALENDAR
