BEGIN:VCALENDAR
PRODID:-//eluceo/ical//2.0/EN
VERSION:2.0
CALSCALE:GREGORIAN
BEGIN:VEVENT
UID:https://hbb.rivio.dev/senioren/2018/wedstrijd/22199
DTSTAMP:20260420T184631Z
SUMMARY:Mierlo 2 - Mierlo 3
DESCRIPTION:Baan 2\, Wedstrijdnummer 22\, Afdeling Hoofdklasse K
DTSTART:20180920T200000
DTEND:20180920T230000
LOCATION:City Resort Helmond
ATTACH;FMTTYPE=text/plain:https://hbb.rivio.dev/senioren/2018/wedstrijd/221
 99
END:VEVENT
BEGIN:VEVENT
UID:https://hbb.rivio.dev/senioren/2018/wedstrijd/22211
DTSTAMP:20260420T184631Z
SUMMARY:Mierlo 4 - Mierlo 2
DESCRIPTION:Baan 3\, Wedstrijdnummer 27\, Afdeling Hoofdklasse K
DTSTART:20180926T200000
DTEND:20180926T230000
LOCATION:City Resort Helmond
ATTACH;FMTTYPE=text/plain:https://hbb.rivio.dev/senioren/2018/wedstrijd/222
 11
END:VEVENT
BEGIN:VEVENT
UID:https://hbb.rivio.dev/senioren/2018/wedstrijd/22238
DTSTAMP:20260420T184631Z
SUMMARY:Smashing Bruang 1 - Mierlo 2
DESCRIPTION:Baan 14\, Wedstrijdnummer 32\, Afdeling Hoofdklasse D
DTSTART:20181003T200000
DTEND:20181003T230000
LOCATION:City Resort Helmond
ATTACH;FMTTYPE=text/plain:https://hbb.rivio.dev/senioren/2018/wedstrijd/222
 38
END:VEVENT
BEGIN:VEVENT
UID:https://hbb.rivio.dev/senioren/2018/wedstrijd/22276
DTSTAMP:20260420T184631Z
SUMMARY:Mierlo 2 - Mixed 2
DESCRIPTION:Baan 5\, Wedstrijdnummer 41\, Afdeling Hoofdklasse K
DTSTART:20181024T200000
DTEND:20181024T230000
LOCATION:City Resort Helmond
ATTACH;FMTTYPE=text/plain:https://hbb.rivio.dev/senioren/2018/wedstrijd/222
 76
END:VEVENT
BEGIN:VEVENT
UID:https://hbb.rivio.dev/senioren/2018/wedstrijd/22316
DTSTAMP:20260420T184631Z
SUMMARY:Mixed 2 - Mierlo 2
DESCRIPTION:Baan 3\, Wedstrijdnummer 3002\, Afdeling Hoofdklasse D
DTSTART:20181107T200000
DTEND:20181107T230000
LOCATION:City Resort Helmond
ATTACH;FMTTYPE=text/plain:https://hbb.rivio.dev/senioren/2018/wedstrijd/223
 16
END:VEVENT
BEGIN:VEVENT
UID:https://hbb.rivio.dev/senioren/2018/wedstrijd/22343
DTSTAMP:20260420T184631Z
SUMMARY:Mierlo 2 - Brabantia 1
DESCRIPTION:Baan 12\, Wedstrijdnummer 42\, Afdeling Hoofdklasse K
DTSTART:20181114T200000
DTEND:20181114T230000
LOCATION:City Resort Helmond
ATTACH;FMTTYPE=text/plain:https://hbb.rivio.dev/senioren/2018/wedstrijd/223
 43
END:VEVENT
BEGIN:VEVENT
UID:https://hbb.rivio.dev/senioren/2018/wedstrijd/22415
DTSTAMP:20260420T184631Z
SUMMARY:Hanevoet 1 - Mierlo 2
DESCRIPTION:Baan 10\, Wedstrijdnummer 47\, Afdeling Hoofdklasse K
DTSTART:20181213T200000
DTEND:20181213T230000
LOCATION:City Resort Helmond
ATTACH;FMTTYPE=text/plain:https://hbb.rivio.dev/senioren/2018/wedstrijd/224
 15
END:VEVENT
BEGIN:VEVENT
UID:https://hbb.rivio.dev/senioren/2018/wedstrijd/22425
DTSTAMP:20260420T184631Z
SUMMARY:Mierlo 2 - Phoenix 1
DESCRIPTION:Baan 5\, Wedstrijdnummer 52\, Afdeling Hoofdklasse K
DTSTART:20181219T200000
DTEND:20181219T230000
LOCATION:City Resort Helmond
ATTACH;FMTTYPE=text/plain:https://hbb.rivio.dev/senioren/2018/wedstrijd/224
 25
END:VEVENT
BEGIN:VEVENT
UID:https://hbb.rivio.dev/senioren/2018/wedstrijd/22689
DTSTAMP:20260420T184631Z
SUMMARY:Smashing Bruang 1 - Mierlo 2
DESCRIPTION:Baan 10\, Wedstrijdnummer 3036\, Afdeling Hoofdklasse D
DTSTART:20190110T200000
DTEND:20190110T230000
LOCATION:City Resort Helmond
ATTACH;FMTTYPE=text/plain:https://hbb.rivio.dev/senioren/2018/wedstrijd/226
 89
END:VEVENT
BEGIN:VEVENT
UID:https://hbb.rivio.dev/senioren/2018/wedstrijd/22496
DTSTAMP:20260420T184631Z
SUMMARY:Bakel 1 - Mierlo 2
DESCRIPTION:Baan 1\, Wedstrijdnummer 57\, Afdeling Hoofdklasse D
DTSTART:20190131T200000
DTEND:20190131T230000
LOCATION:City Resort Helmond
ATTACH;FMTTYPE=text/plain:https://hbb.rivio.dev/senioren/2018/wedstrijd/224
 96
END:VEVENT
BEGIN:VEVENT
UID:https://hbb.rivio.dev/senioren/2018/wedstrijd/22533
DTSTAMP:20260420T184631Z
SUMMARY:Mierlo 2 - Con Brio 3
DESCRIPTION:Baan 11\, Wedstrijdnummer 62\, Afdeling Hoofdklasse K
DTSTART:20190213T200000
DTEND:20190213T230000
LOCATION:City Resort Helmond
ATTACH;FMTTYPE=text/plain:https://hbb.rivio.dev/senioren/2018/wedstrijd/225
 33
END:VEVENT
BEGIN:VEVENT
UID:https://hbb.rivio.dev/senioren/2018/wedstrijd/22746
DTSTAMP:20260420T184631Z
SUMMARY:Mierlo 4 - Mierlo 2
DESCRIPTION:Baan 3\, Wedstrijdnummer 2005\, Afdeling Hoofdklasse K
DTSTART:20190220T200000
DTEND:20190220T230000
LOCATION:City Resort Helmond
ATTACH;FMTTYPE=text/plain:https://hbb.rivio.dev/senioren/2018/wedstrijd/227
 46
END:VEVENT
BEGIN:VEVENT
UID:https://hbb.rivio.dev/senioren/2018/wedstrijd/22750
DTSTAMP:20260420T184631Z
SUMMARY:Mierlo 2 - Hanevoet 1
DESCRIPTION:Baan 12\, Wedstrijdnummer 2001\, Afdeling Hoofdklasse K
DTSTART:20190314T200000
DTEND:20190314T230000
LOCATION:City Resort Helmond
ATTACH;FMTTYPE=text/plain:https://hbb.rivio.dev/senioren/2018/wedstrijd/227
 50
END:VEVENT
BEGIN:VEVENT
UID:https://hbb.rivio.dev/senioren/2018/wedstrijd/22755
DTSTAMP:20260420T184631Z
SUMMARY:Brabantia 1 - Mierlo 2
DESCRIPTION:Baan 4\, Wedstrijdnummer 2010\, Afdeling Hoofdklasse K
DTSTART:20190328T200000
DTEND:20190328T230000
LOCATION:City Resort Helmond
ATTACH;FMTTYPE=text/plain:https://hbb.rivio.dev/senioren/2018/wedstrijd/227
 55
END:VEVENT
BEGIN:VEVENT
UID:https://hbb.rivio.dev/senioren/2018/wedstrijd/22763
DTSTAMP:20260420T184631Z
SUMMARY:Mierlo 2 - Con Brio 3
DESCRIPTION:Baan 14\, Wedstrijdnummer 2018\, Afdeling Hoofdklasse K
DTSTART:20190515T200000
DTEND:20190515T230000
LOCATION:City Resort Helmond
ATTACH;FMTTYPE=text/plain:https://hbb.rivio.dev/senioren/2018/wedstrijd/227
 63
END:VEVENT
BEGIN:VTIMEZONE
TZID:Europe/Amsterdam
BEGIN:STANDARD
DTSTART:20180101T000000
TZNAME:CET
TZOFFSETTO:+0100
TZOFFSETFROM:+0100
END:STANDARD
BEGIN:DAYLIGHT
DTSTART:20180325T030000
TZNAME:CEST
TZOFFSETTO:+0200
TZOFFSETFROM:+0100
END:DAYLIGHT
BEGIN:STANDARD
DTSTART:20181028T020000
TZNAME:CET
TZOFFSETTO:+0100
TZOFFSETFROM:+0200
END:STANDARD
BEGIN:DAYLIGHT
DTSTART:20190331T030000
TZNAME:CEST
TZOFFSETTO:+0200
TZOFFSETFROM:+0100
END:DAYLIGHT
BEGIN:STANDARD
DTSTART:20191027T020000
TZNAME:CET
TZOFFSETTO:+0100
TZOFFSETFROM:+0200
END:STANDARD
END:VTIMEZONE
END:VCALENDAR
