BEGIN:VCALENDAR
PRODID:-//eluceo/ical//2.0/EN
VERSION:2.0
CALSCALE:GREGORIAN
BEGIN:VEVENT
UID:https://hbb.rivio.dev/senioren/2018/wedstrijd/22178
DTSTAMP:20260420T152007Z
SUMMARY:BCAB 1 - Mierlo 1
DESCRIPTION:Baan 2\, Wedstrijdnummer 2\, Afdeling Topklasse 
DTSTART:20180913T200000
DTEND:20180913T230000
LOCATION:City Resort Helmond
ATTACH;FMTTYPE=text/plain:https://hbb.rivio.dev/senioren/2018/wedstrijd/221
 78
END:VEVENT
BEGIN:VEVENT
UID:https://hbb.rivio.dev/senioren/2018/wedstrijd/22190
DTSTAMP:20260420T152007Z
SUMMARY:Mixed 1 - Mierlo 1
DESCRIPTION:Baan 3\, Wedstrijdnummer 6\, Afdeling Topklasse 
DTSTART:20180919T200000
DTEND:20180919T230000
LOCATION:City Resort Helmond
ATTACH;FMTTYPE=text/plain:https://hbb.rivio.dev/senioren/2018/wedstrijd/221
 90
END:VEVENT
BEGIN:VEVENT
UID:https://hbb.rivio.dev/senioren/2018/wedstrijd/22257
DTSTAMP:20260420T152007Z
SUMMARY:Mierlo 1 - Con Brio 1
DESCRIPTION:Baan 12\, Wedstrijdnummer 12\, Afdeling Topklasse 
DTSTART:20181010T200000
DTEND:20181010T230000
LOCATION:City Resort Helmond
ATTACH;FMTTYPE=text/plain:https://hbb.rivio.dev/senioren/2018/wedstrijd/222
 57
END:VEVENT
BEGIN:VEVENT
UID:https://hbb.rivio.dev/senioren/2018/wedstrijd/22299
DTSTAMP:20260420T152007Z
SUMMARY:Mierlo 1 - Ganzeveer 1
DESCRIPTION:Baan 12\, Wedstrijdnummer 14\, Afdeling Topklasse 
DTSTART:20181031T200000
DTEND:20181031T230000
LOCATION:City Resort Helmond
ATTACH;FMTTYPE=text/plain:https://hbb.rivio.dev/senioren/2018/wedstrijd/222
 99
END:VEVENT
BEGIN:VEVENT
UID:https://hbb.rivio.dev/senioren/2018/wedstrijd/22364
DTSTAMP:20260420T152007Z
SUMMARY:Mierlo 1 - BCV '73 1
DESCRIPTION:Baan 12\, Wedstrijdnummer 16\, Afdeling Topklasse 
DTSTART:20181121T200000
DTEND:20181121T230000
LOCATION:City Resort Helmond
ATTACH;FMTTYPE=text/plain:https://hbb.rivio.dev/senioren/2018/wedstrijd/223
 64
END:VEVENT
BEGIN:VEVENT
UID:https://hbb.rivio.dev/senioren/2018/wedstrijd/22407
DTSTAMP:20260420T152007Z
SUMMARY:Con Brio 2 - Mierlo 1
DESCRIPTION:Baan 13\, Wedstrijdnummer 19\, Afdeling Topklasse 
DTSTART:20181212T200000
DTEND:20181212T230000
LOCATION:City Resort Helmond
ATTACH;FMTTYPE=text/plain:https://hbb.rivio.dev/senioren/2018/wedstrijd/224
 07
END:VEVENT
BEGIN:VEVENT
UID:https://hbb.rivio.dev/senioren/2018/wedstrijd/22452
DTSTAMP:20260420T152007Z
SUMMARY:Mierlo 1 - BCAB 1
DESCRIPTION:Baan 14\, Wedstrijdnummer 1002\, Afdeling Topklasse 
DTSTART:20190116T200000
DTEND:20190116T230000
LOCATION:City Resort Helmond
ATTACH;FMTTYPE=text/plain:https://hbb.rivio.dev/senioren/2018/wedstrijd/224
 52
END:VEVENT
BEGIN:VEVENT
UID:https://hbb.rivio.dev/senioren/2018/wedstrijd/22490
DTSTAMP:20260420T152007Z
SUMMARY:Mierlo 1 - Mixed 1
DESCRIPTION:Baan 5\, Wedstrijdnummer 1006\, Afdeling Topklasse 
DTSTART:20190130T200000
DTEND:20190130T230000
LOCATION:City Resort Helmond
ATTACH;FMTTYPE=text/plain:https://hbb.rivio.dev/senioren/2018/wedstrijd/224
 90
END:VEVENT
BEGIN:VEVENT
UID:https://hbb.rivio.dev/senioren/2018/wedstrijd/22554
DTSTAMP:20260420T152007Z
SUMMARY:Con Brio 1 - Mierlo 1
DESCRIPTION:Baan 15\, Wedstrijdnummer 1012\, Afdeling Topklasse 
DTSTART:20190220T200000
DTEND:20190220T230000
LOCATION:City Resort Helmond
ATTACH;FMTTYPE=text/plain:https://hbb.rivio.dev/senioren/2018/wedstrijd/225
 54
END:VEVENT
BEGIN:VEVENT
UID:https://hbb.rivio.dev/senioren/2018/wedstrijd/22605
DTSTAMP:20260420T152007Z
SUMMARY:Ganzeveer 1 - Mierlo 1
DESCRIPTION:Baan 2\, Wedstrijdnummer 1014\, Afdeling Topklasse 
DTSTART:20190320T200000
DTEND:20190320T230000
LOCATION:City Resort Helmond
ATTACH;FMTTYPE=text/plain:https://hbb.rivio.dev/senioren/2018/wedstrijd/226
 05
END:VEVENT
BEGIN:VEVENT
UID:https://hbb.rivio.dev/senioren/2018/wedstrijd/22733
DTSTAMP:20260420T152007Z
SUMMARY:Ganzeveer 1 - Mierlo 1
DESCRIPTION:Baan 2\, Wedstrijdnummer 3060\, Afdeling Topklasse 
DTSTART:20190327T200000
DTEND:20190327T230000
LOCATION:City Resort Helmond
ATTACH;FMTTYPE=text/plain:https://hbb.rivio.dev/senioren/2018/wedstrijd/227
 33
END:VEVENT
BEGIN:VEVENT
UID:https://hbb.rivio.dev/senioren/2018/wedstrijd/22623
DTSTAMP:20260420T152007Z
SUMMARY:BCV '73 1 - Mierlo 1
DESCRIPTION:Baan 5\, Wedstrijdnummer 1016\, Afdeling Topklasse 
DTSTART:20190403T200000
DTEND:20190403T230000
LOCATION:City Resort Helmond
ATTACH;FMTTYPE=text/plain:https://hbb.rivio.dev/senioren/2018/wedstrijd/226
 23
END:VEVENT
BEGIN:VEVENT
UID:https://hbb.rivio.dev/senioren/2018/wedstrijd/22650
DTSTAMP:20260420T152007Z
SUMMARY:Mierlo 1 - Con Brio 2
DESCRIPTION:Baan 15\, Wedstrijdnummer 1019\, Afdeling Topklasse 
DTSTART:20190417T200000
DTEND:20190417T230000
LOCATION:City Resort Helmond
ATTACH;FMTTYPE=text/plain:https://hbb.rivio.dev/senioren/2018/wedstrijd/226
 50
END:VEVENT
BEGIN:VTIMEZONE
TZID:Europe/Amsterdam
BEGIN:STANDARD
DTSTART:20180101T000000
TZNAME:CET
TZOFFSETTO:+0100
TZOFFSETFROM:+0100
END:STANDARD
BEGIN:DAYLIGHT
DTSTART:20180325T030000
TZNAME:CEST
TZOFFSETTO:+0200
TZOFFSETFROM:+0100
END:DAYLIGHT
BEGIN:STANDARD
DTSTART:20181028T020000
TZNAME:CET
TZOFFSETTO:+0100
TZOFFSETFROM:+0200
END:STANDARD
BEGIN:DAYLIGHT
DTSTART:20190331T030000
TZNAME:CEST
TZOFFSETTO:+0200
TZOFFSETFROM:+0100
END:DAYLIGHT
BEGIN:STANDARD
DTSTART:20191027T020000
TZNAME:CET
TZOFFSETTO:+0100
TZOFFSETFROM:+0200
END:STANDARD
END:VTIMEZONE
END:VCALENDAR
