BEGIN:VCALENDAR
PRODID:-//eluceo/ical//2.0/EN
VERSION:2.0
CALSCALE:GREGORIAN
BEGIN:VEVENT
UID:https://hbb.rivio.dev/jeugd/2018/wedstrijd/20241
DTSTAMP:20260420T090428Z
SUMMARY:BCV '73 4 - Phoenix 5
DESCRIPTION:Baan 12\, Afdeling G-klasse 
DTSTART:20181028T093000
DTEND:20181028T111500
LOCATION:City Resort Helmond
ATTACH;FMTTYPE=text/plain:https://hbb.rivio.dev/jeugd/2018/wedstrijd/20241
END:VEVENT
BEGIN:VEVENT
UID:https://hbb.rivio.dev/jeugd/2018/wedstrijd/20245
DTSTAMP:20260420T090428Z
SUMMARY:Mierlo 10 - BCV '73 4
DESCRIPTION:Baan 13\, Afdeling G-klasse 
DTSTART:20181028T111500
DTEND:20181028T130000
LOCATION:City Resort Helmond
ATTACH;FMTTYPE=text/plain:https://hbb.rivio.dev/jeugd/2018/wedstrijd/20245
END:VEVENT
BEGIN:VEVENT
UID:https://hbb.rivio.dev/jeugd/2018/wedstrijd/20279
DTSTAMP:20260420T090428Z
SUMMARY:BCV '73 4 - Bakel 7
DESCRIPTION:Baan 13\, Afdeling G-klasse 
DTSTART:20181118T111500
DTEND:20181118T130000
LOCATION:City Resort Helmond
ATTACH;FMTTYPE=text/plain:https://hbb.rivio.dev/jeugd/2018/wedstrijd/20279
END:VEVENT
BEGIN:VEVENT
UID:https://hbb.rivio.dev/jeugd/2018/wedstrijd/20276
DTSTAMP:20260420T090428Z
SUMMARY:Someren 3 - BCV '73 4
DESCRIPTION:Baan 13\, Afdeling G-klasse 
DTSTART:20181118T093000
DTEND:20181118T111500
LOCATION:City Resort Helmond
ATTACH;FMTTYPE=text/plain:https://hbb.rivio.dev/jeugd/2018/wedstrijd/20276
END:VEVENT
BEGIN:VEVENT
UID:https://hbb.rivio.dev/jeugd/2018/wedstrijd/20299
DTSTAMP:20260420T090428Z
SUMMARY:Hanevoet 3 - BCV '73 4
DESCRIPTION:Baan 11\, Afdeling G-klasse 
DTSTART:20181216T093000
DTEND:20181216T111500
LOCATION:City Resort Helmond
ATTACH;FMTTYPE=text/plain:https://hbb.rivio.dev/jeugd/2018/wedstrijd/20299
END:VEVENT
BEGIN:VEVENT
UID:https://hbb.rivio.dev/jeugd/2018/wedstrijd/20302
DTSTAMP:20260420T090428Z
SUMMARY:Ganzeveer 2 - BCV '73 4
DESCRIPTION:Baan 11\, Afdeling G-klasse 
DTSTART:20181216T111500
DTEND:20181216T130000
LOCATION:City Resort Helmond
ATTACH;FMTTYPE=text/plain:https://hbb.rivio.dev/jeugd/2018/wedstrijd/20302
END:VEVENT
BEGIN:VEVENT
UID:https://hbb.rivio.dev/jeugd/2018/wedstrijd/20347
DTSTAMP:20260420T090428Z
SUMMARY:BCV '73 4 - Mierlo 10
DESCRIPTION:Baan 15\, Afdeling G-klasse 
DTSTART:20190203T093000
DTEND:20190203T111500
LOCATION:City Resort Helmond
ATTACH;FMTTYPE=text/plain:https://hbb.rivio.dev/jeugd/2018/wedstrijd/20347
END:VEVENT
BEGIN:VEVENT
UID:https://hbb.rivio.dev/jeugd/2018/wedstrijd/20351
DTSTAMP:20260420T090428Z
SUMMARY:BCV '73 4 - Someren 3
DESCRIPTION:Baan 10\, Afdeling G-klasse 
DTSTART:20190203T111500
DTEND:20190203T130000
LOCATION:City Resort Helmond
ATTACH;FMTTYPE=text/plain:https://hbb.rivio.dev/jeugd/2018/wedstrijd/20351
END:VEVENT
BEGIN:VEVENT
UID:https://hbb.rivio.dev/jeugd/2018/wedstrijd/20378
DTSTAMP:20260420T090428Z
SUMMARY:BCV '73 4 - Hanevoet 3
DESCRIPTION:Baan 13\, Afdeling G-klasse 
DTSTART:20190217T111500
DTEND:20190217T130000
LOCATION:City Resort Helmond
ATTACH;FMTTYPE=text/plain:https://hbb.rivio.dev/jeugd/2018/wedstrijd/20378
END:VEVENT
BEGIN:VEVENT
UID:https://hbb.rivio.dev/jeugd/2018/wedstrijd/20375
DTSTAMP:20260420T090428Z
SUMMARY:Phoenix 5 - BCV '73 4
DESCRIPTION:Baan 13\, Afdeling G-klasse 
DTSTART:20190217T093000
DTEND:20190217T111500
LOCATION:City Resort Helmond
ATTACH;FMTTYPE=text/plain:https://hbb.rivio.dev/jeugd/2018/wedstrijd/20375
END:VEVENT
BEGIN:VEVENT
UID:https://hbb.rivio.dev/jeugd/2018/wedstrijd/20429
DTSTAMP:20260420T090428Z
SUMMARY:BCV '73 4 - Ganzeveer 2
DESCRIPTION:Baan 15\, Afdeling G-klasse 
DTSTART:20190317T111500
DTEND:20190317T130000
LOCATION:City Resort Helmond
ATTACH;FMTTYPE=text/plain:https://hbb.rivio.dev/jeugd/2018/wedstrijd/20429
END:VEVENT
BEGIN:VEVENT
UID:https://hbb.rivio.dev/jeugd/2018/wedstrijd/20425
DTSTAMP:20260420T090428Z
SUMMARY:Bakel 7 - BCV '73 4
DESCRIPTION:Baan 14\, Afdeling G-klasse 
DTSTART:20190317T093000
DTEND:20190317T111500
LOCATION:City Resort Helmond
ATTACH;FMTTYPE=text/plain:https://hbb.rivio.dev/jeugd/2018/wedstrijd/20425
END:VEVENT
BEGIN:VTIMEZONE
TZID:Europe/Amsterdam
BEGIN:STANDARD
DTSTART:20180101T000000
TZNAME:CET
TZOFFSETTO:+0100
TZOFFSETFROM:+0100
END:STANDARD
BEGIN:DAYLIGHT
DTSTART:20180325T030000
TZNAME:CEST
TZOFFSETTO:+0200
TZOFFSETFROM:+0100
END:DAYLIGHT
BEGIN:STANDARD
DTSTART:20181028T020000
TZNAME:CET
TZOFFSETTO:+0100
TZOFFSETFROM:+0200
END:STANDARD
BEGIN:DAYLIGHT
DTSTART:20190331T030000
TZNAME:CEST
TZOFFSETTO:+0200
TZOFFSETFROM:+0100
END:DAYLIGHT
BEGIN:STANDARD
DTSTART:20191027T020000
TZNAME:CET
TZOFFSETTO:+0100
TZOFFSETFROM:+0200
END:STANDARD
END:VTIMEZONE
END:VCALENDAR
