BEGIN:VCALENDAR
PRODID:-//eluceo/ical//2.0/EN
VERSION:2.0
CALSCALE:GREGORIAN
BEGIN:VEVENT
UID:https://hbb.rivio.dev/jeugd/2018/wedstrijd/20205
DTSTAMP:20260420T220658Z
SUMMARY:Phoenix 4 - BCV '73 3
DESCRIPTION:Baan 12\, Afdeling E-klasse 
DTSTART:20180930T130000
DTEND:20180930T144500
LOCATION:City Resort Helmond
ATTACH;FMTTYPE=text/plain:https://hbb.rivio.dev/jeugd/2018/wedstrijd/20205
END:VEVENT
BEGIN:VEVENT
UID:https://hbb.rivio.dev/jeugd/2018/wedstrijd/20208
DTSTAMP:20260420T220658Z
SUMMARY:Phoenix 3 - BCV '73 3
DESCRIPTION:Baan 11\, Afdeling E-klasse 
DTSTART:20180930T144500
DTEND:20180930T160000
LOCATION:City Resort Helmond
ATTACH;FMTTYPE=text/plain:https://hbb.rivio.dev/jeugd/2018/wedstrijd/20208
END:VEVENT
BEGIN:VEVENT
UID:https://hbb.rivio.dev/jeugd/2018/wedstrijd/20223
DTSTAMP:20260420T220658Z
SUMMARY:BCV '73 3 - Mixed 4
DESCRIPTION:Baan 13\, Afdeling E-klasse 
DTSTART:20181007T093000
DTEND:20181007T111500
LOCATION:City Resort Helmond
ATTACH;FMTTYPE=text/plain:https://hbb.rivio.dev/jeugd/2018/wedstrijd/20223
END:VEVENT
BEGIN:VEVENT
UID:https://hbb.rivio.dev/jeugd/2018/wedstrijd/20227
DTSTAMP:20260420T220658Z
SUMMARY:BCV '73 3 - Ganzeveer 1
DESCRIPTION:Baan 13\, Afdeling E-klasse 
DTSTART:20181007T111500
DTEND:20181007T130000
LOCATION:City Resort Helmond
ATTACH;FMTTYPE=text/plain:https://hbb.rivio.dev/jeugd/2018/wedstrijd/20227
END:VEVENT
BEGIN:VEVENT
UID:https://hbb.rivio.dev/jeugd/2018/wedstrijd/20268
DTSTAMP:20260420T220658Z
SUMMARY:BCV '73 3 - Bakel 6
DESCRIPTION:Baan 4\, Afdeling E-klasse 
DTSTART:20181118T093000
DTEND:20181118T111500
LOCATION:City Resort Helmond
ATTACH;FMTTYPE=text/plain:https://hbb.rivio.dev/jeugd/2018/wedstrijd/20268
END:VEVENT
BEGIN:VEVENT
UID:https://hbb.rivio.dev/jeugd/2018/wedstrijd/20273
DTSTAMP:20260420T220658Z
SUMMARY:BCV '73 3 - Hanevoet 1
DESCRIPTION:Baan 5\, Afdeling E-klasse 
DTSTART:20181118T111500
DTEND:20181118T130000
LOCATION:City Resort Helmond
ATTACH;FMTTYPE=text/plain:https://hbb.rivio.dev/jeugd/2018/wedstrijd/20273
END:VEVENT
BEGIN:VEVENT
UID:https://hbb.rivio.dev/jeugd/2018/wedstrijd/20313
DTSTAMP:20260420T220658Z
SUMMARY:Mierlo 7 - BCV '73 3
DESCRIPTION:Baan 14\, Afdeling E-klasse 
DTSTART:20190113T093000
DTEND:20190113T111500
LOCATION:City Resort Helmond
ATTACH;FMTTYPE=text/plain:https://hbb.rivio.dev/jeugd/2018/wedstrijd/20313
END:VEVENT
BEGIN:VEVENT
UID:https://hbb.rivio.dev/jeugd/2018/wedstrijd/20316
DTSTAMP:20260420T220658Z
SUMMARY:Mixed 4 - BCV '73 3
DESCRIPTION:Baan 13\, Afdeling E-klasse 
DTSTART:20190113T111500
DTEND:20190113T130000
LOCATION:City Resort Helmond
ATTACH;FMTTYPE=text/plain:https://hbb.rivio.dev/jeugd/2018/wedstrijd/20316
END:VEVENT
BEGIN:VEVENT
UID:https://hbb.rivio.dev/jeugd/2018/wedstrijd/20361
DTSTAMP:20260420T220658Z
SUMMARY:BCV '73 3 - Phoenix 4
DESCRIPTION:Baan 12\, Afdeling E-klasse 
DTSTART:20190210T111500
DTEND:20190210T130000
LOCATION:City Resort Helmond
ATTACH;FMTTYPE=text/plain:https://hbb.rivio.dev/jeugd/2018/wedstrijd/20361
END:VEVENT
BEGIN:VEVENT
UID:https://hbb.rivio.dev/jeugd/2018/wedstrijd/20358
DTSTAMP:20260420T220658Z
SUMMARY:Ganzeveer 1 - BCV '73 3
DESCRIPTION:Baan 13\, Afdeling E-klasse 
DTSTART:20190210T093000
DTEND:20190210T111500
LOCATION:City Resort Helmond
ATTACH;FMTTYPE=text/plain:https://hbb.rivio.dev/jeugd/2018/wedstrijd/20358
END:VEVENT
BEGIN:VEVENT
UID:https://hbb.rivio.dev/jeugd/2018/wedstrijd/20398
DTSTAMP:20260420T220658Z
SUMMARY:BCV '73 3 - Phoenix 3
DESCRIPTION:Baan 11\, Afdeling E-klasse 
DTSTART:20190224T093000
DTEND:20190224T111500
LOCATION:City Resort Helmond
ATTACH;FMTTYPE=text/plain:https://hbb.rivio.dev/jeugd/2018/wedstrijd/20398
END:VEVENT
BEGIN:VEVENT
UID:https://hbb.rivio.dev/jeugd/2018/wedstrijd/20404
DTSTAMP:20260420T220658Z
SUMMARY:Bakel 6 - BCV '73 3
DESCRIPTION:Baan 13\, Afdeling E-klasse 
DTSTART:20190224T111500
DTEND:20190224T130000
LOCATION:City Resort Helmond
ATTACH;FMTTYPE=text/plain:https://hbb.rivio.dev/jeugd/2018/wedstrijd/20404
END:VEVENT
BEGIN:VEVENT
UID:https://hbb.rivio.dev/jeugd/2018/wedstrijd/20464
DTSTAMP:20260420T220658Z
SUMMARY:BCV '73 3 - Mierlo 7
DESCRIPTION:Baan 14\, Afdeling E-klasse 
DTSTART:20190407T111500
DTEND:20190407T130000
LOCATION:City Resort Helmond
ATTACH;FMTTYPE=text/plain:https://hbb.rivio.dev/jeugd/2018/wedstrijd/20464
END:VEVENT
BEGIN:VEVENT
UID:https://hbb.rivio.dev/jeugd/2018/wedstrijd/20460
DTSTAMP:20260420T220658Z
SUMMARY:Hanevoet 1 - BCV '73 3
DESCRIPTION:Baan 14\, Afdeling E-klasse 
DTSTART:20190407T093000
DTEND:20190407T111500
LOCATION:City Resort Helmond
ATTACH;FMTTYPE=text/plain:https://hbb.rivio.dev/jeugd/2018/wedstrijd/20460
END:VEVENT
BEGIN:VTIMEZONE
TZID:Europe/Amsterdam
BEGIN:STANDARD
DTSTART:20180101T000000
TZNAME:CET
TZOFFSETTO:+0100
TZOFFSETFROM:+0100
END:STANDARD
BEGIN:DAYLIGHT
DTSTART:20180325T030000
TZNAME:CEST
TZOFFSETTO:+0200
TZOFFSETFROM:+0100
END:DAYLIGHT
BEGIN:STANDARD
DTSTART:20181028T020000
TZNAME:CET
TZOFFSETTO:+0100
TZOFFSETFROM:+0200
END:STANDARD
BEGIN:DAYLIGHT
DTSTART:20190331T030000
TZNAME:CEST
TZOFFSETTO:+0200
TZOFFSETFROM:+0100
END:DAYLIGHT
BEGIN:STANDARD
DTSTART:20191027T020000
TZNAME:CET
TZOFFSETTO:+0100
TZOFFSETFROM:+0200
END:STANDARD
END:VTIMEZONE
END:VCALENDAR
