BEGIN:VCALENDAR
PRODID:-//eluceo/ical//2.0/EN
VERSION:2.0
CALSCALE:GREGORIAN
BEGIN:VEVENT
UID:https://hbb.rivio.dev/jeugd/2018/wedstrijd/20202
DTSTAMP:20260420T134017Z
SUMMARY:BCV '73 1 - Bakel 1
DESCRIPTION:Baan 1\, Afdeling A-klasse 
DTSTART:20180930T130000
DTEND:20180930T144500
LOCATION:City Resort Helmond
ATTACH;FMTTYPE=text/plain:https://hbb.rivio.dev/jeugd/2018/wedstrijd/20202
END:VEVENT
BEGIN:VEVENT
UID:https://hbb.rivio.dev/jeugd/2018/wedstrijd/20218
DTSTAMP:20260420T134017Z
SUMMARY:Mierlo 2 - BCV '73 1
DESCRIPTION:Baan 1\, Afdeling A-klasse 
DTSTART:20181007T093000
DTEND:20181007T111500
LOCATION:City Resort Helmond
ATTACH;FMTTYPE=text/plain:https://hbb.rivio.dev/jeugd/2018/wedstrijd/20218
END:VEVENT
BEGIN:VEVENT
UID:https://hbb.rivio.dev/jeugd/2018/wedstrijd/20236
DTSTAMP:20260420T134017Z
SUMMARY:Bakel 2 - BCV '73 1
DESCRIPTION:Baan 2\, Afdeling A-klasse 
DTSTART:20181028T093000
DTEND:20181028T111500
LOCATION:City Resort Helmond
ATTACH;FMTTYPE=text/plain:https://hbb.rivio.dev/jeugd/2018/wedstrijd/20236
END:VEVENT
BEGIN:VEVENT
UID:https://hbb.rivio.dev/jeugd/2018/wedstrijd/20262
DTSTAMP:20260420T134017Z
SUMMARY:BCV '73 1 - Mierlo 1
DESCRIPTION:Baan 1\, Afdeling A-klasse 
DTSTART:20181118T093000
DTEND:20181118T111500
LOCATION:City Resort Helmond
ATTACH;FMTTYPE=text/plain:https://hbb.rivio.dev/jeugd/2018/wedstrijd/20262
END:VEVENT
BEGIN:VEVENT
UID:https://hbb.rivio.dev/jeugd/2018/wedstrijd/20294
DTSTAMP:20260420T134017Z
SUMMARY:BCV '73 1 - Mierlo 2
DESCRIPTION:Baan 1\, Afdeling A-klasse 
DTSTART:20181216T093000
DTEND:20181216T111500
LOCATION:City Resort Helmond
ATTACH;FMTTYPE=text/plain:https://hbb.rivio.dev/jeugd/2018/wedstrijd/20294
END:VEVENT
BEGIN:VEVENT
UID:https://hbb.rivio.dev/jeugd/2018/wedstrijd/20305
DTSTAMP:20260420T134017Z
SUMMARY:Bakel 1 - BCV '73 1
DESCRIPTION:Baan 1\, Afdeling A-klasse 
DTSTART:20190113T093000
DTEND:20190113T111500
LOCATION:City Resort Helmond
ATTACH;FMTTYPE=text/plain:https://hbb.rivio.dev/jeugd/2018/wedstrijd/20305
END:VEVENT
BEGIN:VEVENT
UID:https://hbb.rivio.dev/jeugd/2018/wedstrijd/20319
DTSTAMP:20260420T134017Z
SUMMARY:BCV '73 1 - Bakel 2
DESCRIPTION:Baan 2\, Afdeling A-klasse 
DTSTART:20190120T093000
DTEND:20190120T111500
LOCATION:City Resort Helmond
ATTACH;FMTTYPE=text/plain:https://hbb.rivio.dev/jeugd/2018/wedstrijd/20319
END:VEVENT
BEGIN:VEVENT
UID:https://hbb.rivio.dev/jeugd/2018/wedstrijd/20330
DTSTAMP:20260420T134017Z
SUMMARY:Mierlo 1 - BCV '73 1
DESCRIPTION:Baan 2\, Afdeling A-klasse 
DTSTART:20190203T093000
DTEND:20190203T111500
LOCATION:City Resort Helmond
ATTACH;FMTTYPE=text/plain:https://hbb.rivio.dev/jeugd/2018/wedstrijd/20330
END:VEVENT
BEGIN:VEVENT
UID:https://hbb.rivio.dev/jeugd/2018/wedstrijd/20392
DTSTAMP:20260420T134017Z
SUMMARY:Mierlo 2 - BCV '73 1
DESCRIPTION:Baan 1\, Afdeling A-klasse 
DTSTART:20190224T093000
DTEND:20190224T111500
LOCATION:City Resort Helmond
ATTACH;FMTTYPE=text/plain:https://hbb.rivio.dev/jeugd/2018/wedstrijd/20392
END:VEVENT
BEGIN:VEVENT
UID:https://hbb.rivio.dev/jeugd/2018/wedstrijd/20407
DTSTAMP:20260420T134017Z
SUMMARY:BCV '73 1 - Bakel 1
DESCRIPTION:Baan 1\, Afdeling A-klasse 
DTSTART:20190317T093000
DTEND:20190317T111500
LOCATION:City Resort Helmond
ATTACH;FMTTYPE=text/plain:https://hbb.rivio.dev/jeugd/2018/wedstrijd/20407
END:VEVENT
BEGIN:VEVENT
UID:https://hbb.rivio.dev/jeugd/2018/wedstrijd/20434
DTSTAMP:20260420T134017Z
SUMMARY:Bakel 2 - BCV '73 1
DESCRIPTION:Baan 2\, Afdeling A-klasse 
DTSTART:20190331T093000
DTEND:20190331T111500
LOCATION:City Resort Helmond
ATTACH;FMTTYPE=text/plain:https://hbb.rivio.dev/jeugd/2018/wedstrijd/20434
END:VEVENT
BEGIN:VEVENT
UID:https://hbb.rivio.dev/jeugd/2018/wedstrijd/20453
DTSTAMP:20260420T134017Z
SUMMARY:BCV '73 1 - Mierlo 1
DESCRIPTION:Baan 2\, Afdeling A-klasse 
DTSTART:20190407T093000
DTEND:20190407T111500
LOCATION:City Resort Helmond
ATTACH;FMTTYPE=text/plain:https://hbb.rivio.dev/jeugd/2018/wedstrijd/20453
END:VEVENT
BEGIN:VTIMEZONE
TZID:Europe/Amsterdam
BEGIN:STANDARD
DTSTART:20180101T000000
TZNAME:CET
TZOFFSETTO:+0100
TZOFFSETFROM:+0100
END:STANDARD
BEGIN:DAYLIGHT
DTSTART:20180325T030000
TZNAME:CEST
TZOFFSETTO:+0200
TZOFFSETFROM:+0100
END:DAYLIGHT
BEGIN:STANDARD
DTSTART:20181028T020000
TZNAME:CET
TZOFFSETTO:+0100
TZOFFSETFROM:+0200
END:STANDARD
BEGIN:DAYLIGHT
DTSTART:20190331T030000
TZNAME:CEST
TZOFFSETTO:+0200
TZOFFSETFROM:+0100
END:DAYLIGHT
BEGIN:STANDARD
DTSTART:20191027T020000
TZNAME:CET
TZOFFSETTO:+0100
TZOFFSETFROM:+0200
END:STANDARD
END:VTIMEZONE
END:VCALENDAR
