BEGIN:VCALENDAR
PRODID:-//eluceo/ical//2.0/EN
VERSION:2.0
CALSCALE:GREGORIAN
BEGIN:VEVENT
UID:https://hbb.rivio.dev/senioren/2018/wedstrijd/22197
DTSTAMP:20260420T203035Z
SUMMARY:Brabantia 2 - Phoenix 2
DESCRIPTION:Baan 15\, Wedstrijdnummer 84\, Afdeling Overgangsklasse II K
DTSTART:20180919T200000
DTEND:20180919T230000
LOCATION:City Resort Helmond
ATTACH;FMTTYPE=text/plain:https://hbb.rivio.dev/senioren/2018/wedstrijd/221
 97
END:VEVENT
BEGIN:VEVENT
UID:https://hbb.rivio.dev/senioren/2018/wedstrijd/22279
DTSTAMP:20260420T203035Z
SUMMARY:Brabantia 2 - BCAB 2
DESCRIPTION:Baan 13\, Wedstrijdnummer 85\, Afdeling Overgangsklasse II K
DTSTART:20181024T200000
DTEND:20181024T230000
LOCATION:City Resort Helmond
ATTACH;FMTTYPE=text/plain:https://hbb.rivio.dev/senioren/2018/wedstrijd/222
 79
END:VEVENT
BEGIN:VEVENT
UID:https://hbb.rivio.dev/senioren/2018/wedstrijd/22293
DTSTAMP:20260420T203035Z
SUMMARY:Mixed 4 - Brabantia 2
DESCRIPTION:Baan 1\, Wedstrijdnummer 89\, Afdeling Overgangsklasse II D
DTSTART:20181031T200000
DTEND:20181031T230000
LOCATION:City Resort Helmond
ATTACH;FMTTYPE=text/plain:https://hbb.rivio.dev/senioren/2018/wedstrijd/222
 93
END:VEVENT
BEGIN:VEVENT
UID:https://hbb.rivio.dev/senioren/2018/wedstrijd/22338
DTSTAMP:20260420T203035Z
SUMMARY:RBC 1 - Brabantia 2
DESCRIPTION:Baan 3\, Wedstrijdnummer 3007\, Afdeling Overgangsklasse I D
DTSTART:20181114T200000
DTEND:20181114T230000
LOCATION:City Resort Helmond
ATTACH;FMTTYPE=text/plain:https://hbb.rivio.dev/senioren/2018/wedstrijd/223
 38
END:VEVENT
BEGIN:VEVENT
UID:https://hbb.rivio.dev/senioren/2018/wedstrijd/22390
DTSTAMP:20260420T203035Z
SUMMARY:Brabantia 2 - Eindhoven 1
DESCRIPTION:Baan 2\, Wedstrijdnummer 93\, Afdeling Overgangsklasse II K
DTSTART:20181129T200000
DTEND:20181129T230000
LOCATION:City Resort Helmond
ATTACH;FMTTYPE=text/plain:https://hbb.rivio.dev/senioren/2018/wedstrijd/223
 90
END:VEVENT
BEGIN:VEVENT
UID:https://hbb.rivio.dev/senioren/2018/wedstrijd/22411
DTSTAMP:20260420T203035Z
SUMMARY:Veldhoven 1 - Brabantia 2
DESCRIPTION:Baan 2\, Wedstrijdnummer 96\, Afdeling Overgangsklasse II D
DTSTART:20181213T200000
DTEND:20181213T230000
LOCATION:City Resort Helmond
ATTACH;FMTTYPE=text/plain:https://hbb.rivio.dev/senioren/2018/wedstrijd/224
 11
END:VEVENT
BEGIN:VEVENT
UID:https://hbb.rivio.dev/senioren/2018/wedstrijd/22702
DTSTAMP:20260420T203035Z
SUMMARY:Brabantia 2 - Con Brio 4
DESCRIPTION:Baan 3\, Wedstrijdnummer 3041\, Afdeling Overgangsklasse II K
DTSTART:20190116T200000
DTEND:20190116T230000
LOCATION:City Resort Helmond
ATTACH;FMTTYPE=text/plain:https://hbb.rivio.dev/senioren/2018/wedstrijd/227
 02
END:VEVENT
BEGIN:VEVENT
UID:https://hbb.rivio.dev/senioren/2018/wedstrijd/22465
DTSTAMP:20260420T203035Z
SUMMARY:Phoenix 2 - Brabantia 2
DESCRIPTION:Baan 1\, Wedstrijdnummer 1039\, Afdeling Overgangsklasse II K
DTSTART:20190123T200000
DTEND:20190123T230000
LOCATION:City Resort Helmond
ATTACH;FMTTYPE=text/plain:https://hbb.rivio.dev/senioren/2018/wedstrijd/224
 65
END:VEVENT
BEGIN:VEVENT
UID:https://hbb.rivio.dev/senioren/2018/wedstrijd/22502
DTSTAMP:20260420T203035Z
SUMMARY:BCAB 2 - Brabantia 2
DESCRIPTION:Baan 11\, Wedstrijdnummer 1040\, Afdeling Overgangsklasse II K
DTSTART:20190131T200000
DTEND:20190131T230000
LOCATION:City Resort Helmond
ATTACH;FMTTYPE=text/plain:https://hbb.rivio.dev/senioren/2018/wedstrijd/225
 02
END:VEVENT
BEGIN:VEVENT
UID:https://hbb.rivio.dev/senioren/2018/wedstrijd/22513
DTSTAMP:20260420T203035Z
SUMMARY:Brabantia 2 - Mixed 4
DESCRIPTION:Baan 12\, Wedstrijdnummer 1044\, Afdeling Overgangsklasse II K
DTSTART:20190206T200000
DTEND:20190206T230000
LOCATION:City Resort Helmond
ATTACH;FMTTYPE=text/plain:https://hbb.rivio.dev/senioren/2018/wedstrijd/225
 13
END:VEVENT
BEGIN:VEVENT
UID:https://hbb.rivio.dev/senioren/2018/wedstrijd/22579
DTSTAMP:20260420T203035Z
SUMMARY:Eindhoven 1 - Brabantia 2
DESCRIPTION:Baan 4\, Wedstrijdnummer 1048\, Afdeling Overgangsklasse II D
DTSTART:20190228T200000
DTEND:20190228T230000
LOCATION:City Resort Helmond
ATTACH;FMTTYPE=text/plain:https://hbb.rivio.dev/senioren/2018/wedstrijd/225
 79
END:VEVENT
BEGIN:VEVENT
UID:https://hbb.rivio.dev/senioren/2018/wedstrijd/22594
DTSTAMP:20260420T203035Z
SUMMARY:Brabantia 2 - Veldhoven 1
DESCRIPTION:Baan 13\, Wedstrijdnummer 1051\, Afdeling Overgangsklasse II K
DTSTART:20190313T200000
DTEND:20190313T230000
LOCATION:City Resort Helmond
ATTACH;FMTTYPE=text/plain:https://hbb.rivio.dev/senioren/2018/wedstrijd/225
 94
END:VEVENT
BEGIN:VEVENT
UID:https://hbb.rivio.dev/senioren/2018/wedstrijd/22774
DTSTAMP:20260420T203035Z
SUMMARY:BCAB 2 - Brabantia 2
DESCRIPTION:Baan 6\, Wedstrijdnummer 2031\, Afdeling Overgangsklasse II K
DTSTART:20190515T200000
DTEND:20190515T230000
LOCATION:City Resort Helmond
ATTACH;FMTTYPE=text/plain:https://hbb.rivio.dev/senioren/2018/wedstrijd/227
 74
END:VEVENT
BEGIN:VEVENT
UID:https://hbb.rivio.dev/senioren/2018/wedstrijd/22776
DTSTAMP:20260420T203035Z
SUMMARY:Brabantia 2 - Phoenix 2
DESCRIPTION:Baan 8\, Wedstrijdnummer 2029\, Afdeling Overgangsklasse II K
DTSTART:20190522T200000
DTEND:20190522T230000
LOCATION:City Resort Helmond
ATTACH;FMTTYPE=text/plain:https://hbb.rivio.dev/senioren/2018/wedstrijd/227
 76
END:VEVENT
BEGIN:VTIMEZONE
TZID:Europe/Amsterdam
BEGIN:STANDARD
DTSTART:20180101T000000
TZNAME:CET
TZOFFSETTO:+0100
TZOFFSETFROM:+0100
END:STANDARD
BEGIN:DAYLIGHT
DTSTART:20180325T030000
TZNAME:CEST
TZOFFSETTO:+0200
TZOFFSETFROM:+0100
END:DAYLIGHT
BEGIN:STANDARD
DTSTART:20181028T020000
TZNAME:CET
TZOFFSETTO:+0100
TZOFFSETFROM:+0200
END:STANDARD
BEGIN:DAYLIGHT
DTSTART:20190331T030000
TZNAME:CEST
TZOFFSETTO:+0200
TZOFFSETFROM:+0100
END:DAYLIGHT
BEGIN:STANDARD
DTSTART:20191027T020000
TZNAME:CET
TZOFFSETTO:+0100
TZOFFSETFROM:+0200
END:STANDARD
END:VTIMEZONE
END:VCALENDAR
