BEGIN:VCALENDAR
PRODID:-//eluceo/ical//2.0/EN
VERSION:2.0
CALSCALE:GREGORIAN
BEGIN:VEVENT
UID:https://hbb.rivio.dev/senioren/2018/wedstrijd/22200
DTSTAMP:20260420T190429Z
SUMMARY:Hanevoet 1 - Brabantia 1
DESCRIPTION:Baan 3\, Wedstrijdnummer 24\, Afdeling Hoofdklasse K
DTSTART:20180920T200000
DTEND:20180920T230000
LOCATION:City Resort Helmond
ATTACH;FMTTYPE=text/plain:https://hbb.rivio.dev/senioren/2018/wedstrijd/222
 00
END:VEVENT
BEGIN:VEVENT
UID:https://hbb.rivio.dev/senioren/2018/wedstrijd/22213
DTSTAMP:20260420T190429Z
SUMMARY:Smashing Bruang 1 - Brabantia 1
DESCRIPTION:Baan 5\, Wedstrijdnummer 30\, Afdeling Hoofdklasse D
DTSTART:20180926T200000
DTEND:20180926T230000
LOCATION:City Resort Helmond
ATTACH;FMTTYPE=text/plain:https://hbb.rivio.dev/senioren/2018/wedstrijd/222
 13
END:VEVENT
BEGIN:VEVENT
UID:https://hbb.rivio.dev/senioren/2018/wedstrijd/22260
DTSTAMP:20260420T190429Z
SUMMARY:Brabantia 1 - Con Brio 3
DESCRIPTION:Baan 15\, Wedstrijdnummer 33\, Afdeling Hoofdklasse K
DTSTART:20181010T200000
DTEND:20181010T230000
LOCATION:City Resort Helmond
ATTACH;FMTTYPE=text/plain:https://hbb.rivio.dev/senioren/2018/wedstrijd/222
 60
END:VEVENT
BEGIN:VEVENT
UID:https://hbb.rivio.dev/senioren/2018/wedstrijd/22274
DTSTAMP:20260420T190429Z
SUMMARY:Mierlo 4 - Brabantia 1
DESCRIPTION:Baan 3\, Wedstrijdnummer 38\, Afdeling Hoofdklasse K
DTSTART:20181024T200000
DTEND:20181024T230000
LOCATION:City Resort Helmond
ATTACH;FMTTYPE=text/plain:https://hbb.rivio.dev/senioren/2018/wedstrijd/222
 74
END:VEVENT
BEGIN:VEVENT
UID:https://hbb.rivio.dev/senioren/2018/wedstrijd/22677
DTSTAMP:20260420T190429Z
SUMMARY:Mierlo 4 - Brabantia 1
DESCRIPTION:Baan 2\, Wedstrijdnummer 3001\, Afdeling Hoofdklasse K
DTSTART:20181107T200000
DTEND:20181107T230000
LOCATION:City Resort Helmond
ATTACH;FMTTYPE=text/plain:https://hbb.rivio.dev/senioren/2018/wedstrijd/226
 77
END:VEVENT
BEGIN:VEVENT
UID:https://hbb.rivio.dev/senioren/2018/wedstrijd/22343
DTSTAMP:20260420T190429Z
SUMMARY:Mierlo 2 - Brabantia 1
DESCRIPTION:Baan 12\, Wedstrijdnummer 42\, Afdeling Hoofdklasse K
DTSTART:20181114T200000
DTEND:20181114T230000
LOCATION:City Resort Helmond
ATTACH;FMTTYPE=text/plain:https://hbb.rivio.dev/senioren/2018/wedstrijd/223
 43
END:VEVENT
BEGIN:VEVENT
UID:https://hbb.rivio.dev/senioren/2018/wedstrijd/22406
DTSTAMP:20260420T190429Z
SUMMARY:Brabantia 1 - Mierlo 3
DESCRIPTION:Baan 12\, Wedstrijdnummer 50\, Afdeling Hoofdklasse K
DTSTART:20181212T200000
DTEND:20181212T230000
LOCATION:City Resort Helmond
ATTACH;FMTTYPE=text/plain:https://hbb.rivio.dev/senioren/2018/wedstrijd/224
 06
END:VEVENT
BEGIN:VEVENT
UID:https://hbb.rivio.dev/senioren/2018/wedstrijd/22688
DTSTAMP:20260420T190429Z
SUMMARY:Brabantia 1 - Mierlo 4
DESCRIPTION:Baan 5\, Wedstrijdnummer 3035\, Afdeling Hoofdklasse K
DTSTART:20190110T200000
DTEND:20190110T230000
LOCATION:City Resort Helmond
ATTACH;FMTTYPE=text/plain:https://hbb.rivio.dev/senioren/2018/wedstrijd/226
 88
END:VEVENT
BEGIN:VEVENT
UID:https://hbb.rivio.dev/senioren/2018/wedstrijd/22458
DTSTAMP:20260420T190429Z
SUMMARY:Brabantia 1 - Bakel 1
DESCRIPTION:Baan 5\, Wedstrijdnummer 55\, Afdeling Hoofdklasse K
DTSTART:20190117T200000
DTEND:20190117T230000
LOCATION:City Resort Helmond
ATTACH;FMTTYPE=text/plain:https://hbb.rivio.dev/senioren/2018/wedstrijd/224
 58
END:VEVENT
BEGIN:VEVENT
UID:https://hbb.rivio.dev/senioren/2018/wedstrijd/22474
DTSTAMP:20260420T190429Z
SUMMARY:Mixed 2 - Brabantia 1
DESCRIPTION:Baan 15\, Wedstrijdnummer 61\, Afdeling Hoofdklasse D
DTSTART:20190123T200000
DTEND:20190123T230000
LOCATION:City Resort Helmond
ATTACH;FMTTYPE=text/plain:https://hbb.rivio.dev/senioren/2018/wedstrijd/224
 74
END:VEVENT
BEGIN:VEVENT
UID:https://hbb.rivio.dev/senioren/2018/wedstrijd/22507
DTSTAMP:20260420T190429Z
SUMMARY:Brabantia 1 - Phoenix 1
DESCRIPTION:Baan 1\, Wedstrijdnummer 64\, Afdeling Hoofdklasse K
DTSTART:20190206T200000
DTEND:20190206T230000
LOCATION:City Resort Helmond
ATTACH;FMTTYPE=text/plain:https://hbb.rivio.dev/senioren/2018/wedstrijd/225
 07
END:VEVENT
BEGIN:VEVENT
UID:https://hbb.rivio.dev/senioren/2018/wedstrijd/22751
DTSTAMP:20260420T190429Z
SUMMARY:Mierlo 4 - Brabantia 1
DESCRIPTION:Baan 13\, Wedstrijdnummer 2002\, Afdeling Hoofdklasse K
DTSTART:20190314T200000
DTEND:20190314T230000
LOCATION:City Resort Helmond
ATTACH;FMTTYPE=text/plain:https://hbb.rivio.dev/senioren/2018/wedstrijd/227
 51
END:VEVENT
BEGIN:VEVENT
UID:https://hbb.rivio.dev/senioren/2018/wedstrijd/22739
DTSTAMP:20260420T190429Z
SUMMARY:Brabantia 1 - Hanevoet 1
DESCRIPTION:Baan 2\, Wedstrijdnummer 3062\, Afdeling Hoofdklasse K
DTSTART:20190321T200000
DTEND:20190321T230000
LOCATION:City Resort Helmond
ATTACH;FMTTYPE=text/plain:https://hbb.rivio.dev/senioren/2018/wedstrijd/227
 39
END:VEVENT
BEGIN:VEVENT
UID:https://hbb.rivio.dev/senioren/2018/wedstrijd/22755
DTSTAMP:20260420T190429Z
SUMMARY:Brabantia 1 - Mierlo 2
DESCRIPTION:Baan 4\, Wedstrijdnummer 2010\, Afdeling Hoofdklasse K
DTSTART:20190328T200000
DTEND:20190328T230000
LOCATION:City Resort Helmond
ATTACH;FMTTYPE=text/plain:https://hbb.rivio.dev/senioren/2018/wedstrijd/227
 55
END:VEVENT
BEGIN:VEVENT
UID:https://hbb.rivio.dev/senioren/2018/wedstrijd/22760
DTSTAMP:20260420T190429Z
SUMMARY:Brabantia 1 - Con Brio 3
DESCRIPTION:Baan 12\, Wedstrijdnummer 2013\, Afdeling Hoofdklasse K
DTSTART:20190411T200000
DTEND:20190411T230000
LOCATION:City Resort Helmond
ATTACH;FMTTYPE=text/plain:https://hbb.rivio.dev/senioren/2018/wedstrijd/227
 60
END:VEVENT
BEGIN:VEVENT
UID:https://hbb.rivio.dev/senioren/2018/wedstrijd/22762
DTSTAMP:20260420T190429Z
SUMMARY:Hanevoet 1 - Brabantia 1
DESCRIPTION:Baan 13\, Wedstrijdnummer 2017\, Afdeling Hoofdklasse K
DTSTART:20190515T200000
DTEND:20190515T230000
LOCATION:City Resort Helmond
ATTACH;FMTTYPE=text/plain:https://hbb.rivio.dev/senioren/2018/wedstrijd/227
 62
END:VEVENT
BEGIN:VTIMEZONE
TZID:Europe/Amsterdam
BEGIN:STANDARD
DTSTART:20180101T000000
TZNAME:CET
TZOFFSETTO:+0100
TZOFFSETFROM:+0100
END:STANDARD
BEGIN:DAYLIGHT
DTSTART:20180325T030000
TZNAME:CEST
TZOFFSETTO:+0200
TZOFFSETFROM:+0100
END:DAYLIGHT
BEGIN:STANDARD
DTSTART:20181028T020000
TZNAME:CET
TZOFFSETTO:+0100
TZOFFSETFROM:+0200
END:STANDARD
BEGIN:DAYLIGHT
DTSTART:20190331T030000
TZNAME:CEST
TZOFFSETTO:+0200
TZOFFSETFROM:+0100
END:DAYLIGHT
BEGIN:STANDARD
DTSTART:20191027T020000
TZNAME:CET
TZOFFSETTO:+0100
TZOFFSETFROM:+0200
END:STANDARD
END:VTIMEZONE
END:VCALENDAR
