BEGIN:VCALENDAR
PRODID:-//eluceo/ical//2.0/EN
VERSION:2.0
CALSCALE:GREGORIAN
BEGIN:VEVENT
UID:https://hbb.rivio.dev/senioren/2018/wedstrijd/22242
DTSTAMP:20260420T090529Z
SUMMARY:Dommelen 3 - BCAB 5
DESCRIPTION:Baan 3\, Wedstrijdnummer 188\, Afdeling 3e klasse II D
DTSTART:20181004T200000
DTEND:20181004T230000
LOCATION:City Resort Helmond
ATTACH;FMTTYPE=text/plain:https://hbb.rivio.dev/senioren/2018/wedstrijd/222
 42
END:VEVENT
BEGIN:VEVENT
UID:https://hbb.rivio.dev/senioren/2018/wedstrijd/22255
DTSTAMP:20260420T090529Z
SUMMARY:BC '85 2 - Dommelen 3
DESCRIPTION:Baan 5\, Wedstrijdnummer 191\, Afdeling 3e klasse II D
DTSTART:20181010T200000
DTEND:20181010T230000
LOCATION:City Resort Helmond
ATTACH;FMTTYPE=text/plain:https://hbb.rivio.dev/senioren/2018/wedstrijd/222
 55
END:VEVENT
BEGIN:VEVENT
UID:https://hbb.rivio.dev/senioren/2018/wedstrijd/22296
DTSTAMP:20260420T090529Z
SUMMARY:Mierlo 8 - Dommelen 3
DESCRIPTION:Baan 4\, Wedstrijdnummer 194\, Afdeling 3e klasse II K
DTSTART:20181031T200000
DTEND:20181031T230000
LOCATION:City Resort Helmond
ATTACH;FMTTYPE=text/plain:https://hbb.rivio.dev/senioren/2018/wedstrijd/222
 96
END:VEVENT
BEGIN:VEVENT
UID:https://hbb.rivio.dev/senioren/2018/wedstrijd/22320
DTSTAMP:20260420T090529Z
SUMMARY:Mixed 8 - Dommelen 3
DESCRIPTION:Baan 11\, Wedstrijdnummer 3019\, Afdeling 3e klasse I
DTSTART:20181107T200000
DTEND:20181107T230000
LOCATION:City Resort Helmond
ATTACH;FMTTYPE=text/plain:https://hbb.rivio.dev/senioren/2018/wedstrijd/223
 20
END:VEVENT
BEGIN:VEVENT
UID:https://hbb.rivio.dev/senioren/2018/wedstrijd/22391
DTSTAMP:20260420T090529Z
SUMMARY:Someren 4 - Dommelen 3
DESCRIPTION:Baan 3\, Wedstrijdnummer 197\, Afdeling 3e klasse II K
DTSTART:20181129T200000
DTEND:20181129T230000
LOCATION:City Resort Helmond
ATTACH;FMTTYPE=text/plain:https://hbb.rivio.dev/senioren/2018/wedstrijd/223
 91
END:VEVENT
BEGIN:VEVENT
UID:https://hbb.rivio.dev/senioren/2018/wedstrijd/22405
DTSTAMP:20260420T090529Z
SUMMARY:Dommelen 3 - Never Down 2
DESCRIPTION:Baan 11\, Wedstrijdnummer 200\, Afdeling 3e klasse II D
DTSTART:20181212T200000
DTEND:20181212T230000
LOCATION:City Resort Helmond
ATTACH;FMTTYPE=text/plain:https://hbb.rivio.dev/senioren/2018/wedstrijd/224
 05
END:VEVENT
BEGIN:VEVENT
UID:https://hbb.rivio.dev/senioren/2018/wedstrijd/22699
DTSTAMP:20260420T090529Z
SUMMARY:Dommelen 3 - Someren 3
DESCRIPTION:Baan 11\, Wedstrijdnummer 3054\, Afdeling 3e klasse II D
DTSTART:20190109T200000
DTEND:20190109T230000
LOCATION:City Resort Helmond
ATTACH;FMTTYPE=text/plain:https://hbb.rivio.dev/senioren/2018/wedstrijd/226
 99
END:VEVENT
BEGIN:VEVENT
UID:https://hbb.rivio.dev/senioren/2018/wedstrijd/22454
DTSTAMP:20260420T090529Z
SUMMARY:BCAB 5 - Dommelen 3
DESCRIPTION:Baan 1\, Wedstrijdnummer 1143\, Afdeling 3e klasse II K
DTSTART:20190117T200000
DTEND:20190117T230000
LOCATION:City Resort Helmond
ATTACH;FMTTYPE=text/plain:https://hbb.rivio.dev/senioren/2018/wedstrijd/224
 54
END:VEVENT
BEGIN:VEVENT
UID:https://hbb.rivio.dev/senioren/2018/wedstrijd/22488
DTSTAMP:20260420T090529Z
SUMMARY:Dommelen 3 - BC '85 2
DESCRIPTION:Baan 3\, Wedstrijdnummer 1146\, Afdeling 3e klasse II D
DTSTART:20190130T200000
DTEND:20190130T230000
LOCATION:City Resort Helmond
ATTACH;FMTTYPE=text/plain:https://hbb.rivio.dev/senioren/2018/wedstrijd/224
 88
END:VEVENT
BEGIN:VEVENT
UID:https://hbb.rivio.dev/senioren/2018/wedstrijd/22515
DTSTAMP:20260420T090529Z
SUMMARY:Dommelen 3 - Mierlo 8
DESCRIPTION:Baan 14\, Wedstrijdnummer 1149\, Afdeling 3e klasse II D
DTSTART:20190206T200000
DTEND:20190206T230000
LOCATION:City Resort Helmond
ATTACH;FMTTYPE=text/plain:https://hbb.rivio.dev/senioren/2018/wedstrijd/225
 15
END:VEVENT
BEGIN:VEVENT
UID:https://hbb.rivio.dev/senioren/2018/wedstrijd/22575
DTSTAMP:20260420T090529Z
SUMMARY:Dommelen 3 - Someren 4
DESCRIPTION:Baan 15\, Wedstrijdnummer 1152\, Afdeling 3e klasse II D
DTSTART:20190227T200000
DTEND:20190227T230000
LOCATION:City Resort Helmond
ATTACH;FMTTYPE=text/plain:https://hbb.rivio.dev/senioren/2018/wedstrijd/225
 75
END:VEVENT
BEGIN:VEVENT
UID:https://hbb.rivio.dev/senioren/2018/wedstrijd/22602
DTSTAMP:20260420T090529Z
SUMMARY:Never Down 2 - Dommelen 3
DESCRIPTION:Baan 10\, Wedstrijdnummer 1155\, Afdeling 3e klasse II D
DTSTART:20190314T200000
DTEND:20190314T230000
LOCATION:City Resort Helmond
ATTACH;FMTTYPE=text/plain:https://hbb.rivio.dev/senioren/2018/wedstrijd/226
 02
END:VEVENT
BEGIN:VEVENT
UID:https://hbb.rivio.dev/senioren/2018/wedstrijd/22734
DTSTAMP:20260420T090529Z
SUMMARY:Hanevoet 4 - Dommelen 3
DESCRIPTION:Baan 3\, Wedstrijdnummer 3069\, Afdeling 3e klasse I
DTSTART:20190327T200000
DTEND:20190327T230000
LOCATION:City Resort Helmond
ATTACH;FMTTYPE=text/plain:https://hbb.rivio.dev/senioren/2018/wedstrijd/227
 34
END:VEVENT
BEGIN:VEVENT
UID:https://hbb.rivio.dev/senioren/2018/wedstrijd/22779
DTSTAMP:20260420T090529Z
SUMMARY:BC '85 2 - Dommelen 3
DESCRIPTION:Baan 11\, Wedstrijdnummer 2034\, Afdeling 3e klasse II D
DTSTART:20190404T200000
DTEND:20190404T230000
LOCATION:City Resort Helmond
ATTACH;FMTTYPE=text/plain:https://hbb.rivio.dev/senioren/2018/wedstrijd/227
 79
END:VEVENT
BEGIN:VEVENT
UID:https://hbb.rivio.dev/senioren/2018/wedstrijd/22783
DTSTAMP:20260420T090529Z
SUMMARY:Dommelen 3 - Never Down 2
DESCRIPTION:Baan 12\, Wedstrijdnummer 2038\, Afdeling 3e klasse II D
DTSTART:20190522T200000
DTEND:20190522T230000
LOCATION:City Resort Helmond
ATTACH;FMTTYPE=text/plain:https://hbb.rivio.dev/senioren/2018/wedstrijd/227
 83
END:VEVENT
BEGIN:VEVENT
UID:https://hbb.rivio.dev/senioren/2018/wedstrijd/22789
DTSTAMP:20260420T090529Z
SUMMARY:BCAB 5 - Dommelen 3
DESCRIPTION:Baan 12\, Wedstrijdnummer 3077\, Afdeling 3e klasse II K
DTSTART:20190526T130000
DTEND:20190526T144500
LOCATION:City Resort Helmond
ATTACH;FMTTYPE=text/plain:https://hbb.rivio.dev/senioren/2018/wedstrijd/227
 89
END:VEVENT
BEGIN:VTIMEZONE
TZID:Europe/Amsterdam
BEGIN:STANDARD
DTSTART:20180101T000000
TZNAME:CET
TZOFFSETTO:+0100
TZOFFSETFROM:+0100
END:STANDARD
BEGIN:DAYLIGHT
DTSTART:20180325T030000
TZNAME:CEST
TZOFFSETTO:+0200
TZOFFSETFROM:+0100
END:DAYLIGHT
BEGIN:STANDARD
DTSTART:20181028T020000
TZNAME:CET
TZOFFSETTO:+0100
TZOFFSETFROM:+0200
END:STANDARD
BEGIN:DAYLIGHT
DTSTART:20190331T030000
TZNAME:CEST
TZOFFSETTO:+0200
TZOFFSETFROM:+0100
END:DAYLIGHT
BEGIN:STANDARD
DTSTART:20191027T020000
TZNAME:CET
TZOFFSETTO:+0100
TZOFFSETFROM:+0200
END:STANDARD
END:VTIMEZONE
END:VCALENDAR
