BEGIN:VCALENDAR
PRODID:-//eluceo/ical//2.0/EN
VERSION:2.0
CALSCALE:GREGORIAN
BEGIN:VEVENT
UID:https://hbb.rivio.dev/senioren/2018/wedstrijd/22181
DTSTAMP:20260420T133605Z
SUMMARY:Dommelen 1 - Con Brio 5
DESCRIPTION:Baan 5\, Wedstrijdnummer 99\, Afdeling 1e klasse 
DTSTART:20180913T200000
DTEND:20180913T230000
LOCATION:City Resort Helmond
ATTACH;FMTTYPE=text/plain:https://hbb.rivio.dev/senioren/2018/wedstrijd/221
 81
END:VEVENT
BEGIN:VEVENT
UID:https://hbb.rivio.dev/senioren/2018/wedstrijd/22207
DTSTAMP:20260420T133605Z
SUMMARY:Smashing Bruang 2 - Dommelen 1
DESCRIPTION:Baan 14\, Wedstrijdnummer 102\, Afdeling 1e klasse 
DTSTART:20180920T200000
DTEND:20180920T230000
LOCATION:City Resort Helmond
ATTACH;FMTTYPE=text/plain:https://hbb.rivio.dev/senioren/2018/wedstrijd/222
 07
END:VEVENT
BEGIN:VEVENT
UID:https://hbb.rivio.dev/senioren/2018/wedstrijd/22232
DTSTAMP:20260420T133605Z
SUMMARY:Dommelen 1 - Mixed 6
DESCRIPTION:Baan 3\, Wedstrijdnummer 106\, Afdeling 1e klasse 
DTSTART:20181003T200000
DTEND:20181003T230000
LOCATION:City Resort Helmond
ATTACH;FMTTYPE=text/plain:https://hbb.rivio.dev/senioren/2018/wedstrijd/222
 32
END:VEVENT
BEGIN:VEVENT
UID:https://hbb.rivio.dev/senioren/2018/wedstrijd/22280
DTSTAMP:20260420T133605Z
SUMMARY:Mixed 5 - Dommelen 1
DESCRIPTION:Baan 14\, Wedstrijdnummer 109\, Afdeling 1e klasse 
DTSTART:20181024T200000
DTEND:20181024T230000
LOCATION:City Resort Helmond
ATTACH;FMTTYPE=text/plain:https://hbb.rivio.dev/senioren/2018/wedstrijd/222
 80
END:VEVENT
BEGIN:VEVENT
UID:https://hbb.rivio.dev/senioren/2018/wedstrijd/22334
DTSTAMP:20260420T133605Z
SUMMARY:Dommelen 1 - BCAB 3
DESCRIPTION:Baan 14\, Wedstrijdnummer 113\, Afdeling 1e klasse 
DTSTART:20181108T200000
DTEND:20181108T230000
LOCATION:City Resort Helmond
ATTACH;FMTTYPE=text/plain:https://hbb.rivio.dev/senioren/2018/wedstrijd/223
 34
END:VEVENT
BEGIN:VEVENT
UID:https://hbb.rivio.dev/senioren/2018/wedstrijd/22367
DTSTAMP:20260420T133605Z
SUMMARY:Mierlo 5 - Dommelen 1
DESCRIPTION:Baan 15\, Wedstrijdnummer 120\, Afdeling 1e klasse 
DTSTART:20181121T200000
DTEND:20181121T230000
LOCATION:City Resort Helmond
ATTACH;FMTTYPE=text/plain:https://hbb.rivio.dev/senioren/2018/wedstrijd/223
 67
END:VEVENT
BEGIN:VEVENT
UID:https://hbb.rivio.dev/senioren/2018/wedstrijd/22434
DTSTAMP:20260420T133605Z
SUMMARY:Hanevoet 2 - Dommelen 1
DESCRIPTION:Baan 4\, Wedstrijdnummer 121\, Afdeling 1e klasse 
DTSTART:20181220T200000
DTEND:20181220T230000
LOCATION:City Resort Helmond
ATTACH;FMTTYPE=text/plain:https://hbb.rivio.dev/senioren/2018/wedstrijd/224
 34
END:VEVENT
BEGIN:VEVENT
UID:https://hbb.rivio.dev/senioren/2018/wedstrijd/22450
DTSTAMP:20260420T133605Z
SUMMARY:Dommelen 1 - Mierlo 5
DESCRIPTION:Baan 12\, Wedstrijdnummer 3046\, Afdeling 1e klasse 
DTSTART:20190116T200000
DTEND:20190116T230000
LOCATION:City Resort Helmond
ATTACH;FMTTYPE=text/plain:https://hbb.rivio.dev/senioren/2018/wedstrijd/224
 50
END:VEVENT
BEGIN:VEVENT
UID:https://hbb.rivio.dev/senioren/2018/wedstrijd/22466
DTSTAMP:20260420T133605Z
SUMMARY:Con Brio 5 - Dommelen 1
DESCRIPTION:Baan 2\, Wedstrijdnummer 1054\, Afdeling 1e klasse 
DTSTART:20190123T200000
DTEND:20190123T230000
LOCATION:City Resort Helmond
ATTACH;FMTTYPE=text/plain:https://hbb.rivio.dev/senioren/2018/wedstrijd/224
 66
END:VEVENT
BEGIN:VEVENT
UID:https://hbb.rivio.dev/senioren/2018/wedstrijd/22518
DTSTAMP:20260420T133605Z
SUMMARY:Dommelen 1 - Smashing Bruang 2
DESCRIPTION:Baan 2\, Wedstrijdnummer 1057\, Afdeling 1e klasse 
DTSTART:20190207T200000
DTEND:20190207T230000
LOCATION:City Resort Helmond
ATTACH;FMTTYPE=text/plain:https://hbb.rivio.dev/senioren/2018/wedstrijd/225
 18
END:VEVENT
BEGIN:VEVENT
UID:https://hbb.rivio.dev/senioren/2018/wedstrijd/22528
DTSTAMP:20260420T133605Z
SUMMARY:Mixed 6 - Dommelen 1
DESCRIPTION:Baan 1\, Wedstrijdnummer 1061\, Afdeling 1e klasse 
DTSTART:20190213T200000
DTEND:20190213T230000
LOCATION:City Resort Helmond
ATTACH;FMTTYPE=text/plain:https://hbb.rivio.dev/senioren/2018/wedstrijd/225
 28
END:VEVENT
BEGIN:VEVENT
UID:https://hbb.rivio.dev/senioren/2018/wedstrijd/22584
DTSTAMP:20260420T133605Z
SUMMARY:Dommelen 1 - Mixed 5
DESCRIPTION:Baan 13\, Wedstrijdnummer 1064\, Afdeling 1e klasse 
DTSTART:20190228T200000
DTEND:20190228T230000
LOCATION:City Resort Helmond
ATTACH;FMTTYPE=text/plain:https://hbb.rivio.dev/senioren/2018/wedstrijd/225
 84
END:VEVENT
BEGIN:VEVENT
UID:https://hbb.rivio.dev/senioren/2018/wedstrijd/22614
DTSTAMP:20260420T133605Z
SUMMARY:BCAB 3 - Dommelen 1
DESCRIPTION:Baan 13\, Wedstrijdnummer 1068\, Afdeling 1e klasse 
DTSTART:20190321T200000
DTEND:20190321T230000
LOCATION:City Resort Helmond
ATTACH;FMTTYPE=text/plain:https://hbb.rivio.dev/senioren/2018/wedstrijd/226
 14
END:VEVENT
BEGIN:VEVENT
UID:https://hbb.rivio.dev/senioren/2018/wedstrijd/22744
DTSTAMP:20260420T133605Z
SUMMARY:Mixed 5 - Dommelen 1
DESCRIPTION:Baan 11\, Wedstrijdnummer 3065\, Afdeling 1e klasse 
DTSTART:20190327T200000
DTEND:20190327T230000
LOCATION:City Resort Helmond
ATTACH;FMTTYPE=text/plain:https://hbb.rivio.dev/senioren/2018/wedstrijd/227
 44
END:VEVENT
BEGIN:VEVENT
UID:https://hbb.rivio.dev/senioren/2018/wedstrijd/22686
DTSTAMP:20260420T133605Z
SUMMARY:Dommelen 1 - Mierlo 5
DESCRIPTION:Baan 14\, Wedstrijdnummer 1075\, Afdeling 1e klasse 
DTSTART:20190404T200000
DTEND:20190404T230000
LOCATION:City Resort Helmond
ATTACH;FMTTYPE=text/plain:https://hbb.rivio.dev/senioren/2018/wedstrijd/226
 86
END:VEVENT
BEGIN:VEVENT
UID:https://hbb.rivio.dev/senioren/2018/wedstrijd/22655
DTSTAMP:20260420T133605Z
SUMMARY:Dommelen 1 - Hanevoet 2
DESCRIPTION:Baan 11\, Wedstrijdnummer 1076\, Afdeling 1e klasse 
DTSTART:20190418T200000
DTEND:20190418T230000
LOCATION:City Resort Helmond
ATTACH;FMTTYPE=text/plain:https://hbb.rivio.dev/senioren/2018/wedstrijd/226
 55
END:VEVENT
BEGIN:VEVENT
UID:https://hbb.rivio.dev/senioren/2018/wedstrijd/22787
DTSTAMP:20260420T133605Z
SUMMARY:BCAB 3 - Dommelen 1
DESCRIPTION:Baan 9\, Wedstrijdnummer 3075\, Afdeling 1e klasse 
DTSTART:20190526T130000
DTEND:20190526T144500
LOCATION:City Resort Helmond
ATTACH;FMTTYPE=text/plain:https://hbb.rivio.dev/senioren/2018/wedstrijd/227
 87
END:VEVENT
BEGIN:VTIMEZONE
TZID:Europe/Amsterdam
BEGIN:STANDARD
DTSTART:20180101T000000
TZNAME:CET
TZOFFSETTO:+0100
TZOFFSETFROM:+0100
END:STANDARD
BEGIN:DAYLIGHT
DTSTART:20180325T030000
TZNAME:CEST
TZOFFSETTO:+0200
TZOFFSETFROM:+0100
END:DAYLIGHT
BEGIN:STANDARD
DTSTART:20181028T020000
TZNAME:CET
TZOFFSETTO:+0100
TZOFFSETFROM:+0200
END:STANDARD
BEGIN:DAYLIGHT
DTSTART:20190331T030000
TZNAME:CEST
TZOFFSETTO:+0200
TZOFFSETFROM:+0100
END:DAYLIGHT
BEGIN:STANDARD
DTSTART:20191027T020000
TZNAME:CET
TZOFFSETTO:+0100
TZOFFSETFROM:+0200
END:STANDARD
END:VTIMEZONE
END:VCALENDAR
