BEGIN:VCALENDAR
PRODID:-//eluceo/ical//2.0/EN
VERSION:2.0
CALSCALE:GREGORIAN
BEGIN:VEVENT
UID:https://hbb.rivio.dev/senioren/2018/wedstrijd/22171
DTSTAMP:20260420T220307Z
SUMMARY:Gemert 3 - Hanevoet 4
DESCRIPTION:Baan 5\, Wedstrijdnummer 167\, Afdeling 3e klasse I
DTSTART:20180912T200000
DTEND:20180912T230000
LOCATION:City Resort Helmond
ATTACH;FMTTYPE=text/plain:https://hbb.rivio.dev/senioren/2018/wedstrijd/221
 71
END:VEVENT
BEGIN:VEVENT
UID:https://hbb.rivio.dev/senioren/2018/wedstrijd/22224
DTSTAMP:20260420T220307Z
SUMMARY:Hanevoet 4 - Veldhoven 2
DESCRIPTION:Baan 10\, Wedstrijdnummer 170\, Afdeling 3e klasse I
DTSTART:20180927T200000
DTEND:20180927T230000
LOCATION:City Resort Helmond
ATTACH;FMTTYPE=text/plain:https://hbb.rivio.dev/senioren/2018/wedstrijd/222
 24
END:VEVENT
BEGIN:VEVENT
UID:https://hbb.rivio.dev/senioren/2018/wedstrijd/22266
DTSTAMP:20260420T220307Z
SUMMARY:Someren 3 - Hanevoet 4
DESCRIPTION:Baan 10\, Wedstrijdnummer 174\, Afdeling 3e klasse I
DTSTART:20181011T200000
DTEND:20181011T230000
LOCATION:City Resort Helmond
ATTACH;FMTTYPE=text/plain:https://hbb.rivio.dev/senioren/2018/wedstrijd/222
 66
END:VEVENT
BEGIN:VEVENT
UID:https://hbb.rivio.dev/senioren/2018/wedstrijd/22307
DTSTAMP:20260420T220307Z
SUMMARY:Hanevoet 4 - Mierlo 9
DESCRIPTION:Baan 5\, Wedstrijdnummer 177\, Afdeling 3e klasse I
DTSTART:20181101T200000
DTEND:20181101T230000
LOCATION:City Resort Helmond
ATTACH;FMTTYPE=text/plain:https://hbb.rivio.dev/senioren/2018/wedstrijd/223
 07
END:VEVENT
BEGIN:VEVENT
UID:https://hbb.rivio.dev/senioren/2018/wedstrijd/22324
DTSTAMP:20260420T220307Z
SUMMARY:Hanevoet 4 - BCAB 5
DESCRIPTION:Baan 15\, Wedstrijdnummer 3023\, Afdeling 3e klasse I
DTSTART:20181107T200000
DTEND:20181107T230000
LOCATION:City Resort Helmond
ATTACH;FMTTYPE=text/plain:https://hbb.rivio.dev/senioren/2018/wedstrijd/223
 24
END:VEVENT
BEGIN:VEVENT
UID:https://hbb.rivio.dev/senioren/2018/wedstrijd/22373
DTSTAMP:20260420T220307Z
SUMMARY:Mixed 8 - Hanevoet 4
DESCRIPTION:Baan 10\, Wedstrijdnummer 181\, Afdeling 3e klasse I
DTSTART:20181122T200000
DTEND:20181122T230000
LOCATION:City Resort Helmond
ATTACH;FMTTYPE=text/plain:https://hbb.rivio.dev/senioren/2018/wedstrijd/223
 73
END:VEVENT
BEGIN:VEVENT
UID:https://hbb.rivio.dev/senioren/2018/wedstrijd/22413
DTSTAMP:20260420T220307Z
SUMMARY:Hanevoet 4 - Ganzeveer 3
DESCRIPTION:Baan 4\, Wedstrijdnummer 184\, Afdeling 3e klasse I
DTSTART:20181213T200000
DTEND:20181213T230000
LOCATION:City Resort Helmond
ATTACH;FMTTYPE=text/plain:https://hbb.rivio.dev/senioren/2018/wedstrijd/224
 13
END:VEVENT
BEGIN:VEVENT
UID:https://hbb.rivio.dev/senioren/2018/wedstrijd/22697
DTSTAMP:20260420T220307Z
SUMMARY:Hanevoet 4 - Someren 4
DESCRIPTION:Baan 5\, Wedstrijdnummer 3052\, Afdeling 3e klasse I
DTSTART:20190109T200000
DTEND:20190109T230000
LOCATION:City Resort Helmond
ATTACH;FMTTYPE=text/plain:https://hbb.rivio.dev/senioren/2018/wedstrijd/226
 97
END:VEVENT
BEGIN:VEVENT
UID:https://hbb.rivio.dev/senioren/2018/wedstrijd/22484
DTSTAMP:20260420T220307Z
SUMMARY:Hanevoet 4 - Gemert 3
DESCRIPTION:Baan 14\, Wedstrijdnummer 1122\, Afdeling 3e klasse I
DTSTART:20190124T200000
DTEND:20190124T230000
LOCATION:City Resort Helmond
ATTACH;FMTTYPE=text/plain:https://hbb.rivio.dev/senioren/2018/wedstrijd/224
 84
END:VEVENT
BEGIN:VEVENT
UID:https://hbb.rivio.dev/senioren/2018/wedstrijd/22538
DTSTAMP:20260420T220307Z
SUMMARY:Veldhoven 2 - Hanevoet 4
DESCRIPTION:Baan 1\, Wedstrijdnummer 1125\, Afdeling 3e klasse I
DTSTART:20190214T200000
DTEND:20190214T230000
LOCATION:City Resort Helmond
ATTACH;FMTTYPE=text/plain:https://hbb.rivio.dev/senioren/2018/wedstrijd/225
 38
END:VEVENT
BEGIN:VEVENT
UID:https://hbb.rivio.dev/senioren/2018/wedstrijd/22555
DTSTAMP:20260420T220307Z
SUMMARY:Hanevoet 4 - Someren 3
DESCRIPTION:Baan 1\, Wedstrijdnummer 1129\, Afdeling 3e klasse I
DTSTART:20190221T200000
DTEND:20190221T230000
LOCATION:City Resort Helmond
ATTACH;FMTTYPE=text/plain:https://hbb.rivio.dev/senioren/2018/wedstrijd/225
 55
END:VEVENT
BEGIN:VEVENT
UID:https://hbb.rivio.dev/senioren/2018/wedstrijd/22596
DTSTAMP:20260420T220307Z
SUMMARY:Mierlo 9 - Hanevoet 4
DESCRIPTION:Baan 15\, Wedstrijdnummer 1132\, Afdeling 3e klasse I
DTSTART:20190313T200000
DTEND:20190313T230000
LOCATION:City Resort Helmond
ATTACH;FMTTYPE=text/plain:https://hbb.rivio.dev/senioren/2018/wedstrijd/225
 96
END:VEVENT
BEGIN:VEVENT
UID:https://hbb.rivio.dev/senioren/2018/wedstrijd/22734
DTSTAMP:20260420T220307Z
SUMMARY:Hanevoet 4 - Dommelen 3
DESCRIPTION:Baan 3\, Wedstrijdnummer 3069\, Afdeling 3e klasse I
DTSTART:20190327T200000
DTEND:20190327T230000
LOCATION:City Resort Helmond
ATTACH;FMTTYPE=text/plain:https://hbb.rivio.dev/senioren/2018/wedstrijd/227
 34
END:VEVENT
BEGIN:VEVENT
UID:https://hbb.rivio.dev/senioren/2018/wedstrijd/22630
DTSTAMP:20260420T220307Z
SUMMARY:Hanevoet 4 - Mixed 8
DESCRIPTION:Baan 4\, Wedstrijdnummer 1136\, Afdeling 3e klasse I
DTSTART:20190404T200000
DTEND:20190404T230000
LOCATION:City Resort Helmond
ATTACH;FMTTYPE=text/plain:https://hbb.rivio.dev/senioren/2018/wedstrijd/226
 30
END:VEVENT
BEGIN:VEVENT
UID:https://hbb.rivio.dev/senioren/2018/wedstrijd/22646
DTSTAMP:20260420T220307Z
SUMMARY:Ganzeveer 3 - Hanevoet 4
DESCRIPTION:Baan 11\, Wedstrijdnummer 1139\, Afdeling 3e klasse I
DTSTART:20190417T200000
DTEND:20190417T230000
LOCATION:City Resort Helmond
ATTACH;FMTTYPE=text/plain:https://hbb.rivio.dev/senioren/2018/wedstrijd/226
 46
END:VEVENT
BEGIN:VTIMEZONE
TZID:Europe/Amsterdam
BEGIN:STANDARD
DTSTART:20180101T000000
TZNAME:CET
TZOFFSETTO:+0100
TZOFFSETFROM:+0100
END:STANDARD
BEGIN:DAYLIGHT
DTSTART:20180325T030000
TZNAME:CEST
TZOFFSETTO:+0200
TZOFFSETFROM:+0100
END:DAYLIGHT
BEGIN:STANDARD
DTSTART:20181028T020000
TZNAME:CET
TZOFFSETTO:+0100
TZOFFSETFROM:+0200
END:STANDARD
BEGIN:DAYLIGHT
DTSTART:20190331T030000
TZNAME:CEST
TZOFFSETTO:+0200
TZOFFSETFROM:+0100
END:DAYLIGHT
BEGIN:STANDARD
DTSTART:20191027T020000
TZNAME:CET
TZOFFSETTO:+0100
TZOFFSETFROM:+0200
END:STANDARD
END:VTIMEZONE
END:VCALENDAR
