BEGIN:VCALENDAR
PRODID:-//eluceo/ical//2.0/EN
VERSION:2.0
CALSCALE:GREGORIAN
BEGIN:VEVENT
UID:https://hbb.rivio.dev/senioren/2018/wedstrijd/22184
DTSTAMP:20260420T165844Z
SUMMARY:Mixed 7 - Hanevoet 3
DESCRIPTION:Baan 12\, Wedstrijdnummer 146\, Afdeling 2e klasse II
DTSTART:20180913T200000
DTEND:20180913T230000
LOCATION:City Resort Helmond
ATTACH;FMTTYPE=text/plain:https://hbb.rivio.dev/senioren/2018/wedstrijd/221
 84
END:VEVENT
BEGIN:VEVENT
UID:https://hbb.rivio.dev/senioren/2018/wedstrijd/22220
DTSTAMP:20260420T165844Z
SUMMARY:Hanevoet 3 - Mierlo 7
DESCRIPTION:Baan 2\, Wedstrijdnummer 149\, Afdeling 2e klasse II
DTSTART:20180927T200000
DTEND:20180927T230000
LOCATION:City Resort Helmond
ATTACH;FMTTYPE=text/plain:https://hbb.rivio.dev/senioren/2018/wedstrijd/222
 20
END:VEVENT
BEGIN:VEVENT
UID:https://hbb.rivio.dev/senioren/2018/wedstrijd/22261
DTSTAMP:20260420T165844Z
SUMMARY:BCAB 4 - Hanevoet 3
DESCRIPTION:Baan 1\, Wedstrijdnummer 153\, Afdeling 2e klasse II
DTSTART:20181011T200000
DTEND:20181011T230000
LOCATION:City Resort Helmond
ATTACH;FMTTYPE=text/plain:https://hbb.rivio.dev/senioren/2018/wedstrijd/222
 61
END:VEVENT
BEGIN:VEVENT
UID:https://hbb.rivio.dev/senioren/2018/wedstrijd/22287
DTSTAMP:20260420T165844Z
SUMMARY:Hanevoet 3 - Gemert 2
DESCRIPTION:Baan 10\, Wedstrijdnummer 156\, Afdeling 2e klasse II
DTSTART:20181025T200000
DTEND:20181025T230000
LOCATION:City Resort Helmond
ATTACH;FMTTYPE=text/plain:https://hbb.rivio.dev/senioren/2018/wedstrijd/222
 87
END:VEVENT
BEGIN:VEVENT
UID:https://hbb.rivio.dev/senioren/2018/wedstrijd/22327
DTSTAMP:20260420T165844Z
SUMMARY:Gemert 1 - Hanevoet 3
DESCRIPTION:Baan 3\, Wedstrijdnummer 3013\, Afdeling 2e klasse I
DTSTART:20181108T200000
DTEND:20181108T230000
LOCATION:City Resort Helmond
ATTACH;FMTTYPE=text/plain:https://hbb.rivio.dev/senioren/2018/wedstrijd/223
 27
END:VEVENT
BEGIN:VEVENT
UID:https://hbb.rivio.dev/senioren/2018/wedstrijd/22356
DTSTAMP:20260420T165844Z
SUMMARY:Con Brio 6 - Hanevoet 3
DESCRIPTION:Baan 14\, Wedstrijdnummer 160\, Afdeling 2e klasse II
DTSTART:20181115T200000
DTEND:20181115T230000
LOCATION:City Resort Helmond
ATTACH;FMTTYPE=text/plain:https://hbb.rivio.dev/senioren/2018/wedstrijd/223
 56
END:VEVENT
BEGIN:VEVENT
UID:https://hbb.rivio.dev/senioren/2018/wedstrijd/22399
DTSTAMP:20260420T165844Z
SUMMARY:Hanevoet 3 - RBC 2
DESCRIPTION:Baan 15\, Wedstrijdnummer 163\, Afdeling 2e klasse II
DTSTART:20181129T200000
DTEND:20181129T230000
LOCATION:City Resort Helmond
ATTACH;FMTTYPE=text/plain:https://hbb.rivio.dev/senioren/2018/wedstrijd/223
 99
END:VEVENT
BEGIN:VEVENT
UID:https://hbb.rivio.dev/senioren/2018/wedstrijd/22693
DTSTAMP:20260420T165844Z
SUMMARY:Mixed 7 - Hanevoet 3
DESCRIPTION:Baan 2\, Wedstrijdnummer 3048\, Afdeling 2e klasse II
DTSTART:20190110T200000
DTEND:20190110T230000
LOCATION:City Resort Helmond
ATTACH;FMTTYPE=text/plain:https://hbb.rivio.dev/senioren/2018/wedstrijd/226
 93
END:VEVENT
BEGIN:VEVENT
UID:https://hbb.rivio.dev/senioren/2018/wedstrijd/22478
DTSTAMP:20260420T165844Z
SUMMARY:Hanevoet 3 - Mixed 7
DESCRIPTION:Baan 4\, Wedstrijdnummer 1101\, Afdeling 2e klasse II
DTSTART:20190124T200000
DTEND:20190124T230000
LOCATION:City Resort Helmond
ATTACH;FMTTYPE=text/plain:https://hbb.rivio.dev/senioren/2018/wedstrijd/224
 78
END:VEVENT
BEGIN:VEVENT
UID:https://hbb.rivio.dev/senioren/2018/wedstrijd/22523
DTSTAMP:20260420T165844Z
SUMMARY:Mierlo 7 - Hanevoet 3
DESCRIPTION:Baan 11\, Wedstrijdnummer 1104\, Afdeling 2e klasse II
DTSTART:20190207T200000
DTEND:20190207T230000
LOCATION:City Resort Helmond
ATTACH;FMTTYPE=text/plain:https://hbb.rivio.dev/senioren/2018/wedstrijd/225
 23
END:VEVENT
BEGIN:VEVENT
UID:https://hbb.rivio.dev/senioren/2018/wedstrijd/22560
DTSTAMP:20260420T165844Z
SUMMARY:Hanevoet 3 - BCAB 4
DESCRIPTION:Baan 10\, Wedstrijdnummer 1108\, Afdeling 2e klasse II
DTSTART:20190221T200000
DTEND:20190221T230000
LOCATION:City Resort Helmond
ATTACH;FMTTYPE=text/plain:https://hbb.rivio.dev/senioren/2018/wedstrijd/225
 60
END:VEVENT
BEGIN:VEVENT
UID:https://hbb.rivio.dev/senioren/2018/wedstrijd/22591
DTSTAMP:20260420T165844Z
SUMMARY:Gemert 2 - Hanevoet 3
DESCRIPTION:Baan 10\, Wedstrijdnummer 1111\, Afdeling 2e klasse II
DTSTART:20190313T200000
DTEND:20190313T230000
LOCATION:City Resort Helmond
ATTACH;FMTTYPE=text/plain:https://hbb.rivio.dev/senioren/2018/wedstrijd/225
 91
END:VEVENT
BEGIN:VEVENT
UID:https://hbb.rivio.dev/senioren/2018/wedstrijd/22740
DTSTAMP:20260420T165844Z
SUMMARY:Mierlo 7 - Hanevoet 3
DESCRIPTION:Baan 3\, Wedstrijdnummer 3067\, Afdeling 2e klasse II
DTSTART:20190321T200000
DTEND:20190321T230000
LOCATION:City Resort Helmond
ATTACH;FMTTYPE=text/plain:https://hbb.rivio.dev/senioren/2018/wedstrijd/227
 40
END:VEVENT
BEGIN:VEVENT
UID:https://hbb.rivio.dev/senioren/2018/wedstrijd/22617
DTSTAMP:20260420T165844Z
SUMMARY:Hanevoet 3 - Con Brio 6
DESCRIPTION:Baan 2\, Wedstrijdnummer 1115\, Afdeling 2e klasse II
DTSTART:20190328T200000
DTEND:20190328T230000
LOCATION:City Resort Helmond
ATTACH;FMTTYPE=text/plain:https://hbb.rivio.dev/senioren/2018/wedstrijd/226
 17
END:VEVENT
BEGIN:VEVENT
UID:https://hbb.rivio.dev/senioren/2018/wedstrijd/22635
DTSTAMP:20260420T165844Z
SUMMARY:RBC 2 - Hanevoet 3
DESCRIPTION:Baan 15\, Wedstrijdnummer 1118\, Afdeling 2e klasse II
DTSTART:20190404T200000
DTEND:20190404T230000
LOCATION:City Resort Helmond
ATTACH;FMTTYPE=text/plain:https://hbb.rivio.dev/senioren/2018/wedstrijd/226
 35
END:VEVENT
BEGIN:VEVENT
UID:https://hbb.rivio.dev/senioren/2018/wedstrijd/22788
DTSTAMP:20260420T165844Z
SUMMARY:Bakel 2 - Hanevoet 3
DESCRIPTION:Baan 11\, Wedstrijdnummer 3076\, Afdeling 2e klasse I
DTSTART:20190526T130000
DTEND:20190526T144500
LOCATION:City Resort Helmond
ATTACH;FMTTYPE=text/plain:https://hbb.rivio.dev/senioren/2018/wedstrijd/227
 88
END:VEVENT
BEGIN:VTIMEZONE
TZID:Europe/Amsterdam
BEGIN:STANDARD
DTSTART:20180101T000000
TZNAME:CET
TZOFFSETTO:+0100
TZOFFSETFROM:+0100
END:STANDARD
BEGIN:DAYLIGHT
DTSTART:20180325T030000
TZNAME:CEST
TZOFFSETTO:+0200
TZOFFSETFROM:+0100
END:DAYLIGHT
BEGIN:STANDARD
DTSTART:20181028T020000
TZNAME:CET
TZOFFSETTO:+0100
TZOFFSETFROM:+0200
END:STANDARD
BEGIN:DAYLIGHT
DTSTART:20190331T030000
TZNAME:CEST
TZOFFSETTO:+0200
TZOFFSETFROM:+0100
END:DAYLIGHT
BEGIN:STANDARD
DTSTART:20191027T020000
TZNAME:CET
TZOFFSETTO:+0100
TZOFFSETFROM:+0200
END:STANDARD
END:VTIMEZONE
END:VCALENDAR
