BEGIN:VCALENDAR
PRODID:-//eluceo/ical//2.0/EN
VERSION:2.0
CALSCALE:GREGORIAN
BEGIN:VEVENT
UID:https://hbb.rivio.dev/senioren/2018/wedstrijd/22182
DTSTAMP:20260420T220541Z
SUMMARY:Hanevoet 2 - Mierlo 5
DESCRIPTION:Baan 10\, Wedstrijdnummer 100\, Afdeling 1e klasse 
DTSTART:20180913T200000
DTEND:20180913T230000
LOCATION:City Resort Helmond
ATTACH;FMTTYPE=text/plain:https://hbb.rivio.dev/senioren/2018/wedstrijd/221
 82
END:VEVENT
BEGIN:VEVENT
UID:https://hbb.rivio.dev/senioren/2018/wedstrijd/22208
DTSTAMP:20260420T220541Z
SUMMARY:Con Brio 5 - Hanevoet 2
DESCRIPTION:Baan 15\, Wedstrijdnummer 103\, Afdeling 1e klasse 
DTSTART:20180920T200000
DTEND:20180920T230000
LOCATION:City Resort Helmond
ATTACH;FMTTYPE=text/plain:https://hbb.rivio.dev/senioren/2018/wedstrijd/222
 08
END:VEVENT
BEGIN:VEVENT
UID:https://hbb.rivio.dev/senioren/2018/wedstrijd/22247
DTSTAMP:20260420T220541Z
SUMMARY:Hanevoet 2 - Smashing Bruang 2
DESCRIPTION:Baan 12\, Wedstrijdnummer 107\, Afdeling 1e klasse 
DTSTART:20181004T200000
DTEND:20181004T230000
LOCATION:City Resort Helmond
ATTACH;FMTTYPE=text/plain:https://hbb.rivio.dev/senioren/2018/wedstrijd/222
 47
END:VEVENT
BEGIN:VEVENT
UID:https://hbb.rivio.dev/senioren/2018/wedstrijd/22289
DTSTAMP:20260420T220541Z
SUMMARY:Mixed 6 - Hanevoet 2
DESCRIPTION:Baan 12\, Wedstrijdnummer 110\, Afdeling 1e klasse 
DTSTART:20181025T200000
DTEND:20181025T230000
LOCATION:City Resort Helmond
ATTACH;FMTTYPE=text/plain:https://hbb.rivio.dev/senioren/2018/wedstrijd/222
 89
END:VEVENT
BEGIN:VEVENT
UID:https://hbb.rivio.dev/senioren/2018/wedstrijd/22335
DTSTAMP:20260420T220541Z
SUMMARY:Hanevoet 2 - Mixed 5
DESCRIPTION:Baan 15\, Wedstrijdnummer 114\, Afdeling 1e klasse 
DTSTART:20181108T200000
DTEND:20181108T230000
LOCATION:City Resort Helmond
ATTACH;FMTTYPE=text/plain:https://hbb.rivio.dev/senioren/2018/wedstrijd/223
 35
END:VEVENT
BEGIN:VEVENT
UID:https://hbb.rivio.dev/senioren/2018/wedstrijd/22394
DTSTAMP:20260420T220541Z
SUMMARY:BCAB 3 - Hanevoet 2
DESCRIPTION:Baan 10\, Wedstrijdnummer 117\, Afdeling 1e klasse 
DTSTART:20181129T200000
DTEND:20181129T230000
LOCATION:City Resort Helmond
ATTACH;FMTTYPE=text/plain:https://hbb.rivio.dev/senioren/2018/wedstrijd/223
 94
END:VEVENT
BEGIN:VEVENT
UID:https://hbb.rivio.dev/senioren/2018/wedstrijd/22434
DTSTAMP:20260420T220541Z
SUMMARY:Hanevoet 2 - Dommelen 1
DESCRIPTION:Baan 4\, Wedstrijdnummer 121\, Afdeling 1e klasse 
DTSTART:20181220T200000
DTEND:20181220T230000
LOCATION:City Resort Helmond
ATTACH;FMTTYPE=text/plain:https://hbb.rivio.dev/senioren/2018/wedstrijd/224
 34
END:VEVENT
BEGIN:VEVENT
UID:https://hbb.rivio.dev/senioren/2018/wedstrijd/22449
DTSTAMP:20260420T220541Z
SUMMARY:Hanevoet 2 - Mixed 6
DESCRIPTION:Baan 11\, Wedstrijdnummer 3045\, Afdeling 1e klasse 
DTSTART:20190116T200000
DTEND:20190116T230000
LOCATION:City Resort Helmond
ATTACH;FMTTYPE=text/plain:https://hbb.rivio.dev/senioren/2018/wedstrijd/224
 49
END:VEVENT
BEGIN:VEVENT
UID:https://hbb.rivio.dev/senioren/2018/wedstrijd/22476
DTSTAMP:20260420T220541Z
SUMMARY:Mierlo 5 - Hanevoet 2
DESCRIPTION:Baan 2\, Wedstrijdnummer 1055\, Afdeling 1e klasse 
DTSTART:20190124T200000
DTEND:20190124T230000
LOCATION:City Resort Helmond
ATTACH;FMTTYPE=text/plain:https://hbb.rivio.dev/senioren/2018/wedstrijd/224
 76
END:VEVENT
BEGIN:VEVENT
UID:https://hbb.rivio.dev/senioren/2018/wedstrijd/22519
DTSTAMP:20260420T220541Z
SUMMARY:Hanevoet 2 - Con Brio 5
DESCRIPTION:Baan 3\, Wedstrijdnummer 1058\, Afdeling 1e klasse 
DTSTART:20190207T200000
DTEND:20190207T230000
LOCATION:City Resort Helmond
ATTACH;FMTTYPE=text/plain:https://hbb.rivio.dev/senioren/2018/wedstrijd/225
 19
END:VEVENT
BEGIN:VEVENT
UID:https://hbb.rivio.dev/senioren/2018/wedstrijd/22557
DTSTAMP:20260420T220541Z
SUMMARY:Smashing Bruang 2 - Hanevoet 2
DESCRIPTION:Baan 3\, Wedstrijdnummer 1062\, Afdeling 1e klasse 
DTSTART:20190221T200000
DTEND:20190221T230000
LOCATION:City Resort Helmond
ATTACH;FMTTYPE=text/plain:https://hbb.rivio.dev/senioren/2018/wedstrijd/225
 57
END:VEVENT
BEGIN:VEVENT
UID:https://hbb.rivio.dev/senioren/2018/wedstrijd/22685
DTSTAMP:20260420T220541Z
SUMMARY:Hanevoet 2 - Mixed 6
DESCRIPTION:Baan 14\, Wedstrijdnummer 1065\, Afdeling 1e klasse 
DTSTART:20190228T200000
DTEND:20190228T230000
LOCATION:City Resort Helmond
ATTACH;FMTTYPE=text/plain:https://hbb.rivio.dev/senioren/2018/wedstrijd/226
 85
END:VEVENT
BEGIN:VEVENT
UID:https://hbb.rivio.dev/senioren/2018/wedstrijd/22615
DTSTAMP:20260420T220541Z
SUMMARY:Mixed 5 - Hanevoet 2
DESCRIPTION:Baan 14\, Wedstrijdnummer 1069\, Afdeling 1e klasse 
DTSTART:20190321T200000
DTEND:20190321T230000
LOCATION:City Resort Helmond
ATTACH;FMTTYPE=text/plain:https://hbb.rivio.dev/senioren/2018/wedstrijd/226
 15
END:VEVENT
BEGIN:VEVENT
UID:https://hbb.rivio.dev/senioren/2018/wedstrijd/22745
DTSTAMP:20260420T220541Z
SUMMARY:BCAB 3 - Hanevoet 2
DESCRIPTION:Baan 12\, Wedstrijdnummer 3066\, Afdeling 1e klasse 
DTSTART:20190327T200000
DTEND:20190327T230000
LOCATION:City Resort Helmond
ATTACH;FMTTYPE=text/plain:https://hbb.rivio.dev/senioren/2018/wedstrijd/227
 45
END:VEVENT
BEGIN:VEVENT
UID:https://hbb.rivio.dev/senioren/2018/wedstrijd/22632
DTSTAMP:20260420T220541Z
SUMMARY:Hanevoet 2 - BCAB 3
DESCRIPTION:Baan 12\, Wedstrijdnummer 1072\, Afdeling 1e klasse 
DTSTART:20190404T200000
DTEND:20190404T230000
LOCATION:City Resort Helmond
ATTACH;FMTTYPE=text/plain:https://hbb.rivio.dev/senioren/2018/wedstrijd/226
 32
END:VEVENT
BEGIN:VEVENT
UID:https://hbb.rivio.dev/senioren/2018/wedstrijd/22655
DTSTAMP:20260420T220541Z
SUMMARY:Dommelen 1 - Hanevoet 2
DESCRIPTION:Baan 11\, Wedstrijdnummer 1076\, Afdeling 1e klasse 
DTSTART:20190418T200000
DTEND:20190418T230000
LOCATION:City Resort Helmond
ATTACH;FMTTYPE=text/plain:https://hbb.rivio.dev/senioren/2018/wedstrijd/226
 55
END:VEVENT
BEGIN:VTIMEZONE
TZID:Europe/Amsterdam
BEGIN:STANDARD
DTSTART:20180101T000000
TZNAME:CET
TZOFFSETTO:+0100
TZOFFSETFROM:+0100
END:STANDARD
BEGIN:DAYLIGHT
DTSTART:20180325T030000
TZNAME:CEST
TZOFFSETTO:+0200
TZOFFSETFROM:+0100
END:DAYLIGHT
BEGIN:STANDARD
DTSTART:20181028T020000
TZNAME:CET
TZOFFSETTO:+0100
TZOFFSETFROM:+0200
END:STANDARD
BEGIN:DAYLIGHT
DTSTART:20190331T030000
TZNAME:CEST
TZOFFSETTO:+0200
TZOFFSETFROM:+0100
END:DAYLIGHT
BEGIN:STANDARD
DTSTART:20191027T020000
TZNAME:CET
TZOFFSETTO:+0100
TZOFFSETFROM:+0200
END:STANDARD
END:VTIMEZONE
END:VCALENDAR
