BEGIN:VCALENDAR
PRODID:-//eluceo/ical//2.0/EN
VERSION:2.0
CALSCALE:GREGORIAN
BEGIN:VEVENT
UID:https://hbb.rivio.dev/senioren/2018/wedstrijd/22167
DTSTAMP:20260420T165959Z
SUMMARY:Ganzeveer 1 - BCV '73 1
DESCRIPTION:Baan 1\, Wedstrijdnummer 3\, Afdeling Topklasse 
DTSTART:20180912T200000
DTEND:20180912T230000
LOCATION:City Resort Helmond
ATTACH;FMTTYPE=text/plain:https://hbb.rivio.dev/senioren/2018/wedstrijd/221
 67
END:VEVENT
BEGIN:VEVENT
UID:https://hbb.rivio.dev/senioren/2018/wedstrijd/22245
DTSTAMP:20260420T165959Z
SUMMARY:BCV '73 1 - Con Brio 2
DESCRIPTION:Baan 10\, Wedstrijdnummer 9\, Afdeling Topklasse 
DTSTART:20181004T200000
DTEND:20181004T230000
LOCATION:City Resort Helmond
ATTACH;FMTTYPE=text/plain:https://hbb.rivio.dev/senioren/2018/wedstrijd/222
 45
END:VEVENT
BEGIN:VEVENT
UID:https://hbb.rivio.dev/senioren/2018/wedstrijd/22285
DTSTAMP:20260420T165959Z
SUMMARY:BCV '73 1 - BCAB 1
DESCRIPTION:Baan 4\, Wedstrijdnummer 11\, Afdeling Topklasse 
DTSTART:20181025T200000
DTEND:20181025T230000
LOCATION:City Resort Helmond
ATTACH;FMTTYPE=text/plain:https://hbb.rivio.dev/senioren/2018/wedstrijd/222
 85
END:VEVENT
BEGIN:VEVENT
UID:https://hbb.rivio.dev/senioren/2018/wedstrijd/22332
DTSTAMP:20260420T165959Z
SUMMARY:BCV '73 1 - Mixed 1
DESCRIPTION:Baan 12\, Wedstrijdnummer 13\, Afdeling Topklasse 
DTSTART:20181108T200000
DTEND:20181108T230000
LOCATION:City Resort Helmond
ATTACH;FMTTYPE=text/plain:https://hbb.rivio.dev/senioren/2018/wedstrijd/223
 32
END:VEVENT
BEGIN:VEVENT
UID:https://hbb.rivio.dev/senioren/2018/wedstrijd/22364
DTSTAMP:20260420T165959Z
SUMMARY:Mierlo 1 - BCV '73 1
DESCRIPTION:Baan 12\, Wedstrijdnummer 16\, Afdeling Topklasse 
DTSTART:20181121T200000
DTEND:20181121T230000
LOCATION:City Resort Helmond
ATTACH;FMTTYPE=text/plain:https://hbb.rivio.dev/senioren/2018/wedstrijd/223
 64
END:VEVENT
BEGIN:VEVENT
UID:https://hbb.rivio.dev/senioren/2018/wedstrijd/22430
DTSTAMP:20260420T165959Z
SUMMARY:Con Brio 1 - BCV '73 1
DESCRIPTION:Baan 15\, Wedstrijdnummer 20\, Afdeling Topklasse 
DTSTART:20181219T200000
DTEND:20181219T230000
LOCATION:City Resort Helmond
ATTACH;FMTTYPE=text/plain:https://hbb.rivio.dev/senioren/2018/wedstrijd/224
 30
END:VEVENT
BEGIN:VEVENT
UID:https://hbb.rivio.dev/senioren/2018/wedstrijd/22679
DTSTAMP:20260420T165959Z
SUMMARY:BCV '73 1 - BCAB 1
DESCRIPTION:Baan 3\, Wedstrijdnummer 3034\, Afdeling Topklasse 
DTSTART:20190109T200000
DTEND:20190109T230000
LOCATION:City Resort Helmond
ATTACH;FMTTYPE=text/plain:https://hbb.rivio.dev/senioren/2018/wedstrijd/226
 79
END:VEVENT
BEGIN:VEVENT
UID:https://hbb.rivio.dev/senioren/2018/wedstrijd/22453
DTSTAMP:20260420T165959Z
SUMMARY:BCV '73 1 - Ganzeveer 1
DESCRIPTION:Baan 15\, Wedstrijdnummer 1003\, Afdeling Topklasse 
DTSTART:20190116T200000
DTEND:20190116T230000
LOCATION:City Resort Helmond
ATTACH;FMTTYPE=text/plain:https://hbb.rivio.dev/senioren/2018/wedstrijd/224
 53
END:VEVENT
BEGIN:VEVENT
UID:https://hbb.rivio.dev/senioren/2018/wedstrijd/22535
DTSTAMP:20260420T165959Z
SUMMARY:Con Brio 2 - BCV '73 1
DESCRIPTION:Baan 13\, Wedstrijdnummer 1009\, Afdeling Topklasse 
DTSTART:20190213T200000
DTEND:20190213T230000
LOCATION:City Resort Helmond
ATTACH;FMTTYPE=text/plain:https://hbb.rivio.dev/senioren/2018/wedstrijd/225
 35
END:VEVENT
BEGIN:VEVENT
UID:https://hbb.rivio.dev/senioren/2018/wedstrijd/22564
DTSTAMP:20260420T165959Z
SUMMARY:BCAB 1 - BCV '73 1
DESCRIPTION:Baan 14\, Wedstrijdnummer 1011\, Afdeling Topklasse 
DTSTART:20190221T200000
DTEND:20190221T230000
LOCATION:City Resort Helmond
ATTACH;FMTTYPE=text/plain:https://hbb.rivio.dev/senioren/2018/wedstrijd/225
 64
END:VEVENT
BEGIN:VEVENT
UID:https://hbb.rivio.dev/senioren/2018/wedstrijd/22604
DTSTAMP:20260420T165959Z
SUMMARY:Mixed 1 - BCV '73 1
DESCRIPTION:Baan 1\, Wedstrijdnummer 1013\, Afdeling Topklasse 
DTSTART:20190320T200000
DTEND:20190320T230000
LOCATION:City Resort Helmond
ATTACH;FMTTYPE=text/plain:https://hbb.rivio.dev/senioren/2018/wedstrijd/226
 04
END:VEVENT
BEGIN:VEVENT
UID:https://hbb.rivio.dev/senioren/2018/wedstrijd/22623
DTSTAMP:20260420T165959Z
SUMMARY:BCV '73 1 - Mierlo 1
DESCRIPTION:Baan 5\, Wedstrijdnummer 1016\, Afdeling Topklasse 
DTSTART:20190403T200000
DTEND:20190403T230000
LOCATION:City Resort Helmond
ATTACH;FMTTYPE=text/plain:https://hbb.rivio.dev/senioren/2018/wedstrijd/226
 23
END:VEVENT
BEGIN:VEVENT
UID:https://hbb.rivio.dev/senioren/2018/wedstrijd/22653
DTSTAMP:20260420T165959Z
SUMMARY:BCV '73 1 - Con Brio 1
DESCRIPTION:Baan 5\, Wedstrijdnummer 1020\, Afdeling Topklasse 
DTSTART:20190418T200000
DTEND:20190418T230000
LOCATION:City Resort Helmond
ATTACH;FMTTYPE=text/plain:https://hbb.rivio.dev/senioren/2018/wedstrijd/226
 53
END:VEVENT
BEGIN:VTIMEZONE
TZID:Europe/Amsterdam
BEGIN:STANDARD
DTSTART:20180101T000000
TZNAME:CET
TZOFFSETTO:+0100
TZOFFSETFROM:+0100
END:STANDARD
BEGIN:DAYLIGHT
DTSTART:20180325T030000
TZNAME:CEST
TZOFFSETTO:+0200
TZOFFSETFROM:+0100
END:DAYLIGHT
BEGIN:STANDARD
DTSTART:20181028T020000
TZNAME:CET
TZOFFSETTO:+0100
TZOFFSETFROM:+0200
END:STANDARD
BEGIN:DAYLIGHT
DTSTART:20190331T030000
TZNAME:CEST
TZOFFSETTO:+0200
TZOFFSETFROM:+0100
END:DAYLIGHT
BEGIN:STANDARD
DTSTART:20191027T020000
TZNAME:CET
TZOFFSETTO:+0100
TZOFFSETFROM:+0200
END:STANDARD
END:VTIMEZONE
END:VCALENDAR
