BEGIN:VCALENDAR
PRODID:-//eluceo/ical//2.0/EN
VERSION:2.0
CALSCALE:GREGORIAN
BEGIN:VEVENT
UID:https://hbb.rivio.dev/jeugd/2017/wedstrijd/19736
DTSTAMP:20260420T151452Z
SUMMARY:Bakel 6 - Mierlo 11
DESCRIPTION:Baan 10\, Afdeling I-klasse 
DTSTART:20170917T093000
DTEND:20170917T111500
LOCATION:City Resort Helmond
ATTACH;FMTTYPE=text/plain:https://hbb.rivio.dev/jeugd/2017/wedstrijd/19736
END:VEVENT
BEGIN:VEVENT
UID:https://hbb.rivio.dev/jeugd/2017/wedstrijd/19738
DTSTAMP:20260420T151452Z
SUMMARY:Bakel 6 - Phoenix 4
DESCRIPTION:Baan 10\, Afdeling I-klasse 
DTSTART:20170917T111500
DTEND:20170917T130000
LOCATION:City Resort Helmond
ATTACH;FMTTYPE=text/plain:https://hbb.rivio.dev/jeugd/2017/wedstrijd/19738
END:VEVENT
BEGIN:VEVENT
UID:https://hbb.rivio.dev/jeugd/2017/wedstrijd/19813
DTSTAMP:20260420T151452Z
SUMMARY:Bakel 6 - Hanevoet 4
DESCRIPTION:Baan 14\, Afdeling I-klasse 
DTSTART:20171029T093000
DTEND:20171029T111500
LOCATION:City Resort Helmond
ATTACH;FMTTYPE=text/plain:https://hbb.rivio.dev/jeugd/2017/wedstrijd/19813
END:VEVENT
BEGIN:VEVENT
UID:https://hbb.rivio.dev/jeugd/2017/wedstrijd/19815
DTSTAMP:20260420T151452Z
SUMMARY:Mierlo 11 - Bakel 6
DESCRIPTION:Baan 14\, Afdeling I-klasse 
DTSTART:20171029T111500
DTEND:20171029T130000
LOCATION:City Resort Helmond
ATTACH;FMTTYPE=text/plain:https://hbb.rivio.dev/jeugd/2017/wedstrijd/19815
END:VEVENT
BEGIN:VEVENT
UID:https://hbb.rivio.dev/jeugd/2017/wedstrijd/19879
DTSTAMP:20260420T151452Z
SUMMARY:Phoenix 4 - Bakel 6
DESCRIPTION:Baan 4\, Afdeling I-klasse 
DTSTART:20171217T093000
DTEND:20171217T111500
LOCATION:City Resort Helmond
ATTACH;FMTTYPE=text/plain:https://hbb.rivio.dev/jeugd/2017/wedstrijd/19879
END:VEVENT
BEGIN:VEVENT
UID:https://hbb.rivio.dev/jeugd/2017/wedstrijd/19881
DTSTAMP:20260420T151452Z
SUMMARY:Hanevoet 4 - Bakel 6
DESCRIPTION:Baan 4\, Afdeling I-klasse 
DTSTART:20171217T111500
DTEND:20171217T130000
LOCATION:City Resort Helmond
ATTACH;FMTTYPE=text/plain:https://hbb.rivio.dev/jeugd/2017/wedstrijd/19881
END:VEVENT
BEGIN:VEVENT
UID:https://hbb.rivio.dev/jeugd/2017/wedstrijd/19941
DTSTAMP:20260420T151452Z
SUMMARY:Bakel 6 - Mierlo 11
DESCRIPTION:Baan 3\, Afdeling I-klasse 
DTSTART:20180304T093000
DTEND:20180304T111500
LOCATION:City Resort Helmond
ATTACH;FMTTYPE=text/plain:https://hbb.rivio.dev/jeugd/2017/wedstrijd/19941
END:VEVENT
BEGIN:VEVENT
UID:https://hbb.rivio.dev/jeugd/2017/wedstrijd/19945
DTSTAMP:20260420T151452Z
SUMMARY:Bakel 6 - Phoenix 4
DESCRIPTION:Baan 3\, Afdeling I-klasse 
DTSTART:20180304T111500
DTEND:20180304T130000
LOCATION:City Resort Helmond
ATTACH;FMTTYPE=text/plain:https://hbb.rivio.dev/jeugd/2017/wedstrijd/19945
END:VEVENT
BEGIN:VEVENT
UID:https://hbb.rivio.dev/jeugd/2017/wedstrijd/20024
DTSTAMP:20260420T151452Z
SUMMARY:Bakel 6 - Hanevoet 4
DESCRIPTION:Baan 10\, Afdeling I-klasse 
DTSTART:20180325T093000
DTEND:20180325T111500
LOCATION:City Resort Helmond
ATTACH;FMTTYPE=text/plain:https://hbb.rivio.dev/jeugd/2017/wedstrijd/20024
END:VEVENT
BEGIN:VEVENT
UID:https://hbb.rivio.dev/jeugd/2017/wedstrijd/20028
DTSTAMP:20260420T151452Z
SUMMARY:Mierlo 11 - Bakel 6
DESCRIPTION:Baan 10\, Afdeling I-klasse 
DTSTART:20180325T111500
DTEND:20180325T130000
LOCATION:City Resort Helmond
ATTACH;FMTTYPE=text/plain:https://hbb.rivio.dev/jeugd/2017/wedstrijd/20028
END:VEVENT
BEGIN:VEVENT
UID:https://hbb.rivio.dev/jeugd/2017/wedstrijd/20071
DTSTAMP:20260420T151452Z
SUMMARY:Phoenix 4 - Bakel 6
DESCRIPTION:Baan 4\, Afdeling I-klasse 
DTSTART:20180415T093000
DTEND:20180415T111500
LOCATION:City Resort Helmond
ATTACH;FMTTYPE=text/plain:https://hbb.rivio.dev/jeugd/2017/wedstrijd/20071
END:VEVENT
BEGIN:VEVENT
UID:https://hbb.rivio.dev/jeugd/2017/wedstrijd/20075
DTSTAMP:20260420T151452Z
SUMMARY:Hanevoet 4 - Bakel 6
DESCRIPTION:Baan 4\, Afdeling I-klasse 
DTSTART:20180415T111500
DTEND:20180415T130000
LOCATION:City Resort Helmond
ATTACH;FMTTYPE=text/plain:https://hbb.rivio.dev/jeugd/2017/wedstrijd/20075
END:VEVENT
BEGIN:VTIMEZONE
TZID:Europe/Amsterdam
BEGIN:STANDARD
DTSTART:20170101T000000
TZNAME:CET
TZOFFSETTO:+0100
TZOFFSETFROM:+0100
END:STANDARD
BEGIN:DAYLIGHT
DTSTART:20170326T030000
TZNAME:CEST
TZOFFSETTO:+0200
TZOFFSETFROM:+0100
END:DAYLIGHT
BEGIN:STANDARD
DTSTART:20171029T020000
TZNAME:CET
TZOFFSETTO:+0100
TZOFFSETFROM:+0200
END:STANDARD
BEGIN:DAYLIGHT
DTSTART:20180325T030000
TZNAME:CEST
TZOFFSETTO:+0200
TZOFFSETFROM:+0100
END:DAYLIGHT
BEGIN:STANDARD
DTSTART:20181028T020000
TZNAME:CET
TZOFFSETTO:+0100
TZOFFSETFROM:+0200
END:STANDARD
END:VTIMEZONE
END:VCALENDAR
