BEGIN:VCALENDAR
PRODID:-//eluceo/ical//2.0/EN
VERSION:2.0
CALSCALE:GREGORIAN
BEGIN:VEVENT
UID:https://hbb.rivio.dev/jeugd/2017/wedstrijd/19768
DTSTAMP:20260420T165909Z
SUMMARY:Bakel 1 - Brabantia 1
DESCRIPTION:Baan 4\, Afdeling A-klasse 
DTSTART:20171001T093000
DTEND:20171001T111500
LOCATION:City Resort Helmond
ATTACH;FMTTYPE=text/plain:https://hbb.rivio.dev/jeugd/2017/wedstrijd/19768
END:VEVENT
BEGIN:VEVENT
UID:https://hbb.rivio.dev/jeugd/2017/wedstrijd/19804
DTSTAMP:20260420T165909Z
SUMMARY:Mierlo 1 - Bakel 1
DESCRIPTION:Baan 4\, Afdeling A-klasse 
DTSTART:20171029T093000
DTEND:20171029T111500
LOCATION:City Resort Helmond
ATTACH;FMTTYPE=text/plain:https://hbb.rivio.dev/jeugd/2017/wedstrijd/19804
END:VEVENT
BEGIN:VEVENT
UID:https://hbb.rivio.dev/jeugd/2017/wedstrijd/19833
DTSTAMP:20260420T165909Z
SUMMARY:Bakel 1 - Mixed 1
DESCRIPTION:Baan 1\, Afdeling A-klasse 
DTSTART:20171126T093000
DTEND:20171126T111500
LOCATION:City Resort Helmond
ATTACH;FMTTYPE=text/plain:https://hbb.rivio.dev/jeugd/2017/wedstrijd/19833
END:VEVENT
BEGIN:VEVENT
UID:https://hbb.rivio.dev/jeugd/2017/wedstrijd/19869
DTSTAMP:20260420T165909Z
SUMMARY:Bakel 1 - Mierlo 2
DESCRIPTION:Baan 2\, Afdeling A-klasse 
DTSTART:20171217T093000
DTEND:20171217T111500
LOCATION:City Resort Helmond
ATTACH;FMTTYPE=text/plain:https://hbb.rivio.dev/jeugd/2017/wedstrijd/19869
END:VEVENT
BEGIN:VEVENT
UID:https://hbb.rivio.dev/jeugd/2017/wedstrijd/19892
DTSTAMP:20260420T165909Z
SUMMARY:BCV '73 1 - Bakel 1
DESCRIPTION:Baan 10\, Afdeling A-klasse 
DTSTART:20180114T093000
DTEND:20180114T111500
LOCATION:City Resort Helmond
ATTACH;FMTTYPE=text/plain:https://hbb.rivio.dev/jeugd/2017/wedstrijd/19892
END:VEVENT
BEGIN:VEVENT
UID:https://hbb.rivio.dev/jeugd/2017/wedstrijd/19923
DTSTAMP:20260420T165909Z
SUMMARY:Brabantia 1 - Bakel 1
DESCRIPTION:Baan 2\, Afdeling A-klasse 
DTSTART:20180304T093000
DTEND:20180304T111500
LOCATION:City Resort Helmond
ATTACH;FMTTYPE=text/plain:https://hbb.rivio.dev/jeugd/2017/wedstrijd/19923
END:VEVENT
BEGIN:VEVENT
UID:https://hbb.rivio.dev/jeugd/2017/wedstrijd/19949
DTSTAMP:20260420T165909Z
SUMMARY:Bakel 1 - Mierlo 1
DESCRIPTION:Baan 2\, Afdeling A-klasse 
DTSTART:20180311T093000
DTEND:20180311T111500
LOCATION:City Resort Helmond
ATTACH;FMTTYPE=text/plain:https://hbb.rivio.dev/jeugd/2017/wedstrijd/19949
END:VEVENT
BEGIN:VEVENT
UID:https://hbb.rivio.dev/jeugd/2017/wedstrijd/19980
DTSTAMP:20260420T165909Z
SUMMARY:Mixed 1 - Bakel 1
DESCRIPTION:Baan 5\, Afdeling A-klasse 
DTSTART:20180318T093000
DTEND:20180318T111500
LOCATION:City Resort Helmond
ATTACH;FMTTYPE=text/plain:https://hbb.rivio.dev/jeugd/2017/wedstrijd/19980
END:VEVENT
BEGIN:VEVENT
UID:https://hbb.rivio.dev/jeugd/2017/wedstrijd/20033
DTSTAMP:20260420T165909Z
SUMMARY:Mierlo 2 - Bakel 1
DESCRIPTION:Baan 3\, Afdeling A-klasse 
DTSTART:20180408T093000
DTEND:20180408T111500
LOCATION:City Resort Helmond
ATTACH;FMTTYPE=text/plain:https://hbb.rivio.dev/jeugd/2017/wedstrijd/20033
END:VEVENT
BEGIN:VEVENT
UID:https://hbb.rivio.dev/jeugd/2017/wedstrijd/20088
DTSTAMP:20260420T165909Z
SUMMARY:Bakel 1 - BCV '73 1
DESCRIPTION:Baan 3\, Afdeling A-klasse 
DTSTART:20180422T093000
DTEND:20180422T111500
LOCATION:City Resort Helmond
ATTACH;FMTTYPE=text/plain:https://hbb.rivio.dev/jeugd/2017/wedstrijd/20088
END:VEVENT
BEGIN:VTIMEZONE
TZID:Europe/Amsterdam
BEGIN:STANDARD
DTSTART:20170101T000000
TZNAME:CET
TZOFFSETTO:+0100
TZOFFSETFROM:+0100
END:STANDARD
BEGIN:DAYLIGHT
DTSTART:20170326T030000
TZNAME:CEST
TZOFFSETTO:+0200
TZOFFSETFROM:+0100
END:DAYLIGHT
BEGIN:STANDARD
DTSTART:20171029T020000
TZNAME:CET
TZOFFSETTO:+0100
TZOFFSETFROM:+0200
END:STANDARD
BEGIN:DAYLIGHT
DTSTART:20180325T030000
TZNAME:CEST
TZOFFSETTO:+0200
TZOFFSETFROM:+0100
END:DAYLIGHT
BEGIN:STANDARD
DTSTART:20181028T020000
TZNAME:CET
TZOFFSETTO:+0100
TZOFFSETFROM:+0200
END:STANDARD
END:VTIMEZONE
END:VCALENDAR
