BEGIN:VCALENDAR
PRODID:-//eluceo/ical//2.0/EN
VERSION:2.0
CALSCALE:GREGORIAN
BEGIN:VEVENT
UID:https://hbb.rivio.dev/jeugd/2017/wedstrijd/19752
DTSTAMP:20260420T150129Z
SUMMARY:Mierlo 8 - Mierlo 9
DESCRIPTION:Baan 11\, Afdeling E-klasse 
DTSTART:20170924T093000
DTEND:20170924T111500
LOCATION:City Resort Helmond
ATTACH;FMTTYPE=text/plain:https://hbb.rivio.dev/jeugd/2017/wedstrijd/19752
END:VEVENT
BEGIN:VEVENT
UID:https://hbb.rivio.dev/jeugd/2017/wedstrijd/19756
DTSTAMP:20260420T150129Z
SUMMARY:Brabantia 2 - Mierlo 8
DESCRIPTION:Baan 11\, Afdeling E-klasse 
DTSTART:20170924T111500
DTEND:20170924T130000
LOCATION:City Resort Helmond
ATTACH;FMTTYPE=text/plain:https://hbb.rivio.dev/jeugd/2017/wedstrijd/19756
END:VEVENT
BEGIN:VEVENT
UID:https://hbb.rivio.dev/jeugd/2017/wedstrijd/19775
DTSTAMP:20260420T150129Z
SUMMARY:Mierlo 8 - Phoenix 2
DESCRIPTION:Baan 11\, Afdeling E-klasse 
DTSTART:20171001T093000
DTEND:20171001T111500
LOCATION:City Resort Helmond
ATTACH;FMTTYPE=text/plain:https://hbb.rivio.dev/jeugd/2017/wedstrijd/19775
END:VEVENT
BEGIN:VEVENT
UID:https://hbb.rivio.dev/jeugd/2017/wedstrijd/19844
DTSTAMP:20260420T150129Z
SUMMARY:Mierlo 8 - Bakel 4
DESCRIPTION:Baan 2\, Afdeling E-klasse 
DTSTART:20171126T111500
DTEND:20171126T130000
LOCATION:City Resort Helmond
ATTACH;FMTTYPE=text/plain:https://hbb.rivio.dev/jeugd/2017/wedstrijd/19844
END:VEVENT
BEGIN:VEVENT
UID:https://hbb.rivio.dev/jeugd/2017/wedstrijd/19840
DTSTAMP:20260420T150129Z
SUMMARY:Mixed 6 - Mierlo 8
DESCRIPTION:Baan 2\, Afdeling E-klasse 
DTSTART:20171126T093000
DTEND:20171126T111500
LOCATION:City Resort Helmond
ATTACH;FMTTYPE=text/plain:https://hbb.rivio.dev/jeugd/2017/wedstrijd/19840
END:VEVENT
BEGIN:VEVENT
UID:https://hbb.rivio.dev/jeugd/2017/wedstrijd/19871
DTSTAMP:20260420T150129Z
SUMMARY:Mierlo 8 - Bakel 5
DESCRIPTION:Baan 11\, Afdeling E-klasse 
DTSTART:20171217T093000
DTEND:20171217T111500
LOCATION:City Resort Helmond
ATTACH;FMTTYPE=text/plain:https://hbb.rivio.dev/jeugd/2017/wedstrijd/19871
END:VEVENT
BEGIN:VEVENT
UID:https://hbb.rivio.dev/jeugd/2017/wedstrijd/19875
DTSTAMP:20260420T150129Z
SUMMARY:Mierlo 9 - Mierlo 8
DESCRIPTION:Baan 11\, Afdeling E-klasse 
DTSTART:20171217T111500
DTEND:20171217T130000
LOCATION:City Resort Helmond
ATTACH;FMTTYPE=text/plain:https://hbb.rivio.dev/jeugd/2017/wedstrijd/19875
END:VEVENT
BEGIN:VEVENT
UID:https://hbb.rivio.dev/jeugd/2017/wedstrijd/19924
DTSTAMP:20260420T150129Z
SUMMARY:Mierlo 8 - Brabantia 2
DESCRIPTION:Baan 11\, Afdeling E-klasse 
DTSTART:20180304T093000
DTEND:20180304T111500
LOCATION:City Resort Helmond
ATTACH;FMTTYPE=text/plain:https://hbb.rivio.dev/jeugd/2017/wedstrijd/19924
END:VEVENT
BEGIN:VEVENT
UID:https://hbb.rivio.dev/jeugd/2017/wedstrijd/19928
DTSTAMP:20260420T150129Z
SUMMARY:Phoenix 2 - Mierlo 8
DESCRIPTION:Baan 11\, Afdeling E-klasse 
DTSTART:20180304T111500
DTEND:20180304T130000
LOCATION:City Resort Helmond
ATTACH;FMTTYPE=text/plain:https://hbb.rivio.dev/jeugd/2017/wedstrijd/19928
END:VEVENT
BEGIN:VEVENT
UID:https://hbb.rivio.dev/jeugd/2017/wedstrijd/20019
DTSTAMP:20260420T150129Z
SUMMARY:Mierlo 8 - Mixed 6
DESCRIPTION:Baan 11\, Afdeling E-klasse 
DTSTART:20180325T111500
DTEND:20180325T130000
LOCATION:City Resort Helmond
ATTACH;FMTTYPE=text/plain:https://hbb.rivio.dev/jeugd/2017/wedstrijd/20019
END:VEVENT
BEGIN:VEVENT
UID:https://hbb.rivio.dev/jeugd/2017/wedstrijd/20062
DTSTAMP:20260420T150129Z
SUMMARY:Bakel 4 - Mierlo 8
DESCRIPTION:Baan 11\, Afdeling E-klasse 
DTSTART:20180415T093000
DTEND:20180415T111500
LOCATION:City Resort Helmond
ATTACH;FMTTYPE=text/plain:https://hbb.rivio.dev/jeugd/2017/wedstrijd/20062
END:VEVENT
BEGIN:VEVENT
UID:https://hbb.rivio.dev/jeugd/2017/wedstrijd/20066
DTSTAMP:20260420T150129Z
SUMMARY:Bakel 5 - Mierlo 8
DESCRIPTION:Baan 11\, Afdeling E-klasse 
DTSTART:20180415T111500
DTEND:20180415T130000
LOCATION:City Resort Helmond
ATTACH;FMTTYPE=text/plain:https://hbb.rivio.dev/jeugd/2017/wedstrijd/20066
END:VEVENT
BEGIN:VTIMEZONE
TZID:Europe/Amsterdam
BEGIN:STANDARD
DTSTART:20170101T000000
TZNAME:CET
TZOFFSETTO:+0100
TZOFFSETFROM:+0100
END:STANDARD
BEGIN:DAYLIGHT
DTSTART:20170326T030000
TZNAME:CEST
TZOFFSETTO:+0200
TZOFFSETFROM:+0100
END:DAYLIGHT
BEGIN:STANDARD
DTSTART:20171029T020000
TZNAME:CET
TZOFFSETTO:+0100
TZOFFSETFROM:+0200
END:STANDARD
BEGIN:DAYLIGHT
DTSTART:20180325T030000
TZNAME:CEST
TZOFFSETTO:+0200
TZOFFSETFROM:+0100
END:DAYLIGHT
BEGIN:STANDARD
DTSTART:20181028T020000
TZNAME:CET
TZOFFSETTO:+0100
TZOFFSETFROM:+0200
END:STANDARD
END:VTIMEZONE
END:VCALENDAR
