BEGIN:VCALENDAR
PRODID:-//eluceo/ical//2.0/EN
VERSION:2.0
CALSCALE:GREGORIAN
BEGIN:VEVENT
UID:https://hbb.rivio.dev/jeugd/2017/wedstrijd/19723
DTSTAMP:20260420T145138Z
SUMMARY:BCV '73 2 - Mierlo 3
DESCRIPTION:Baan 1\, Afdeling B-klasse 
DTSTART:20170917T093000
DTEND:20170917T111500
LOCATION:City Resort Helmond
ATTACH;FMTTYPE=text/plain:https://hbb.rivio.dev/jeugd/2017/wedstrijd/19723
END:VEVENT
BEGIN:VEVENT
UID:https://hbb.rivio.dev/jeugd/2017/wedstrijd/19783
DTSTAMP:20260420T145138Z
SUMMARY:Bakel 2 - Mierlo 3
DESCRIPTION:Baan 1\, Afdeling B-klasse 
DTSTART:20171008T093000
DTEND:20171008T111500
LOCATION:City Resort Helmond
ATTACH;FMTTYPE=text/plain:https://hbb.rivio.dev/jeugd/2017/wedstrijd/19783
END:VEVENT
BEGIN:VEVENT
UID:https://hbb.rivio.dev/jeugd/2017/wedstrijd/19802
DTSTAMP:20260420T145138Z
SUMMARY:Mierlo 3 - Mixed 3
DESCRIPTION:Baan 2\, Afdeling B-klasse 
DTSTART:20171029T093000
DTEND:20171029T111500
LOCATION:City Resort Helmond
ATTACH;FMTTYPE=text/plain:https://hbb.rivio.dev/jeugd/2017/wedstrijd/19802
END:VEVENT
BEGIN:VEVENT
UID:https://hbb.rivio.dev/jeugd/2017/wedstrijd/19819
DTSTAMP:20260420T145138Z
SUMMARY:Mierlo 3 - BCAB 1
DESCRIPTION:Baan 3\, Afdeling B-klasse 
DTSTART:20171112T093000
DTEND:20171112T111500
LOCATION:City Resort Helmond
ATTACH;FMTTYPE=text/plain:https://hbb.rivio.dev/jeugd/2017/wedstrijd/19819
END:VEVENT
BEGIN:VEVENT
UID:https://hbb.rivio.dev/jeugd/2017/wedstrijd/19852
DTSTAMP:20260420T145138Z
SUMMARY:Mixed 2 - Mierlo 3
DESCRIPTION:Baan 1\, Afdeling B-klasse 
DTSTART:20171210T093000
DTEND:20171210T111500
LOCATION:City Resort Helmond
ATTACH;FMTTYPE=text/plain:https://hbb.rivio.dev/jeugd/2017/wedstrijd/19852
END:VEVENT
BEGIN:VEVENT
UID:https://hbb.rivio.dev/jeugd/2017/wedstrijd/19888
DTSTAMP:20260420T145138Z
SUMMARY:Mierlo 3 - BCV '73 2
DESCRIPTION:Baan 2\, Afdeling B-klasse 
DTSTART:20180114T093000
DTEND:20180114T111500
LOCATION:City Resort Helmond
ATTACH;FMTTYPE=text/plain:https://hbb.rivio.dev/jeugd/2017/wedstrijd/19888
END:VEVENT
BEGIN:VEVENT
UID:https://hbb.rivio.dev/jeugd/2017/wedstrijd/19907
DTSTAMP:20260420T145138Z
SUMMARY:Mierlo 3 - Bakel 2
DESCRIPTION:Baan 2\, Afdeling B-klasse 
DTSTART:20180121T093000
DTEND:20180121T111500
LOCATION:City Resort Helmond
ATTACH;FMTTYPE=text/plain:https://hbb.rivio.dev/jeugd/2017/wedstrijd/19907
END:VEVENT
BEGIN:VEVENT
UID:https://hbb.rivio.dev/jeugd/2017/wedstrijd/19948
DTSTAMP:20260420T145138Z
SUMMARY:Mixed 3 - Mierlo 3
DESCRIPTION:Baan 1\, Afdeling B-klasse 
DTSTART:20180311T093000
DTEND:20180311T111500
LOCATION:City Resort Helmond
ATTACH;FMTTYPE=text/plain:https://hbb.rivio.dev/jeugd/2017/wedstrijd/19948
END:VEVENT
BEGIN:VEVENT
UID:https://hbb.rivio.dev/jeugd/2017/wedstrijd/20031
DTSTAMP:20260420T145138Z
SUMMARY:BCAB 1 - Mierlo 3
DESCRIPTION:Baan 1\, Afdeling B-klasse 
DTSTART:20180408T093000
DTEND:20180408T111500
LOCATION:City Resort Helmond
ATTACH;FMTTYPE=text/plain:https://hbb.rivio.dev/jeugd/2017/wedstrijd/20031
END:VEVENT
BEGIN:VEVENT
UID:https://hbb.rivio.dev/jeugd/2017/wedstrijd/20059
DTSTAMP:20260420T145138Z
SUMMARY:Mierlo 3 - Mixed 2
DESCRIPTION:Baan 1\, Afdeling B-klasse 
DTSTART:20180415T093000
DTEND:20180415T111500
LOCATION:City Resort Helmond
ATTACH;FMTTYPE=text/plain:https://hbb.rivio.dev/jeugd/2017/wedstrijd/20059
END:VEVENT
BEGIN:VTIMEZONE
TZID:Europe/Amsterdam
BEGIN:STANDARD
DTSTART:20170101T000000
TZNAME:CET
TZOFFSETTO:+0100
TZOFFSETFROM:+0100
END:STANDARD
BEGIN:DAYLIGHT
DTSTART:20170326T030000
TZNAME:CEST
TZOFFSETTO:+0200
TZOFFSETFROM:+0100
END:DAYLIGHT
BEGIN:STANDARD
DTSTART:20171029T020000
TZNAME:CET
TZOFFSETTO:+0100
TZOFFSETFROM:+0200
END:STANDARD
BEGIN:DAYLIGHT
DTSTART:20180325T030000
TZNAME:CEST
TZOFFSETTO:+0200
TZOFFSETFROM:+0100
END:DAYLIGHT
BEGIN:STANDARD
DTSTART:20181028T020000
TZNAME:CET
TZOFFSETTO:+0100
TZOFFSETFROM:+0200
END:STANDARD
END:VTIMEZONE
END:VCALENDAR
