BEGIN:VCALENDAR
PRODID:-//eluceo/ical//2.0/EN
VERSION:2.0
CALSCALE:GREGORIAN
BEGIN:VEVENT
UID:https://hbb.rivio.dev/jeugd/2017/wedstrijd/19747
DTSTAMP:20260420T133259Z
SUMMARY:Mixed 5 - Someren 1
DESCRIPTION:Baan 4\, Afdeling D-klasse 
DTSTART:20170924T093000
DTEND:20170924T111500
LOCATION:City Resort Helmond
ATTACH;FMTTYPE=text/plain:https://hbb.rivio.dev/jeugd/2017/wedstrijd/19747
END:VEVENT
BEGIN:VEVENT
UID:https://hbb.rivio.dev/jeugd/2017/wedstrijd/19750
DTSTAMP:20260420T133259Z
SUMMARY:Mixed 5 - BCAB 2
DESCRIPTION:Baan 4\, Afdeling D-klasse 
DTSTART:20170924T111500
DTEND:20170924T130000
LOCATION:City Resort Helmond
ATTACH;FMTTYPE=text/plain:https://hbb.rivio.dev/jeugd/2017/wedstrijd/19750
END:VEVENT
BEGIN:VEVENT
UID:https://hbb.rivio.dev/jeugd/2017/wedstrijd/19788
DTSTAMP:20260420T133259Z
SUMMARY:Mixed 5 - Mierlo 6
DESCRIPTION:Baan 3\, Afdeling D-klasse 
DTSTART:20171008T111500
DTEND:20171008T130000
LOCATION:City Resort Helmond
ATTACH;FMTTYPE=text/plain:https://hbb.rivio.dev/jeugd/2017/wedstrijd/19788
END:VEVENT
BEGIN:VEVENT
UID:https://hbb.rivio.dev/jeugd/2017/wedstrijd/19787
DTSTAMP:20260420T133259Z
SUMMARY:Bakel 3 - Mixed 5
DESCRIPTION:Baan 5\, Afdeling D-klasse 
DTSTART:20171008T093000
DTEND:20171008T111500
LOCATION:City Resort Helmond
ATTACH;FMTTYPE=text/plain:https://hbb.rivio.dev/jeugd/2017/wedstrijd/19787
END:VEVENT
BEGIN:VEVENT
UID:https://hbb.rivio.dev/jeugd/2017/wedstrijd/19822
DTSTAMP:20260420T133259Z
SUMMARY:Mierlo 7 - Mixed 5
DESCRIPTION:Baan 14\, Afdeling D-klasse 
DTSTART:20171112T093000
DTEND:20171112T111500
LOCATION:City Resort Helmond
ATTACH;FMTTYPE=text/plain:https://hbb.rivio.dev/jeugd/2017/wedstrijd/19822
END:VEVENT
BEGIN:VEVENT
UID:https://hbb.rivio.dev/jeugd/2017/wedstrijd/19825
DTSTAMP:20260420T133259Z
SUMMARY:Someren 1 - Mixed 5
DESCRIPTION:Baan 14\, Afdeling D-klasse 
DTSTART:20171112T111500
DTEND:20171112T130000
LOCATION:City Resort Helmond
ATTACH;FMTTYPE=text/plain:https://hbb.rivio.dev/jeugd/2017/wedstrijd/19825
END:VEVENT
BEGIN:VEVENT
UID:https://hbb.rivio.dev/jeugd/2017/wedstrijd/19861
DTSTAMP:20260420T133259Z
SUMMARY:Mixed 5 - Bakel 3
DESCRIPTION:Baan 13\, Afdeling D-klasse 
DTSTART:20171210T111500
DTEND:20171210T130000
LOCATION:City Resort Helmond
ATTACH;FMTTYPE=text/plain:https://hbb.rivio.dev/jeugd/2017/wedstrijd/19861
END:VEVENT
BEGIN:VEVENT
UID:https://hbb.rivio.dev/jeugd/2017/wedstrijd/19857
DTSTAMP:20260420T133259Z
SUMMARY:BCAB 2 - Mixed 5
DESCRIPTION:Baan 12\, Afdeling D-klasse 
DTSTART:20171210T093000
DTEND:20171210T111500
LOCATION:City Resort Helmond
ATTACH;FMTTYPE=text/plain:https://hbb.rivio.dev/jeugd/2017/wedstrijd/19857
END:VEVENT
BEGIN:VEVENT
UID:https://hbb.rivio.dev/jeugd/2017/wedstrijd/19914
DTSTAMP:20260420T133259Z
SUMMARY:Mixed 5 - Mierlo 7
DESCRIPTION:Baan 14\, Afdeling D-klasse 
DTSTART:20180121T111500
DTEND:20180121T130000
LOCATION:City Resort Helmond
ATTACH;FMTTYPE=text/plain:https://hbb.rivio.dev/jeugd/2017/wedstrijd/19914
END:VEVENT
BEGIN:VEVENT
UID:https://hbb.rivio.dev/jeugd/2017/wedstrijd/19910
DTSTAMP:20260420T133259Z
SUMMARY:Mierlo 6 - Mixed 5
DESCRIPTION:Baan 5\, Afdeling D-klasse 
DTSTART:20180121T093000
DTEND:20180121T111500
LOCATION:City Resort Helmond
ATTACH;FMTTYPE=text/plain:https://hbb.rivio.dev/jeugd/2017/wedstrijd/19910
END:VEVENT
BEGIN:VEVENT
UID:https://hbb.rivio.dev/jeugd/2017/wedstrijd/19984
DTSTAMP:20260420T133259Z
SUMMARY:Mixed 5 - Someren 1
DESCRIPTION:Baan 14\, Afdeling D-klasse 
DTSTART:20180318T093000
DTEND:20180318T111500
LOCATION:City Resort Helmond
ATTACH;FMTTYPE=text/plain:https://hbb.rivio.dev/jeugd/2017/wedstrijd/19984
END:VEVENT
BEGIN:VEVENT
UID:https://hbb.rivio.dev/jeugd/2017/wedstrijd/19990
DTSTAMP:20260420T133259Z
SUMMARY:Mixed 5 - BCAB 2
DESCRIPTION:Baan 14\, Afdeling D-klasse 
DTSTART:20180318T111500
DTEND:20180318T130000
LOCATION:City Resort Helmond
ATTACH;FMTTYPE=text/plain:https://hbb.rivio.dev/jeugd/2017/wedstrijd/19990
END:VEVENT
BEGIN:VEVENT
UID:https://hbb.rivio.dev/jeugd/2017/wedstrijd/20042
DTSTAMP:20260420T133259Z
SUMMARY:Mixed 5 - Mierlo 6
DESCRIPTION:Baan 5\, Afdeling D-klasse 
DTSTART:20180408T111500
DTEND:20180408T130000
LOCATION:City Resort Helmond
ATTACH;FMTTYPE=text/plain:https://hbb.rivio.dev/jeugd/2017/wedstrijd/20042
END:VEVENT
BEGIN:VEVENT
UID:https://hbb.rivio.dev/jeugd/2017/wedstrijd/20040
DTSTAMP:20260420T133259Z
SUMMARY:Bakel 3 - Mixed 5
DESCRIPTION:Baan 15\, Afdeling D-klasse 
DTSTART:20180408T093000
DTEND:20180408T111500
LOCATION:City Resort Helmond
ATTACH;FMTTYPE=text/plain:https://hbb.rivio.dev/jeugd/2017/wedstrijd/20040
END:VEVENT
BEGIN:VEVENT
UID:https://hbb.rivio.dev/jeugd/2017/wedstrijd/20098
DTSTAMP:20260420T133259Z
SUMMARY:Mierlo 7 - Mixed 5
DESCRIPTION:Baan 12\, Afdeling D-klasse 
DTSTART:20180422T093000
DTEND:20180422T111500
LOCATION:City Resort Helmond
ATTACH;FMTTYPE=text/plain:https://hbb.rivio.dev/jeugd/2017/wedstrijd/20098
END:VEVENT
BEGIN:VTIMEZONE
TZID:Europe/Amsterdam
BEGIN:STANDARD
DTSTART:20170101T000000
TZNAME:CET
TZOFFSETTO:+0100
TZOFFSETFROM:+0100
END:STANDARD
BEGIN:DAYLIGHT
DTSTART:20170326T030000
TZNAME:CEST
TZOFFSETTO:+0200
TZOFFSETFROM:+0100
END:DAYLIGHT
BEGIN:STANDARD
DTSTART:20171029T020000
TZNAME:CET
TZOFFSETTO:+0100
TZOFFSETFROM:+0200
END:STANDARD
BEGIN:DAYLIGHT
DTSTART:20180325T030000
TZNAME:CEST
TZOFFSETTO:+0200
TZOFFSETFROM:+0100
END:DAYLIGHT
BEGIN:STANDARD
DTSTART:20181028T020000
TZNAME:CET
TZOFFSETTO:+0100
TZOFFSETFROM:+0200
END:STANDARD
END:VTIMEZONE
END:VCALENDAR
