BEGIN:VCALENDAR
PRODID:-//eluceo/ical//2.0/EN
VERSION:2.0
CALSCALE:GREGORIAN
BEGIN:VEVENT
UID:https://hbb.rivio.dev/senioren/2017/wedstrijd/18531
DTSTAMP:20260420T165113Z
SUMMARY:Ganzeveer 3 - Someren 2
DESCRIPTION:Baan 1\, Wedstrijdnummer 190\, Afdeling 3e klasse II D
DTSTART:20170927T200000
DTEND:20170927T230000
LOCATION:City Resort Helmond
ATTACH;FMTTYPE=text/plain:https://hbb.rivio.dev/senioren/2017/wedstrijd/185
 31
END:VEVENT
BEGIN:VEVENT
UID:https://hbb.rivio.dev/senioren/2017/wedstrijd/18558
DTSTAMP:20260420T165113Z
SUMMARY:Dommelen 3 - Ganzeveer 3
DESCRIPTION:Baan 11\, Wedstrijdnummer 193\, Afdeling 3e klasse II K
DTSTART:20171004T200000
DTEND:20171004T230000
LOCATION:City Resort Helmond
ATTACH;FMTTYPE=text/plain:https://hbb.rivio.dev/senioren/2017/wedstrijd/185
 58
END:VEVENT
BEGIN:VEVENT
UID:https://hbb.rivio.dev/senioren/2017/wedstrijd/18583
DTSTAMP:20260420T165113Z
SUMMARY:Heeze 2 - Ganzeveer 3
DESCRIPTION:Baan 14\, Wedstrijdnummer 196\, Afdeling 3e klasse II D
DTSTART:20171011T200000
DTEND:20171011T230000
LOCATION:City Resort Helmond
ATTACH;FMTTYPE=text/plain:https://hbb.rivio.dev/senioren/2017/wedstrijd/185
 83
END:VEVENT
BEGIN:VEVENT
UID:https://hbb.rivio.dev/senioren/2017/wedstrijd/18632
DTSTAMP:20260420T165113Z
SUMMARY:Mierlo 8 - Ganzeveer 3
DESCRIPTION:Baan 15\, Wedstrijdnummer 199\, Afdeling 3e klasse II D
DTSTART:20171115T200000
DTEND:20171115T230000
LOCATION:City Resort Helmond
ATTACH;FMTTYPE=text/plain:https://hbb.rivio.dev/senioren/2017/wedstrijd/186
 32
END:VEVENT
BEGIN:VEVENT
UID:https://hbb.rivio.dev/senioren/2017/wedstrijd/18652
DTSTAMP:20260420T165113Z
SUMMARY:Ganzeveer 3 - Hanevoet 4
DESCRIPTION:Baan 14\, Wedstrijdnummer 202\, Afdeling 3e klasse II D
DTSTART:20171122T200000
DTEND:20171122T230000
LOCATION:City Resort Helmond
ATTACH;FMTTYPE=text/plain:https://hbb.rivio.dev/senioren/2017/wedstrijd/186
 52
END:VEVENT
BEGIN:VEVENT
UID:https://hbb.rivio.dev/senioren/2017/wedstrijd/18718
DTSTAMP:20260420T165113Z
SUMMARY:Someren 2 - Ganzeveer 3
DESCRIPTION:Baan 1\, Wedstrijdnummer 1190\, Afdeling 3e klasse II K
DTSTART:20171221T200000
DTEND:20171221T230000
LOCATION:City Resort Helmond
ATTACH;FMTTYPE=text/plain:https://hbb.rivio.dev/senioren/2017/wedstrijd/187
 18
END:VEVENT
BEGIN:VEVENT
UID:https://hbb.rivio.dev/senioren/2017/wedstrijd/18758
DTSTAMP:20260420T165113Z
SUMMARY:Ganzeveer 3 - Dommelen 3
DESCRIPTION:Baan 4\, Wedstrijdnummer 1193\, Afdeling 3e klasse II D
DTSTART:20180124T200000
DTEND:20180124T230000
LOCATION:City Resort Helmond
ATTACH;FMTTYPE=text/plain:https://hbb.rivio.dev/senioren/2017/wedstrijd/187
 58
END:VEVENT
BEGIN:VEVENT
UID:https://hbb.rivio.dev/senioren/2017/wedstrijd/18784
DTSTAMP:20260420T165113Z
SUMMARY:Ganzeveer 3 - Heeze 2
DESCRIPTION:Baan 14\, Wedstrijdnummer 1196\, Afdeling 3e klasse II D
DTSTART:20180131T200000
DTEND:20180131T230000
LOCATION:City Resort Helmond
ATTACH;FMTTYPE=text/plain:https://hbb.rivio.dev/senioren/2017/wedstrijd/187
 84
END:VEVENT
BEGIN:VEVENT
UID:https://hbb.rivio.dev/senioren/2017/wedstrijd/18824
DTSTAMP:20260420T165113Z
SUMMARY:Ganzeveer 3 - Mierlo 8
DESCRIPTION:Baan 13\, Wedstrijdnummer 1199\, Afdeling 3e klasse II D
DTSTART:20180221T200000
DTEND:20180221T230000
LOCATION:City Resort Helmond
ATTACH;FMTTYPE=text/plain:https://hbb.rivio.dev/senioren/2017/wedstrijd/188
 24
END:VEVENT
BEGIN:VEVENT
UID:https://hbb.rivio.dev/senioren/2017/wedstrijd/18866
DTSTAMP:20260420T165113Z
SUMMARY:Hanevoet 4 - Ganzeveer 3
DESCRIPTION:Baan 13\, Wedstrijdnummer 1202\, Afdeling 3e klasse II K
DTSTART:20180308T200000
DTEND:20180308T230000
LOCATION:City Resort Helmond
ATTACH;FMTTYPE=text/plain:https://hbb.rivio.dev/senioren/2017/wedstrijd/188
 66
END:VEVENT
BEGIN:VEVENT
UID:https://hbb.rivio.dev/senioren/2017/wedstrijd/20168
DTSTAMP:20260420T165113Z
SUMMARY:Ganzeveer 3 - Mierlo 8
DESCRIPTION:Baan 13\, Wedstrijdnummer 1345\, Afdeling 3e klasse II D
DTSTART:20180321T200000
DTEND:20180321T230000
LOCATION:City Resort Helmond
ATTACH;FMTTYPE=text/plain:https://hbb.rivio.dev/senioren/2017/wedstrijd/201
 68
END:VEVENT
BEGIN:VEVENT
UID:https://hbb.rivio.dev/senioren/2017/wedstrijd/20169
DTSTAMP:20260420T165113Z
SUMMARY:Heeze 2 - Ganzeveer 3
DESCRIPTION:Baan 15\, Wedstrijdnummer 1347\, Afdeling 3e klasse II D
DTSTART:20180328T200000
DTEND:20180328T230000
LOCATION:City Resort Helmond
ATTACH;FMTTYPE=text/plain:https://hbb.rivio.dev/senioren/2017/wedstrijd/201
 69
END:VEVENT
BEGIN:VTIMEZONE
TZID:Europe/Amsterdam
BEGIN:STANDARD
DTSTART:20170101T000000
TZNAME:CET
TZOFFSETTO:+0100
TZOFFSETFROM:+0100
END:STANDARD
BEGIN:DAYLIGHT
DTSTART:20170326T030000
TZNAME:CEST
TZOFFSETTO:+0200
TZOFFSETFROM:+0100
END:DAYLIGHT
BEGIN:STANDARD
DTSTART:20171029T020000
TZNAME:CET
TZOFFSETTO:+0100
TZOFFSETFROM:+0200
END:STANDARD
BEGIN:DAYLIGHT
DTSTART:20180325T030000
TZNAME:CEST
TZOFFSETTO:+0200
TZOFFSETFROM:+0100
END:DAYLIGHT
BEGIN:STANDARD
DTSTART:20181028T020000
TZNAME:CET
TZOFFSETTO:+0100
TZOFFSETFROM:+0200
END:STANDARD
END:VTIMEZONE
END:VCALENDAR
