BEGIN:VCALENDAR
PRODID:-//eluceo/ical//2.0/EN
VERSION:2.0
CALSCALE:GREGORIAN
BEGIN:VEVENT
UID:https://hbb.rivio.dev/senioren/2017/wedstrijd/18514
DTSTAMP:20260420T163730Z
SUMMARY:BC '85 2 - Ganzeveer 2
DESCRIPTION:Baan 10\, Wedstrijdnummer 175\, Afdeling 3e klasse I D
DTSTART:20170920T200000
DTEND:20170920T230000
LOCATION:City Resort Helmond
ATTACH;FMTTYPE=text/plain:https://hbb.rivio.dev/senioren/2017/wedstrijd/185
 14
END:VEVENT
BEGIN:VEVENT
UID:https://hbb.rivio.dev/senioren/2017/wedstrijd/18554
DTSTAMP:20260420T163730Z
SUMMARY:Con Brio 7 - Ganzeveer 2
DESCRIPTION:Baan 3\, Wedstrijdnummer 179\, Afdeling 3e klasse I K
DTSTART:20171004T200000
DTEND:20171004T230000
LOCATION:City Resort Helmond
ATTACH;FMTTYPE=text/plain:https://hbb.rivio.dev/senioren/2017/wedstrijd/185
 54
END:VEVENT
BEGIN:VEVENT
UID:https://hbb.rivio.dev/senioren/2017/wedstrijd/18579
DTSTAMP:20260420T163730Z
SUMMARY:Ganzeveer 2 - Gemert 2
DESCRIPTION:Baan 10\, Wedstrijdnummer 182\, Afdeling 3e klasse I D
DTSTART:20171011T200000
DTEND:20171011T230000
LOCATION:City Resort Helmond
ATTACH;FMTTYPE=text/plain:https://hbb.rivio.dev/senioren/2017/wedstrijd/185
 79
END:VEVENT
BEGIN:VEVENT
UID:https://hbb.rivio.dev/senioren/2017/wedstrijd/18609
DTSTAMP:20260420T163730Z
SUMMARY:Ganzeveer 2 - Hanevoet 3
DESCRIPTION:Baan 14\, Wedstrijdnummer 185\, Afdeling 3e klasse I D
DTSTART:20171108T200000
DTEND:20171108T230000
LOCATION:City Resort Helmond
ATTACH;FMTTYPE=text/plain:https://hbb.rivio.dev/senioren/2017/wedstrijd/186
 09
END:VEVENT
BEGIN:VEVENT
UID:https://hbb.rivio.dev/senioren/2017/wedstrijd/18668
DTSTAMP:20260420T163730Z
SUMMARY:Ganzeveer 2 - Heiakker 1
DESCRIPTION:Baan 4\, Wedstrijdnummer 188\, Afdeling 3e klasse I D
DTSTART:20171129T200000
DTEND:20171129T230000
LOCATION:City Resort Helmond
ATTACH;FMTTYPE=text/plain:https://hbb.rivio.dev/senioren/2017/wedstrijd/186
 68
END:VEVENT
BEGIN:VEVENT
UID:https://hbb.rivio.dev/senioren/2017/wedstrijd/18702
DTSTAMP:20260420T163730Z
SUMMARY:Ganzeveer 2 - BC '85 2
DESCRIPTION:Baan 11\, Wedstrijdnummer 1175\, Afdeling 3e klasse I D
DTSTART:20171213T200000
DTEND:20171213T230000
LOCATION:City Resort Helmond
ATTACH;FMTTYPE=text/plain:https://hbb.rivio.dev/senioren/2017/wedstrijd/187
 02
END:VEVENT
BEGIN:VEVENT
UID:https://hbb.rivio.dev/senioren/2017/wedstrijd/18738
DTSTAMP:20260420T163730Z
SUMMARY:Ganzeveer 2 - Con Brio 7
DESCRIPTION:Baan 5\, Wedstrijdnummer 1179\, Afdeling 3e klasse I D
DTSTART:20180117T200000
DTEND:20180117T230000
LOCATION:City Resort Helmond
ATTACH;FMTTYPE=text/plain:https://hbb.rivio.dev/senioren/2017/wedstrijd/187
 38
END:VEVENT
BEGIN:VEVENT
UID:https://hbb.rivio.dev/senioren/2017/wedstrijd/18763
DTSTAMP:20260420T163730Z
SUMMARY:Gemert 2 - Ganzeveer 2
DESCRIPTION:Baan 14\, Wedstrijdnummer 1182\, Afdeling 3e klasse I K
DTSTART:20180124T200000
DTEND:20180124T230000
LOCATION:City Resort Helmond
ATTACH;FMTTYPE=text/plain:https://hbb.rivio.dev/senioren/2017/wedstrijd/187
 63
END:VEVENT
BEGIN:VEVENT
UID:https://hbb.rivio.dev/senioren/2017/wedstrijd/18830
DTSTAMP:20260420T163730Z
SUMMARY:Hanevoet 3 - Ganzeveer 2
DESCRIPTION:Baan 4\, Wedstrijdnummer 1185\, Afdeling 3e klasse I K
DTSTART:20180222T200000
DTEND:20180222T230000
LOCATION:City Resort Helmond
ATTACH;FMTTYPE=text/plain:https://hbb.rivio.dev/senioren/2017/wedstrijd/188
 30
END:VEVENT
BEGIN:VEVENT
UID:https://hbb.rivio.dev/senioren/2017/wedstrijd/18863
DTSTAMP:20260420T163730Z
SUMMARY:Heiakker 1 - Ganzeveer 2
DESCRIPTION:Baan 10\, Wedstrijdnummer 1188\, Afdeling 3e klasse I D
DTSTART:20180308T200000
DTEND:20180308T230000
LOCATION:City Resort Helmond
ATTACH;FMTTYPE=text/plain:https://hbb.rivio.dev/senioren/2017/wedstrijd/188
 63
END:VEVENT
BEGIN:VEVENT
UID:https://hbb.rivio.dev/senioren/2017/wedstrijd/20154
DTSTAMP:20260420T163730Z
SUMMARY:Ganzeveer 2 - Heiakker 1
DESCRIPTION:Baan 5\, Wedstrijdnummer 1341\, Afdeling 3e klasse I D
DTSTART:20180328T200000
DTEND:20180328T230000
LOCATION:City Resort Helmond
ATTACH;FMTTYPE=text/plain:https://hbb.rivio.dev/senioren/2017/wedstrijd/201
 54
END:VEVENT
BEGIN:VEVENT
UID:https://hbb.rivio.dev/senioren/2017/wedstrijd/20155
DTSTAMP:20260420T163730Z
SUMMARY:BC '85 2 - Ganzeveer 2
DESCRIPTION:Baan 13\, Wedstrijdnummer 1343\, Afdeling 3e klasse I D
DTSTART:20180412T200000
DTEND:20180412T230000
LOCATION:City Resort Helmond
ATTACH;FMTTYPE=text/plain:https://hbb.rivio.dev/senioren/2017/wedstrijd/201
 55
END:VEVENT
BEGIN:VTIMEZONE
TZID:Europe/Amsterdam
BEGIN:STANDARD
DTSTART:20170101T000000
TZNAME:CET
TZOFFSETTO:+0100
TZOFFSETFROM:+0100
END:STANDARD
BEGIN:DAYLIGHT
DTSTART:20170326T030000
TZNAME:CEST
TZOFFSETTO:+0200
TZOFFSETFROM:+0100
END:DAYLIGHT
BEGIN:STANDARD
DTSTART:20171029T020000
TZNAME:CET
TZOFFSETTO:+0100
TZOFFSETFROM:+0200
END:STANDARD
BEGIN:DAYLIGHT
DTSTART:20180325T030000
TZNAME:CEST
TZOFFSETTO:+0200
TZOFFSETFROM:+0100
END:DAYLIGHT
BEGIN:STANDARD
DTSTART:20181028T020000
TZNAME:CET
TZOFFSETTO:+0100
TZOFFSETFROM:+0200
END:STANDARD
END:VTIMEZONE
END:VCALENDAR
