BEGIN:VCALENDAR
PRODID:-//eluceo/ical//2.0/EN
VERSION:2.0
CALSCALE:GREGORIAN
BEGIN:VEVENT
UID:https://hbb.rivio.dev/senioren/2017/wedstrijd/18529
DTSTAMP:20260420T150404Z
SUMMARY:Mierlo 10 - Someren 4
DESCRIPTION:Baan 14\, Wedstrijdnummer 228\, Afdeling 4e klasse II D
DTSTART:20170921T200000
DTEND:20170921T230000
LOCATION:City Resort Helmond
ATTACH;FMTTYPE=text/plain:https://hbb.rivio.dev/senioren/2017/wedstrijd/185
 29
END:VEVENT
BEGIN:VEVENT
UID:https://hbb.rivio.dev/senioren/2017/wedstrijd/18592
DTSTAMP:20260420T150404Z
SUMMARY:Someren 4 - Mixed 8
DESCRIPTION:Baan 12\, Wedstrijdnummer 231\, Afdeling 4e klasse II K
DTSTART:20171109T200000
DTEND:20171109T230000
LOCATION:City Resort Helmond
ATTACH;FMTTYPE=text/plain:https://hbb.rivio.dev/senioren/2017/wedstrijd/185
 92
END:VEVENT
BEGIN:VEVENT
UID:https://hbb.rivio.dev/senioren/2017/wedstrijd/18638
DTSTAMP:20260420T150404Z
SUMMARY:Smashing Bruang 3 - Someren 4
DESCRIPTION:Baan 10\, Wedstrijdnummer 234\, Afdeling 4e klasse II K
DTSTART:20171116T200000
DTEND:20171116T230000
LOCATION:City Resort Helmond
ATTACH;FMTTYPE=text/plain:https://hbb.rivio.dev/senioren/2017/wedstrijd/186
 38
END:VEVENT
BEGIN:VEVENT
UID:https://hbb.rivio.dev/senioren/2017/wedstrijd/18663
DTSTAMP:20260420T150404Z
SUMMARY:Someren 4 - BC '85 3
DESCRIPTION:Baan 14\, Wedstrijdnummer 235\, Afdeling 4e klasse II K
DTSTART:20171123T200000
DTEND:20171123T230000
LOCATION:City Resort Helmond
ATTACH;FMTTYPE=text/plain:https://hbb.rivio.dev/senioren/2017/wedstrijd/186
 63
END:VEVENT
BEGIN:VEVENT
UID:https://hbb.rivio.dev/senioren/2017/wedstrijd/18692
DTSTAMP:20260420T150404Z
SUMMARY:Gemert 3 - Someren 4
DESCRIPTION:Baan 11\, Wedstrijdnummer 239\, Afdeling 4e klasse II D
DTSTART:20171207T200000
DTEND:20171207T230000
LOCATION:City Resort Helmond
ATTACH;FMTTYPE=text/plain:https://hbb.rivio.dev/senioren/2017/wedstrijd/186
 92
END:VEVENT
BEGIN:VEVENT
UID:https://hbb.rivio.dev/senioren/2017/wedstrijd/18725
DTSTAMP:20260420T150404Z
SUMMARY:Someren 4 - Mierlo 10
DESCRIPTION:Baan 12\, Wedstrijdnummer 1228\, Afdeling 4e klasse II K
DTSTART:20171221T200000
DTEND:20171221T230000
LOCATION:City Resort Helmond
ATTACH;FMTTYPE=text/plain:https://hbb.rivio.dev/senioren/2017/wedstrijd/187
 25
END:VEVENT
BEGIN:VEVENT
UID:https://hbb.rivio.dev/senioren/2017/wedstrijd/18767
DTSTAMP:20260420T150404Z
SUMMARY:Mixed 8 - Someren 4
DESCRIPTION:Baan 3\, Wedstrijdnummer 1231\, Afdeling 4e klasse II K
DTSTART:20180125T200000
DTEND:20180125T230000
LOCATION:City Resort Helmond
ATTACH;FMTTYPE=text/plain:https://hbb.rivio.dev/senioren/2017/wedstrijd/187
 67
END:VEVENT
BEGIN:VEVENT
UID:https://hbb.rivio.dev/senioren/2017/wedstrijd/18807
DTSTAMP:20260420T150404Z
SUMMARY:Someren 4 - Smashing Bruang 3
DESCRIPTION:Baan 1\, Wedstrijdnummer 1234\, Afdeling 4e klasse II K
DTSTART:20180208T200000
DTEND:20180208T230000
LOCATION:City Resort Helmond
ATTACH;FMTTYPE=text/plain:https://hbb.rivio.dev/senioren/2017/wedstrijd/188
 07
END:VEVENT
BEGIN:VEVENT
UID:https://hbb.rivio.dev/senioren/2017/wedstrijd/18837
DTSTAMP:20260420T150404Z
SUMMARY:BC '85 3 - Someren 4
DESCRIPTION:Baan 15\, Wedstrijdnummer 1235\, Afdeling 4e klasse II D
DTSTART:20180222T200000
DTEND:20180222T230000
LOCATION:City Resort Helmond
ATTACH;FMTTYPE=text/plain:https://hbb.rivio.dev/senioren/2017/wedstrijd/188
 37
END:VEVENT
BEGIN:VEVENT
UID:https://hbb.rivio.dev/senioren/2017/wedstrijd/18864
DTSTAMP:20260420T150404Z
SUMMARY:Someren 4 - Gemert 3
DESCRIPTION:Baan 11\, Wedstrijdnummer 1239\, Afdeling 4e klasse II K
DTSTART:20180308T200000
DTEND:20180308T230000
LOCATION:City Resort Helmond
ATTACH;FMTTYPE=text/plain:https://hbb.rivio.dev/senioren/2017/wedstrijd/188
 64
END:VEVENT
BEGIN:VEVENT
UID:https://hbb.rivio.dev/senioren/2017/wedstrijd/20156
DTSTAMP:20260420T150404Z
SUMMARY:Mixed 8 - Someren 4
DESCRIPTION:Baan 5\, Wedstrijdnummer 1350\, Afdeling 4e klasse II K
DTSTART:20180321T200000
DTEND:20180321T230000
LOCATION:City Resort Helmond
ATTACH;FMTTYPE=text/plain:https://hbb.rivio.dev/senioren/2017/wedstrijd/201
 56
END:VEVENT
BEGIN:VEVENT
UID:https://hbb.rivio.dev/senioren/2017/wedstrijd/20158
DTSTAMP:20260420T150404Z
SUMMARY:Someren 4 - Smashing Bruang 3
DESCRIPTION:Baan 3\, Wedstrijdnummer 1354\, Afdeling 4e klasse II K
DTSTART:20180418T200000
DTEND:20180418T230000
LOCATION:City Resort Helmond
ATTACH;FMTTYPE=text/plain:https://hbb.rivio.dev/senioren/2017/wedstrijd/201
 58
END:VEVENT
BEGIN:VTIMEZONE
TZID:Europe/Amsterdam
BEGIN:STANDARD
DTSTART:20170101T000000
TZNAME:CET
TZOFFSETTO:+0100
TZOFFSETFROM:+0100
END:STANDARD
BEGIN:DAYLIGHT
DTSTART:20170326T030000
TZNAME:CEST
TZOFFSETTO:+0200
TZOFFSETFROM:+0100
END:DAYLIGHT
BEGIN:STANDARD
DTSTART:20171029T020000
TZNAME:CET
TZOFFSETTO:+0100
TZOFFSETFROM:+0200
END:STANDARD
BEGIN:DAYLIGHT
DTSTART:20180325T030000
TZNAME:CEST
TZOFFSETTO:+0200
TZOFFSETFROM:+0100
END:DAYLIGHT
BEGIN:STANDARD
DTSTART:20181028T020000
TZNAME:CET
TZOFFSETTO:+0100
TZOFFSETFROM:+0200
END:STANDARD
END:VTIMEZONE
END:VCALENDAR
