BEGIN:VCALENDAR
PRODID:-//eluceo/ical//2.0/EN
VERSION:2.0
CALSCALE:GREGORIAN
BEGIN:VEVENT
UID:https://hbb.rivio.dev/senioren/2017/wedstrijd/18612
DTSTAMP:20260420T103643Z
SUMMARY:Someren 3 - Mixed 7
DESCRIPTION:Baan 2\, Wedstrijdnummer 213\, Afdeling 4e klasse I
DTSTART:20171109T200000
DTEND:20171109T230000
LOCATION:City Resort Helmond
ATTACH;FMTTYPE=text/plain:https://hbb.rivio.dev/senioren/2017/wedstrijd/186
 12
END:VEVENT
BEGIN:VEVENT
UID:https://hbb.rivio.dev/senioren/2017/wedstrijd/18568
DTSTAMP:20260420T103643Z
SUMMARY:RBC 3 - Someren 3
DESCRIPTION:Baan 15\, Wedstrijdnummer 210\, Afdeling 4e klasse I
DTSTART:20171116T200000
DTEND:20171116T230000
LOCATION:City Resort Helmond
ATTACH;FMTTYPE=text/plain:https://hbb.rivio.dev/senioren/2017/wedstrijd/185
 68
END:VEVENT
BEGIN:VEVENT
UID:https://hbb.rivio.dev/senioren/2017/wedstrijd/18659
DTSTAMP:20260420T103643Z
SUMMARY:Dommelen 4 - Someren 3
DESCRIPTION:Baan 10\, Wedstrijdnummer 215\, Afdeling 4e klasse I
DTSTART:20171123T200000
DTEND:20171123T230000
LOCATION:City Resort Helmond
ATTACH;FMTTYPE=text/plain:https://hbb.rivio.dev/senioren/2017/wedstrijd/186
 59
END:VEVENT
BEGIN:VEVENT
UID:https://hbb.rivio.dev/senioren/2017/wedstrijd/18683
DTSTAMP:20260420T103643Z
SUMMARY:Someren 3 - Con Brio 8
DESCRIPTION:Baan 13\, Wedstrijdnummer 218\, Afdeling 4e klasse I
DTSTART:20171130T200000
DTEND:20171130T230000
LOCATION:City Resort Helmond
ATTACH;FMTTYPE=text/plain:https://hbb.rivio.dev/senioren/2017/wedstrijd/186
 83
END:VEVENT
BEGIN:VEVENT
UID:https://hbb.rivio.dev/senioren/2017/wedstrijd/18711
DTSTAMP:20260420T103643Z
SUMMARY:Mierlo 9 - Someren 3
DESCRIPTION:Baan 5\, Wedstrijdnummer 220\, Afdeling 4e klasse I
DTSTART:20171214T200000
DTEND:20171214T230000
LOCATION:City Resort Helmond
ATTACH;FMTTYPE=text/plain:https://hbb.rivio.dev/senioren/2017/wedstrijd/187
 11
END:VEVENT
BEGIN:VEVENT
UID:https://hbb.rivio.dev/senioren/2017/wedstrijd/18720
DTSTAMP:20260420T103643Z
SUMMARY:Someren 3 - Never Down 2
DESCRIPTION:Baan 3\, Wedstrijdnummer 223\, Afdeling 4e klasse I
DTSTART:20171221T200000
DTEND:20171221T230000
LOCATION:City Resort Helmond
ATTACH;FMTTYPE=text/plain:https://hbb.rivio.dev/senioren/2017/wedstrijd/187
 20
END:VEVENT
BEGIN:VEVENT
UID:https://hbb.rivio.dev/senioren/2017/wedstrijd/18828
DTSTAMP:20260420T103643Z
SUMMARY:Someren 3 - RBC 3
DESCRIPTION:Baan 2\, Wedstrijdnummer 1210\, Afdeling 4e klasse I
DTSTART:20180222T200000
DTEND:20180222T230000
LOCATION:City Resort Helmond
ATTACH;FMTTYPE=text/plain:https://hbb.rivio.dev/senioren/2017/wedstrijd/188
 28
END:VEVENT
BEGIN:VEVENT
UID:https://hbb.rivio.dev/senioren/2017/wedstrijd/18849
DTSTAMP:20260420T103643Z
SUMMARY:Mixed 7 - Someren 3
DESCRIPTION:Baan 3\, Wedstrijdnummer 1213\, Afdeling 4e klasse I
DTSTART:20180301T200000
DTEND:20180301T230000
LOCATION:City Resort Helmond
ATTACH;FMTTYPE=text/plain:https://hbb.rivio.dev/senioren/2017/wedstrijd/188
 49
END:VEVENT
BEGIN:VEVENT
UID:https://hbb.rivio.dev/senioren/2017/wedstrijd/18880
DTSTAMP:20260420T103643Z
SUMMARY:Someren 3 - Dommelen 4
DESCRIPTION:Baan 12\, Wedstrijdnummer 1215\, Afdeling 4e klasse I
DTSTART:20180315T200000
DTEND:20180315T230000
LOCATION:City Resort Helmond
ATTACH;FMTTYPE=text/plain:https://hbb.rivio.dev/senioren/2017/wedstrijd/188
 80
END:VEVENT
BEGIN:VEVENT
UID:https://hbb.rivio.dev/senioren/2017/wedstrijd/18891
DTSTAMP:20260420T103643Z
SUMMARY:Con Brio 8 - Someren 3
DESCRIPTION:Baan 13\, Wedstrijdnummer 1218\, Afdeling 4e klasse I
DTSTART:20180322T200000
DTEND:20180322T230000
LOCATION:City Resort Helmond
ATTACH;FMTTYPE=text/plain:https://hbb.rivio.dev/senioren/2017/wedstrijd/188
 91
END:VEVENT
BEGIN:VEVENT
UID:https://hbb.rivio.dev/senioren/2017/wedstrijd/18904
DTSTAMP:20260420T103643Z
SUMMARY:Someren 3 - Mierlo 9
DESCRIPTION:Baan 13\, Wedstrijdnummer 1220\, Afdeling 4e klasse I
DTSTART:20180329T200000
DTEND:20180329T230000
LOCATION:City Resort Helmond
ATTACH;FMTTYPE=text/plain:https://hbb.rivio.dev/senioren/2017/wedstrijd/189
 04
END:VEVENT
BEGIN:VEVENT
UID:https://hbb.rivio.dev/senioren/2017/wedstrijd/18909
DTSTAMP:20260420T103643Z
SUMMARY:Never Down 2 - Someren 3
DESCRIPTION:Baan 10\, Wedstrijdnummer 1223\, Afdeling 4e klasse I
DTSTART:20180412T200000
DTEND:20180412T230000
LOCATION:City Resort Helmond
ATTACH;FMTTYPE=text/plain:https://hbb.rivio.dev/senioren/2017/wedstrijd/189
 09
END:VEVENT
BEGIN:VTIMEZONE
TZID:Europe/Amsterdam
BEGIN:STANDARD
DTSTART:20170101T000000
TZNAME:CET
TZOFFSETTO:+0100
TZOFFSETFROM:+0100
END:STANDARD
BEGIN:DAYLIGHT
DTSTART:20170326T030000
TZNAME:CEST
TZOFFSETTO:+0200
TZOFFSETFROM:+0100
END:DAYLIGHT
BEGIN:STANDARD
DTSTART:20171029T020000
TZNAME:CET
TZOFFSETTO:+0100
TZOFFSETFROM:+0200
END:STANDARD
BEGIN:DAYLIGHT
DTSTART:20180325T030000
TZNAME:CEST
TZOFFSETTO:+0200
TZOFFSETFROM:+0100
END:DAYLIGHT
BEGIN:STANDARD
DTSTART:20181028T020000
TZNAME:CET
TZOFFSETTO:+0100
TZOFFSETFROM:+0200
END:STANDARD
END:VTIMEZONE
END:VCALENDAR
