BEGIN:VCALENDAR
PRODID:-//eluceo/ical//2.0/EN
VERSION:2.0
CALSCALE:GREGORIAN
BEGIN:VEVENT
UID:https://hbb.rivio.dev/senioren/2017/wedstrijd/18516
DTSTAMP:20260420T171918Z
SUMMARY:BC '85 3 - Gemert 3
DESCRIPTION:Baan 12\, Wedstrijdnummer 226\, Afdeling 4e klasse II D
DTSTART:20170920T200000
DTEND:20170920T230000
LOCATION:City Resort Helmond
ATTACH;FMTTYPE=text/plain:https://hbb.rivio.dev/senioren/2017/wedstrijd/185
 16
END:VEVENT
BEGIN:VEVENT
UID:https://hbb.rivio.dev/senioren/2017/wedstrijd/18556
DTSTAMP:20260420T171918Z
SUMMARY:Mierlo 10 - BC '85 3
DESCRIPTION:Baan 5\, Wedstrijdnummer 229\, Afdeling 4e klasse II D
DTSTART:20171004T200000
DTEND:20171004T230000
LOCATION:City Resort Helmond
ATTACH;FMTTYPE=text/plain:https://hbb.rivio.dev/senioren/2017/wedstrijd/185
 56
END:VEVENT
BEGIN:VEVENT
UID:https://hbb.rivio.dev/senioren/2017/wedstrijd/18581
DTSTAMP:20260420T171918Z
SUMMARY:Mixed 8 - BC '85 3
DESCRIPTION:Baan 12\, Wedstrijdnummer 232\, Afdeling 4e klasse II K
DTSTART:20171011T200000
DTEND:20171011T230000
LOCATION:City Resort Helmond
ATTACH;FMTTYPE=text/plain:https://hbb.rivio.dev/senioren/2017/wedstrijd/185
 81
END:VEVENT
BEGIN:VEVENT
UID:https://hbb.rivio.dev/senioren/2017/wedstrijd/18663
DTSTAMP:20260420T171918Z
SUMMARY:Someren 4 - BC '85 3
DESCRIPTION:Baan 14\, Wedstrijdnummer 235\, Afdeling 4e klasse II K
DTSTART:20171123T200000
DTEND:20171123T230000
LOCATION:City Resort Helmond
ATTACH;FMTTYPE=text/plain:https://hbb.rivio.dev/senioren/2017/wedstrijd/186
 63
END:VEVENT
BEGIN:VEVENT
UID:https://hbb.rivio.dev/senioren/2017/wedstrijd/18671
DTSTAMP:20260420T171918Z
SUMMARY:BC '85 3 - Smashing Bruang 3
DESCRIPTION:Baan 12\, Wedstrijdnummer 238\, Afdeling 4e klasse II D
DTSTART:20171129T200000
DTEND:20171129T230000
LOCATION:City Resort Helmond
ATTACH;FMTTYPE=text/plain:https://hbb.rivio.dev/senioren/2017/wedstrijd/186
 71
END:VEVENT
BEGIN:VEVENT
UID:https://hbb.rivio.dev/senioren/2017/wedstrijd/18705
DTSTAMP:20260420T171918Z
SUMMARY:Gemert 3 - BC '85 3
DESCRIPTION:Baan 14\, Wedstrijdnummer 1226\, Afdeling 4e klasse II D
DTSTART:20171213T200000
DTEND:20171213T230000
LOCATION:City Resort Helmond
ATTACH;FMTTYPE=text/plain:https://hbb.rivio.dev/senioren/2017/wedstrijd/187
 05
END:VEVENT
BEGIN:VEVENT
UID:https://hbb.rivio.dev/senioren/2017/wedstrijd/18739
DTSTAMP:20260420T171918Z
SUMMARY:BC '85 3 - Mierlo 10
DESCRIPTION:Baan 11\, Wedstrijdnummer 1229\, Afdeling 4e klasse II D
DTSTART:20180117T200000
DTEND:20180117T230000
LOCATION:City Resort Helmond
ATTACH;FMTTYPE=text/plain:https://hbb.rivio.dev/senioren/2017/wedstrijd/187
 39
END:VEVENT
BEGIN:VEVENT
UID:https://hbb.rivio.dev/senioren/2017/wedstrijd/18783
DTSTAMP:20260420T171918Z
SUMMARY:BC '85 3 - Mixed 8
DESCRIPTION:Baan 13\, Wedstrijdnummer 1232\, Afdeling 4e klasse II D
DTSTART:20180131T200000
DTEND:20180131T230000
LOCATION:City Resort Helmond
ATTACH;FMTTYPE=text/plain:https://hbb.rivio.dev/senioren/2017/wedstrijd/187
 83
END:VEVENT
BEGIN:VEVENT
UID:https://hbb.rivio.dev/senioren/2017/wedstrijd/18837
DTSTAMP:20260420T171918Z
SUMMARY:BC '85 3 - Someren 4
DESCRIPTION:Baan 15\, Wedstrijdnummer 1235\, Afdeling 4e klasse II D
DTSTART:20180222T200000
DTEND:20180222T230000
LOCATION:City Resort Helmond
ATTACH;FMTTYPE=text/plain:https://hbb.rivio.dev/senioren/2017/wedstrijd/188
 37
END:VEVENT
BEGIN:VEVENT
UID:https://hbb.rivio.dev/senioren/2017/wedstrijd/18842
DTSTAMP:20260420T171918Z
SUMMARY:Smashing Bruang 3 - BC '85 3
DESCRIPTION:Baan 11\, Wedstrijdnummer 1238\, Afdeling 4e klasse II K
DTSTART:20180228T200000
DTEND:20180228T230000
LOCATION:City Resort Helmond
ATTACH;FMTTYPE=text/plain:https://hbb.rivio.dev/senioren/2017/wedstrijd/188
 42
END:VEVENT
BEGIN:VEVENT
UID:https://hbb.rivio.dev/senioren/2017/wedstrijd/20161
DTSTAMP:20260420T171918Z
SUMMARY:BC '85 3 - Gemert 3
DESCRIPTION:Baan 4\, Wedstrijdnummer 1355\, Afdeling 4e klasse II D
DTSTART:20180418T200000
DTEND:20180418T230000
LOCATION:City Resort Helmond
ATTACH;FMTTYPE=text/plain:https://hbb.rivio.dev/senioren/2017/wedstrijd/201
 61
END:VEVENT
BEGIN:VTIMEZONE
TZID:Europe/Amsterdam
BEGIN:STANDARD
DTSTART:20170101T000000
TZNAME:CET
TZOFFSETTO:+0100
TZOFFSETFROM:+0100
END:STANDARD
BEGIN:DAYLIGHT
DTSTART:20170326T030000
TZNAME:CEST
TZOFFSETTO:+0200
TZOFFSETFROM:+0100
END:DAYLIGHT
BEGIN:STANDARD
DTSTART:20171029T020000
TZNAME:CET
TZOFFSETTO:+0100
TZOFFSETFROM:+0200
END:STANDARD
BEGIN:DAYLIGHT
DTSTART:20180325T030000
TZNAME:CEST
TZOFFSETTO:+0200
TZOFFSETFROM:+0100
END:DAYLIGHT
BEGIN:STANDARD
DTSTART:20181028T020000
TZNAME:CET
TZOFFSETTO:+0100
TZOFFSETFROM:+0200
END:STANDARD
END:VTIMEZONE
END:VCALENDAR
