BEGIN:VCALENDAR
PRODID:-//eluceo/ical//2.0/EN
VERSION:2.0
CALSCALE:GREGORIAN
BEGIN:VEVENT
UID:https://hbb.rivio.dev/senioren/2017/wedstrijd/18514
DTSTAMP:20260420T145808Z
SUMMARY:BC '85 2 - Ganzeveer 2
DESCRIPTION:Baan 10\, Wedstrijdnummer 175\, Afdeling 3e klasse I D
DTSTART:20170920T200000
DTEND:20170920T230000
LOCATION:City Resort Helmond
ATTACH;FMTTYPE=text/plain:https://hbb.rivio.dev/senioren/2017/wedstrijd/185
 14
END:VEVENT
BEGIN:VEVENT
UID:https://hbb.rivio.dev/senioren/2017/wedstrijd/18562
DTSTAMP:20260420T145808Z
SUMMARY:Gemert 2 - BC '85 2
DESCRIPTION:Baan 15\, Wedstrijdnummer 178\, Afdeling 3e klasse I K
DTSTART:20171004T200000
DTEND:20171004T230000
LOCATION:City Resort Helmond
ATTACH;FMTTYPE=text/plain:https://hbb.rivio.dev/senioren/2017/wedstrijd/185
 62
END:VEVENT
BEGIN:VEVENT
UID:https://hbb.rivio.dev/senioren/2017/wedstrijd/18633
DTSTAMP:20260420T145808Z
SUMMARY:Hanevoet 3 - BC '85 2
DESCRIPTION:Baan 1\, Wedstrijdnummer 181\, Afdeling 3e klasse I K
DTSTART:20171116T200000
DTEND:20171116T230000
LOCATION:City Resort Helmond
ATTACH;FMTTYPE=text/plain:https://hbb.rivio.dev/senioren/2017/wedstrijd/186
 33
END:VEVENT
BEGIN:VEVENT
UID:https://hbb.rivio.dev/senioren/2017/wedstrijd/18664
DTSTAMP:20260420T145808Z
SUMMARY:Heiakker 1 - BC '85 2
DESCRIPTION:Baan 15\, Wedstrijdnummer 184\, Afdeling 3e klasse I D
DTSTART:20171123T200000
DTEND:20171123T230000
LOCATION:City Resort Helmond
ATTACH;FMTTYPE=text/plain:https://hbb.rivio.dev/senioren/2017/wedstrijd/186
 64
END:VEVENT
BEGIN:VEVENT
UID:https://hbb.rivio.dev/senioren/2017/wedstrijd/18667
DTSTAMP:20260420T145808Z
SUMMARY:BC '85 2 - Con Brio 7
DESCRIPTION:Baan 3\, Wedstrijdnummer 187\, Afdeling 3e klasse I D
DTSTART:20171129T200000
DTEND:20171129T230000
LOCATION:City Resort Helmond
ATTACH;FMTTYPE=text/plain:https://hbb.rivio.dev/senioren/2017/wedstrijd/186
 67
END:VEVENT
BEGIN:VEVENT
UID:https://hbb.rivio.dev/senioren/2017/wedstrijd/18702
DTSTAMP:20260420T145808Z
SUMMARY:Ganzeveer 2 - BC '85 2
DESCRIPTION:Baan 11\, Wedstrijdnummer 1175\, Afdeling 3e klasse I D
DTSTART:20171213T200000
DTEND:20171213T230000
LOCATION:City Resort Helmond
ATTACH;FMTTYPE=text/plain:https://hbb.rivio.dev/senioren/2017/wedstrijd/187
 02
END:VEVENT
BEGIN:VEVENT
UID:https://hbb.rivio.dev/senioren/2017/wedstrijd/18737
DTSTAMP:20260420T145808Z
SUMMARY:BC '85 2 - Gemert 2
DESCRIPTION:Baan 4\, Wedstrijdnummer 1178\, Afdeling 3e klasse I D
DTSTART:20180117T200000
DTEND:20180117T230000
LOCATION:City Resort Helmond
ATTACH;FMTTYPE=text/plain:https://hbb.rivio.dev/senioren/2017/wedstrijd/187
 37
END:VEVENT
BEGIN:VEVENT
UID:https://hbb.rivio.dev/senioren/2017/wedstrijd/18794
DTSTAMP:20260420T145808Z
SUMMARY:BC '85 2 - Hanevoet 3
DESCRIPTION:Baan 13\, Wedstrijdnummer 1181\, Afdeling 3e klasse I D
DTSTART:20180201T200000
DTEND:20180201T230000
LOCATION:City Resort Helmond
ATTACH;FMTTYPE=text/plain:https://hbb.rivio.dev/senioren/2017/wedstrijd/187
 94
END:VEVENT
BEGIN:VEVENT
UID:https://hbb.rivio.dev/senioren/2017/wedstrijd/18829
DTSTAMP:20260420T145808Z
SUMMARY:BC '85 2 - Heiakker 1
DESCRIPTION:Baan 3\, Wedstrijdnummer 1184\, Afdeling 3e klasse I D
DTSTART:20180222T200000
DTEND:20180222T230000
LOCATION:City Resort Helmond
ATTACH;FMTTYPE=text/plain:https://hbb.rivio.dev/senioren/2017/wedstrijd/188
 29
END:VEVENT
BEGIN:VEVENT
UID:https://hbb.rivio.dev/senioren/2017/wedstrijd/18862
DTSTAMP:20260420T145808Z
SUMMARY:Con Brio 7 - BC '85 2
DESCRIPTION:Baan 5\, Wedstrijdnummer 1187\, Afdeling 3e klasse I K
DTSTART:20180308T200000
DTEND:20180308T230000
LOCATION:City Resort Helmond
ATTACH;FMTTYPE=text/plain:https://hbb.rivio.dev/senioren/2017/wedstrijd/188
 62
END:VEVENT
BEGIN:VEVENT
UID:https://hbb.rivio.dev/senioren/2017/wedstrijd/20153
DTSTAMP:20260420T145808Z
SUMMARY:Heiakker 1 - BC '85 2
DESCRIPTION:Baan 14\, Wedstrijdnummer 1339\, Afdeling 3e klasse I D
DTSTART:20180314T200000
DTEND:20180314T230000
LOCATION:City Resort Helmond
ATTACH;FMTTYPE=text/plain:https://hbb.rivio.dev/senioren/2017/wedstrijd/201
 53
END:VEVENT
BEGIN:VEVENT
UID:https://hbb.rivio.dev/senioren/2017/wedstrijd/20155
DTSTAMP:20260420T145808Z
SUMMARY:BC '85 2 - Ganzeveer 2
DESCRIPTION:Baan 13\, Wedstrijdnummer 1343\, Afdeling 3e klasse I D
DTSTART:20180412T200000
DTEND:20180412T230000
LOCATION:City Resort Helmond
ATTACH;FMTTYPE=text/plain:https://hbb.rivio.dev/senioren/2017/wedstrijd/201
 55
END:VEVENT
BEGIN:VTIMEZONE
TZID:Europe/Amsterdam
BEGIN:STANDARD
DTSTART:20170101T000000
TZNAME:CET
TZOFFSETTO:+0100
TZOFFSETFROM:+0100
END:STANDARD
BEGIN:DAYLIGHT
DTSTART:20170326T030000
TZNAME:CEST
TZOFFSETTO:+0200
TZOFFSETFROM:+0100
END:DAYLIGHT
BEGIN:STANDARD
DTSTART:20171029T020000
TZNAME:CET
TZOFFSETTO:+0100
TZOFFSETFROM:+0200
END:STANDARD
BEGIN:DAYLIGHT
DTSTART:20180325T030000
TZNAME:CEST
TZOFFSETTO:+0200
TZOFFSETFROM:+0100
END:DAYLIGHT
BEGIN:STANDARD
DTSTART:20181028T020000
TZNAME:CET
TZOFFSETTO:+0100
TZOFFSETFROM:+0200
END:STANDARD
END:VTIMEZONE
END:VCALENDAR
