BEGIN:VCALENDAR
PRODID:-//eluceo/ical//2.0/EN
VERSION:2.0
CALSCALE:GREGORIAN
BEGIN:VEVENT
UID:https://hbb.rivio.dev/senioren/2017/wedstrijd/18511
DTSTAMP:20260420T133304Z
SUMMARY:Ganzeveer 1 - Phoenix 1
DESCRIPTION:Baan 3\, Wedstrijdnummer 2\, Afdeling Topklasse D
DTSTART:20170920T200000
DTEND:20170920T230000
LOCATION:City Resort Helmond
ATTACH;FMTTYPE=text/plain:https://hbb.rivio.dev/senioren/2017/wedstrijd/185
 11
END:VEVENT
BEGIN:VEVENT
UID:https://hbb.rivio.dev/senioren/2017/wedstrijd/18537
DTSTAMP:20260420T133304Z
SUMMARY:Phoenix 1 - Con Brio 2
DESCRIPTION:Baan 12\, Wedstrijdnummer 5\, Afdeling Topklasse D
DTSTART:20170927T200000
DTEND:20170927T230000
LOCATION:City Resort Helmond
ATTACH;FMTTYPE=text/plain:https://hbb.rivio.dev/senioren/2017/wedstrijd/185
 37
END:VEVENT
BEGIN:VEVENT
UID:https://hbb.rivio.dev/senioren/2017/wedstrijd/18578
DTSTAMP:20260420T133304Z
SUMMARY:Phoenix 1 - Mierlo 1
DESCRIPTION:Baan 5\, Wedstrijdnummer 9\, Afdeling Topklasse D
DTSTART:20171011T200000
DTEND:20171011T230000
LOCATION:City Resort Helmond
ATTACH;FMTTYPE=text/plain:https://hbb.rivio.dev/senioren/2017/wedstrijd/185
 78
END:VEVENT
BEGIN:VEVENT
UID:https://hbb.rivio.dev/senioren/2017/wedstrijd/18665
DTSTAMP:20260420T133304Z
SUMMARY:Con Brio 1 - Phoenix 1
DESCRIPTION:Baan 1\, Wedstrijdnummer 13\, Afdeling Topklasse K
DTSTART:20171129T200000
DTEND:20171129T230000
LOCATION:City Resort Helmond
ATTACH;FMTTYPE=text/plain:https://hbb.rivio.dev/senioren/2017/wedstrijd/186
 65
END:VEVENT
BEGIN:VEVENT
UID:https://hbb.rivio.dev/senioren/2017/wedstrijd/18689
DTSTAMP:20260420T133304Z
SUMMARY:BCAB 1 - Phoenix 1
DESCRIPTION:Baan 12\, Wedstrijdnummer 12\, Afdeling Topklasse K
DTSTART:20171207T200000
DTEND:20171207T230000
LOCATION:City Resort Helmond
ATTACH;FMTTYPE=text/plain:https://hbb.rivio.dev/senioren/2017/wedstrijd/186
 89
END:VEVENT
BEGIN:VEVENT
UID:https://hbb.rivio.dev/senioren/2017/wedstrijd/18700
DTSTAMP:20260420T133304Z
SUMMARY:Phoenix 1 - Ganzeveer 1
DESCRIPTION:Baan 4\, Wedstrijdnummer 1002\, Afdeling Topklasse D
DTSTART:20171213T200000
DTEND:20171213T230000
LOCATION:City Resort Helmond
ATTACH;FMTTYPE=text/plain:https://hbb.rivio.dev/senioren/2017/wedstrijd/187
 00
END:VEVENT
BEGIN:VEVENT
UID:https://hbb.rivio.dev/senioren/2017/wedstrijd/18733
DTSTAMP:20260420T133304Z
SUMMARY:Con Brio 2 - Phoenix 1
DESCRIPTION:Baan 5\, Wedstrijdnummer 1005\, Afdeling Topklasse D
DTSTART:20180111T200000
DTEND:20180111T230000
LOCATION:City Resort Helmond
ATTACH;FMTTYPE=text/plain:https://hbb.rivio.dev/senioren/2017/wedstrijd/187
 33
END:VEVENT
BEGIN:VEVENT
UID:https://hbb.rivio.dev/senioren/2017/wedstrijd/18781
DTSTAMP:20260420T133304Z
SUMMARY:Mierlo 1 - Phoenix 1
DESCRIPTION:Baan 11\, Wedstrijdnummer 1009\, Afdeling Topklasse K
DTSTART:20180131T200000
DTEND:20180131T230000
LOCATION:City Resort Helmond
ATTACH;FMTTYPE=text/plain:https://hbb.rivio.dev/senioren/2017/wedstrijd/187
 81
END:VEVENT
BEGIN:VEVENT
UID:https://hbb.rivio.dev/senioren/2017/wedstrijd/18820
DTSTAMP:20260420T133304Z
SUMMARY:Phoenix 1 - BCAB 1
DESCRIPTION:Baan 3\, Wedstrijdnummer 1012\, Afdeling Topklasse D
DTSTART:20180221T200000
DTEND:20180221T230000
LOCATION:City Resort Helmond
ATTACH;FMTTYPE=text/plain:https://hbb.rivio.dev/senioren/2017/wedstrijd/188
 20
END:VEVENT
BEGIN:VEVENT
UID:https://hbb.rivio.dev/senioren/2017/wedstrijd/18839
DTSTAMP:20260420T133304Z
SUMMARY:Phoenix 1 - Con Brio 1
DESCRIPTION:Baan 4\, Wedstrijdnummer 1013\, Afdeling Topklasse D
DTSTART:20180228T200000
DTEND:20180228T230000
LOCATION:City Resort Helmond
ATTACH;FMTTYPE=text/plain:https://hbb.rivio.dev/senioren/2017/wedstrijd/188
 39
END:VEVENT
BEGIN:VEVENT
UID:https://hbb.rivio.dev/senioren/2017/wedstrijd/20142
DTSTAMP:20260420T133304Z
SUMMARY:Phoenix 1 - Ganzeveer 1
DESCRIPTION:Baan 2\, Wedstrijdnummer 1301\, Afdeling Topklasse D
DTSTART:20180321T200000
DTEND:20180321T230000
LOCATION:City Resort Helmond
ATTACH;FMTTYPE=text/plain:https://hbb.rivio.dev/senioren/2017/wedstrijd/201
 42
END:VEVENT
BEGIN:VEVENT
UID:https://hbb.rivio.dev/senioren/2017/wedstrijd/20143
DTSTAMP:20260420T133304Z
SUMMARY:Con Brio 2 - Phoenix 1
DESCRIPTION:Baan 2\, Wedstrijdnummer 1303\, Afdeling Topklasse D
DTSTART:20180404T200000
DTEND:20180404T230000
LOCATION:City Resort Helmond
ATTACH;FMTTYPE=text/plain:https://hbb.rivio.dev/senioren/2017/wedstrijd/201
 43
END:VEVENT
BEGIN:VTIMEZONE
TZID:Europe/Amsterdam
BEGIN:STANDARD
DTSTART:20170101T000000
TZNAME:CET
TZOFFSETTO:+0100
TZOFFSETFROM:+0100
END:STANDARD
BEGIN:DAYLIGHT
DTSTART:20170326T030000
TZNAME:CEST
TZOFFSETTO:+0200
TZOFFSETFROM:+0100
END:DAYLIGHT
BEGIN:STANDARD
DTSTART:20171029T020000
TZNAME:CET
TZOFFSETTO:+0100
TZOFFSETFROM:+0200
END:STANDARD
BEGIN:DAYLIGHT
DTSTART:20180325T030000
TZNAME:CEST
TZOFFSETTO:+0200
TZOFFSETFROM:+0100
END:DAYLIGHT
BEGIN:STANDARD
DTSTART:20181028T020000
TZNAME:CET
TZOFFSETTO:+0100
TZOFFSETFROM:+0200
END:STANDARD
END:VTIMEZONE
END:VCALENDAR
