BEGIN:VCALENDAR
PRODID:-//eluceo/ical//2.0/EN
VERSION:2.0
CALSCALE:GREGORIAN
BEGIN:VEVENT
UID:https://hbb.rivio.dev/senioren/2017/wedstrijd/18550
DTSTAMP:20260420T145633Z
SUMMARY:Mixed 2 - Someren 1
DESCRIPTION:Baan 14\, Wedstrijdnummer 62\, Afdeling Overgangsklasse I K
DTSTART:20170928T200000
DTEND:20170928T230000
LOCATION:City Resort Helmond
ATTACH;FMTTYPE=text/plain:https://hbb.rivio.dev/senioren/2017/wedstrijd/185
 50
END:VEVENT
BEGIN:VEVENT
UID:https://hbb.rivio.dev/senioren/2017/wedstrijd/18555
DTSTAMP:20260420T145633Z
SUMMARY:Phoenix 2 - Mixed 2
DESCRIPTION:Baan 4\, Wedstrijdnummer 66\, Afdeling Overgangsklasse I D
DTSTART:20171004T200000
DTEND:20171004T230000
LOCATION:City Resort Helmond
ATTACH;FMTTYPE=text/plain:https://hbb.rivio.dev/senioren/2017/wedstrijd/185
 55
END:VEVENT
BEGIN:VEVENT
UID:https://hbb.rivio.dev/senioren/2017/wedstrijd/18580
DTSTAMP:20260420T145633Z
SUMMARY:Mixed 2 - BC '85 1
DESCRIPTION:Baan 11\, Wedstrijdnummer 67\, Afdeling Overgangsklasse I K
DTSTART:20171011T200000
DTEND:20171011T230000
LOCATION:City Resort Helmond
ATTACH;FMTTYPE=text/plain:https://hbb.rivio.dev/senioren/2017/wedstrijd/185
 80
END:VEVENT
BEGIN:VEVENT
UID:https://hbb.rivio.dev/senioren/2017/wedstrijd/18625
DTSTAMP:20260420T145633Z
SUMMARY:Mierlo 4 - Mixed 2
DESCRIPTION:Baan 4\, Wedstrijdnummer 71\, Afdeling Overgangsklasse I K
DTSTART:20171115T200000
DTEND:20171115T230000
LOCATION:City Resort Helmond
ATTACH;FMTTYPE=text/plain:https://hbb.rivio.dev/senioren/2017/wedstrijd/186
 25
END:VEVENT
BEGIN:VEVENT
UID:https://hbb.rivio.dev/senioren/2017/wedstrijd/20115
DTSTAMP:20260420T145633Z
SUMMARY:Mixed 2 - BCAB 2
DESCRIPTION:Baan 10\, Wedstrijdnummer 75\, Afdeling Overgangsklasse I K
DTSTART:20171129T200000
DTEND:20171129T230000
LOCATION:City Resort Helmond
ATTACH;FMTTYPE=text/plain:https://hbb.rivio.dev/senioren/2017/wedstrijd/201
 15
END:VEVENT
BEGIN:VEVENT
UID:https://hbb.rivio.dev/senioren/2017/wedstrijd/18724
DTSTAMP:20260420T145633Z
SUMMARY:Someren 1 - Mixed 2
DESCRIPTION:Baan 11\, Wedstrijdnummer 1062\, Afdeling Overgangsklasse I D
DTSTART:20171221T200000
DTEND:20171221T230000
LOCATION:City Resort Helmond
ATTACH;FMTTYPE=text/plain:https://hbb.rivio.dev/senioren/2017/wedstrijd/187
 24
END:VEVENT
BEGIN:VEVENT
UID:https://hbb.rivio.dev/senioren/2017/wedstrijd/18742
DTSTAMP:20260420T145633Z
SUMMARY:Mixed 2 - Phoenix 2
DESCRIPTION:Baan 14\, Wedstrijdnummer 1066\, Afdeling Overgangsklasse I K
DTSTART:20180117T200000
DTEND:20180117T230000
LOCATION:City Resort Helmond
ATTACH;FMTTYPE=text/plain:https://hbb.rivio.dev/senioren/2017/wedstrijd/187
 42
END:VEVENT
BEGIN:VEVENT
UID:https://hbb.rivio.dev/senioren/2017/wedstrijd/18797
DTSTAMP:20260420T145633Z
SUMMARY:BC '85 1 - Mixed 2
DESCRIPTION:Baan 1\, Wedstrijdnummer 1067\, Afdeling Overgangsklasse I D
DTSTART:20180207T200000
DTEND:20180207T230000
LOCATION:City Resort Helmond
ATTACH;FMTTYPE=text/plain:https://hbb.rivio.dev/senioren/2017/wedstrijd/187
 97
END:VEVENT
BEGIN:VEVENT
UID:https://hbb.rivio.dev/senioren/2017/wedstrijd/18822
DTSTAMP:20260420T145633Z
SUMMARY:Mixed 2 - Mierlo 4
DESCRIPTION:Baan 10\, Wedstrijdnummer 1071\, Afdeling Overgangsklasse I K
DTSTART:20180221T200000
DTEND:20180221T230000
LOCATION:City Resort Helmond
ATTACH;FMTTYPE=text/plain:https://hbb.rivio.dev/senioren/2017/wedstrijd/188
 22
END:VEVENT
BEGIN:VEVENT
UID:https://hbb.rivio.dev/senioren/2017/wedstrijd/18857
DTSTAMP:20260420T145633Z
SUMMARY:BCAB 2 - Mixed 2
DESCRIPTION:Baan 15\, Wedstrijdnummer 1075\, Afdeling Overgangsklasse I K
DTSTART:20180301T200000
DTEND:20180301T230000
LOCATION:City Resort Helmond
ATTACH;FMTTYPE=text/plain:https://hbb.rivio.dev/senioren/2017/wedstrijd/188
 57
END:VEVENT
BEGIN:VEVENT
UID:https://hbb.rivio.dev/senioren/2017/wedstrijd/20137
DTSTAMP:20260420T145633Z
SUMMARY:Mixed 2 - BCAB 2
DESCRIPTION:Baan 3\, Wedstrijdnummer 1328\, Afdeling Overgangsklasse I K
DTSTART:20180404T200000
DTEND:20180404T230000
LOCATION:City Resort Helmond
ATTACH;FMTTYPE=text/plain:https://hbb.rivio.dev/senioren/2017/wedstrijd/201
 37
END:VEVENT
BEGIN:VEVENT
UID:https://hbb.rivio.dev/senioren/2017/wedstrijd/20138
DTSTAMP:20260420T145633Z
SUMMARY:Mierlo 4 - Mixed 2
DESCRIPTION:Baan 1\, Wedstrijdnummer 1330\, Afdeling Overgangsklasse I K
DTSTART:20180418T200000
DTEND:20180418T230000
LOCATION:City Resort Helmond
ATTACH;FMTTYPE=text/plain:https://hbb.rivio.dev/senioren/2017/wedstrijd/201
 38
END:VEVENT
BEGIN:VTIMEZONE
TZID:Europe/Amsterdam
BEGIN:STANDARD
DTSTART:20170101T000000
TZNAME:CET
TZOFFSETTO:+0100
TZOFFSETFROM:+0100
END:STANDARD
BEGIN:DAYLIGHT
DTSTART:20170326T030000
TZNAME:CEST
TZOFFSETTO:+0200
TZOFFSETFROM:+0100
END:DAYLIGHT
BEGIN:STANDARD
DTSTART:20171029T020000
TZNAME:CET
TZOFFSETTO:+0100
TZOFFSETFROM:+0200
END:STANDARD
BEGIN:DAYLIGHT
DTSTART:20180325T030000
TZNAME:CEST
TZOFFSETTO:+0200
TZOFFSETFROM:+0100
END:DAYLIGHT
BEGIN:STANDARD
DTSTART:20181028T020000
TZNAME:CET
TZOFFSETTO:+0100
TZOFFSETFROM:+0200
END:STANDARD
END:VTIMEZONE
END:VCALENDAR
