BEGIN:VCALENDAR
PRODID:-//eluceo/ical//2.0/EN
VERSION:2.0
CALSCALE:GREGORIAN
BEGIN:VEVENT
UID:https://hbb.rivio.dev/senioren/2017/wedstrijd/18525
DTSTAMP:20260420T103220Z
SUMMARY:Bakel 1 - Mixed 1
DESCRIPTION:Baan 10\, Wedstrijdnummer 17\, Afdeling Hoofdklasse D
DTSTART:20170921T200000
DTEND:20170921T230000
LOCATION:City Resort Helmond
ATTACH;FMTTYPE=text/plain:https://hbb.rivio.dev/senioren/2017/wedstrijd/185
 25
END:VEVENT
BEGIN:VEVENT
UID:https://hbb.rivio.dev/senioren/2017/wedstrijd/18552
DTSTAMP:20260420T103220Z
SUMMARY:Fair Play 1 - Mixed 1
DESCRIPTION:Baan 1\, Wedstrijdnummer 23\, Afdeling Hoofdklasse K
DTSTART:20171004T200000
DTEND:20171004T230000
LOCATION:City Resort Helmond
ATTACH;FMTTYPE=text/plain:https://hbb.rivio.dev/senioren/2017/wedstrijd/185
 52
END:VEVENT
BEGIN:VEVENT
UID:https://hbb.rivio.dev/senioren/2017/wedstrijd/18587
DTSTAMP:20260420T103220Z
SUMMARY:Mixed 1 - BCV '73 1
DESCRIPTION:Baan 3\, Wedstrijdnummer 28\, Afdeling Hoofdklasse K
DTSTART:20171012T200000
DTEND:20171012T230000
LOCATION:City Resort Helmond
ATTACH;FMTTYPE=text/plain:https://hbb.rivio.dev/senioren/2017/wedstrijd/185
 87
END:VEVENT
BEGIN:VEVENT
UID:https://hbb.rivio.dev/senioren/2017/wedstrijd/18604
DTSTAMP:20260420T103220Z
SUMMARY:Con Brio 4 - Mixed 1
DESCRIPTION:Baan 5\, Wedstrijdnummer 31\, Afdeling Hoofdklasse D
DTSTART:20171108T200000
DTEND:20171108T230000
LOCATION:City Resort Helmond
ATTACH;FMTTYPE=text/plain:https://hbb.rivio.dev/senioren/2017/wedstrijd/186
 04
END:VEVENT
BEGIN:VEVENT
UID:https://hbb.rivio.dev/senioren/2017/wedstrijd/18679
DTSTAMP:20260420T103220Z
SUMMARY:Mixed 1 - Hanevoet 1
DESCRIPTION:Baan 5\, Wedstrijdnummer 37\, Afdeling Hoofdklasse K
DTSTART:20171130T200000
DTEND:20171130T230000
LOCATION:City Resort Helmond
ATTACH;FMTTYPE=text/plain:https://hbb.rivio.dev/senioren/2017/wedstrijd/186
 79
END:VEVENT
BEGIN:VEVENT
UID:https://hbb.rivio.dev/senioren/2017/wedstrijd/18698
DTSTAMP:20260420T103220Z
SUMMARY:Smashing Bruang 1 - Mixed 1
DESCRIPTION:Baan 2\, Wedstrijdnummer 45\, Afdeling Hoofdklasse D
DTSTART:20171213T200000
DTEND:20171213T230000
LOCATION:City Resort Helmond
ATTACH;FMTTYPE=text/plain:https://hbb.rivio.dev/senioren/2017/wedstrijd/186
 98
END:VEVENT
BEGIN:VEVENT
UID:https://hbb.rivio.dev/senioren/2017/wedstrijd/18757
DTSTAMP:20260420T103220Z
SUMMARY:Mierlo 2 - Mixed 1
DESCRIPTION:Baan 3\, Wedstrijdnummer 49\, Afdeling Hoofdklasse K
DTSTART:20180124T200000
DTEND:20180124T230000
LOCATION:City Resort Helmond
ATTACH;FMTTYPE=text/plain:https://hbb.rivio.dev/senioren/2017/wedstrijd/187
 57
END:VEVENT
BEGIN:VEVENT
UID:https://hbb.rivio.dev/senioren/2017/wedstrijd/18777
DTSTAMP:20260420T103220Z
SUMMARY:Mixed 1 - Con Brio 3
DESCRIPTION:Baan 2\, Wedstrijdnummer 51\, Afdeling Hoofdklasse K
DTSTART:20180131T200000
DTEND:20180131T230000
LOCATION:City Resort Helmond
ATTACH;FMTTYPE=text/plain:https://hbb.rivio.dev/senioren/2017/wedstrijd/187
 77
END:VEVENT
BEGIN:VEVENT
UID:https://hbb.rivio.dev/senioren/2017/wedstrijd/18800
DTSTAMP:20260420T103220Z
SUMMARY:Mixed 1 - Brabantia 1
DESCRIPTION:Baan 4\, Wedstrijdnummer 59\, Afdeling Hoofdklasse K
DTSTART:20180207T200000
DTEND:20180207T230000
LOCATION:City Resort Helmond
ATTACH;FMTTYPE=text/plain:https://hbb.rivio.dev/senioren/2017/wedstrijd/188
 00
END:VEVENT
BEGIN:VEVENT
UID:https://hbb.rivio.dev/senioren/2017/wedstrijd/20128
DTSTAMP:20260420T103220Z
SUMMARY:Hanevoet 1 - Mixed 1
DESCRIPTION:Baan 11\, Wedstrijdnummer 1318\, Afdeling Hoofdklasse K
DTSTART:20180314T200000
DTEND:20180314T230000
LOCATION:City Resort Helmond
ATTACH;FMTTYPE=text/plain:https://hbb.rivio.dev/senioren/2017/wedstrijd/201
 28
END:VEVENT
BEGIN:VEVENT
UID:https://hbb.rivio.dev/senioren/2017/wedstrijd/20131
DTSTAMP:20260420T103220Z
SUMMARY:Mixed 1 - Fair Play 1
DESCRIPTION:Baan 1\, Wedstrijdnummer 1321\, Afdeling Hoofdklasse K
DTSTART:20180328T200000
DTEND:20180328T230000
LOCATION:City Resort Helmond
ATTACH;FMTTYPE=text/plain:https://hbb.rivio.dev/senioren/2017/wedstrijd/201
 31
END:VEVENT
BEGIN:VEVENT
UID:https://hbb.rivio.dev/senioren/2017/wedstrijd/20133
DTSTAMP:20260420T103220Z
SUMMARY:Mixed 1 - Mierlo 2
DESCRIPTION:Baan 15\, Wedstrijdnummer 1323\, Afdeling Hoofdklasse K
DTSTART:20180405T200000
DTEND:20180405T230000
LOCATION:City Resort Helmond
ATTACH;FMTTYPE=text/plain:https://hbb.rivio.dev/senioren/2017/wedstrijd/201
 33
END:VEVENT
BEGIN:VEVENT
UID:https://hbb.rivio.dev/senioren/2017/wedstrijd/20135
DTSTAMP:20260420T103220Z
SUMMARY:BCV '73 1 - Mixed 1
DESCRIPTION:Baan 3\, Wedstrijdnummer 1324\, Afdeling Hoofdklasse K
DTSTART:20180516T200000
DTEND:20180516T230000
LOCATION:City Resort Helmond
ATTACH;FMTTYPE=text/plain:https://hbb.rivio.dev/senioren/2017/wedstrijd/201
 35
END:VEVENT
BEGIN:VTIMEZONE
TZID:Europe/Amsterdam
BEGIN:STANDARD
DTSTART:20170101T000000
TZNAME:CET
TZOFFSETTO:+0100
TZOFFSETFROM:+0100
END:STANDARD
BEGIN:DAYLIGHT
DTSTART:20170326T030000
TZNAME:CEST
TZOFFSETTO:+0200
TZOFFSETFROM:+0100
END:DAYLIGHT
BEGIN:STANDARD
DTSTART:20171029T020000
TZNAME:CET
TZOFFSETTO:+0100
TZOFFSETFROM:+0200
END:STANDARD
BEGIN:DAYLIGHT
DTSTART:20180325T030000
TZNAME:CEST
TZOFFSETTO:+0200
TZOFFSETFROM:+0100
END:DAYLIGHT
BEGIN:STANDARD
DTSTART:20181028T020000
TZNAME:CET
TZOFFSETTO:+0100
TZOFFSETFROM:+0200
END:STANDARD
END:VTIMEZONE
END:VCALENDAR
