BEGIN:VCALENDAR
PRODID:-//eluceo/ical//2.0/EN
VERSION:2.0
CALSCALE:GREGORIAN
BEGIN:VEVENT
UID:https://hbb.rivio.dev/senioren/2017/wedstrijd/18512
DTSTAMP:20260420T085905Z
SUMMARY:Con Brio 5 - Con Brio 6
DESCRIPTION:Baan 4\, Wedstrijdnummer 91\, Afdeling 1e klasse 
DTSTART:20170920T200000
DTEND:20170920T230000
LOCATION:City Resort Helmond
ATTACH;FMTTYPE=text/plain:https://hbb.rivio.dev/senioren/2017/wedstrijd/185
 12
END:VEVENT
BEGIN:VEVENT
UID:https://hbb.rivio.dev/senioren/2017/wedstrijd/18566
DTSTAMP:20260420T085905Z
SUMMARY:Con Brio 6 - Bakel 2
DESCRIPTION:Baan 4\, Wedstrijdnummer 95\, Afdeling 1e klasse 
DTSTART:20171005T200000
DTEND:20171005T230000
LOCATION:City Resort Helmond
ATTACH;FMTTYPE=text/plain:https://hbb.rivio.dev/senioren/2017/wedstrijd/185
 66
END:VEVENT
BEGIN:VEVENT
UID:https://hbb.rivio.dev/senioren/2017/wedstrijd/18600
DTSTAMP:20260420T085905Z
SUMMARY:Heeze 1 - Con Brio 6
DESCRIPTION:Baan 1\, Wedstrijdnummer 100\, Afdeling 1e klasse 
DTSTART:20171108T200000
DTEND:20171108T230000
LOCATION:City Resort Helmond
ATTACH;FMTTYPE=text/plain:https://hbb.rivio.dev/senioren/2017/wedstrijd/186
 00
END:VEVENT
BEGIN:VEVENT
UID:https://hbb.rivio.dev/senioren/2017/wedstrijd/18623
DTSTAMP:20260420T085905Z
SUMMARY:Con Brio 6 - Mixed 4
DESCRIPTION:Baan 2\, Wedstrijdnummer 104\, Afdeling 1e klasse 
DTSTART:20171115T200000
DTEND:20171115T230000
LOCATION:City Resort Helmond
ATTACH;FMTTYPE=text/plain:https://hbb.rivio.dev/senioren/2017/wedstrijd/186
 23
END:VEVENT
BEGIN:VEVENT
UID:https://hbb.rivio.dev/senioren/2017/wedstrijd/18666
DTSTAMP:20260420T085905Z
SUMMARY:Mierlo 5 - Con Brio 6
DESCRIPTION:Baan 2\, Wedstrijdnummer 109\, Afdeling 1e klasse 
DTSTART:20171129T200000
DTEND:20171129T230000
LOCATION:City Resort Helmond
ATTACH;FMTTYPE=text/plain:https://hbb.rivio.dev/senioren/2017/wedstrijd/186
 66
END:VEVENT
BEGIN:VEVENT
UID:https://hbb.rivio.dev/senioren/2017/wedstrijd/18731
DTSTAMP:20260420T085905Z
SUMMARY:Con Brio 6 - Eindhoven 1
DESCRIPTION:Baan 3\, Wedstrijdnummer 113\, Afdeling 1e klasse 
DTSTART:20180111T200000
DTEND:20180111T230000
LOCATION:City Resort Helmond
ATTACH;FMTTYPE=text/plain:https://hbb.rivio.dev/senioren/2017/wedstrijd/187
 31
END:VEVENT
BEGIN:VEVENT
UID:https://hbb.rivio.dev/senioren/2017/wedstrijd/18928
DTSTAMP:20260420T085905Z
SUMMARY:Con Brio 6 - Smashing Bruang 2
DESCRIPTION:Baan 3\, Wedstrijdnummer 1118\, Afdeling 1e klasse 
DTSTART:20180117T200000
DTEND:20180117T230000
LOCATION:City Resort Helmond
ATTACH;FMTTYPE=text/plain:https://hbb.rivio.dev/senioren/2017/wedstrijd/189
 28
END:VEVENT
BEGIN:VEVENT
UID:https://hbb.rivio.dev/senioren/2017/wedstrijd/18761
DTSTAMP:20260420T085905Z
SUMMARY:Con Brio 6 - Con Brio 5
DESCRIPTION:Baan 12\, Wedstrijdnummer 1091\, Afdeling 1e klasse 
DTSTART:20180124T200000
DTEND:20180124T230000
LOCATION:City Resort Helmond
ATTACH;FMTTYPE=text/plain:https://hbb.rivio.dev/senioren/2017/wedstrijd/187
 61
END:VEVENT
BEGIN:VEVENT
UID:https://hbb.rivio.dev/senioren/2017/wedstrijd/18833
DTSTAMP:20260420T085905Z
SUMMARY:Bakel 2 - Con Brio 6
DESCRIPTION:Baan 11\, Wedstrijdnummer 1095\, Afdeling 1e klasse 
DTSTART:20180222T200000
DTEND:20180222T230000
LOCATION:City Resort Helmond
ATTACH;FMTTYPE=text/plain:https://hbb.rivio.dev/senioren/2017/wedstrijd/188
 33
END:VEVENT
BEGIN:VEVENT
UID:https://hbb.rivio.dev/senioren/2017/wedstrijd/18859
DTSTAMP:20260420T085905Z
SUMMARY:Con Brio 6 - Heeze 1
DESCRIPTION:Baan 2\, Wedstrijdnummer 1100\, Afdeling 1e klasse 
DTSTART:20180308T200000
DTEND:20180308T230000
LOCATION:City Resort Helmond
ATTACH;FMTTYPE=text/plain:https://hbb.rivio.dev/senioren/2017/wedstrijd/188
 59
END:VEVENT
BEGIN:VEVENT
UID:https://hbb.rivio.dev/senioren/2017/wedstrijd/18872
DTSTAMP:20260420T085905Z
SUMMARY:Mixed 4 - Con Brio 6
DESCRIPTION:Baan 15\, Wedstrijdnummer 1104\, Afdeling 1e klasse 
DTSTART:20180314T200000
DTEND:20180314T230000
LOCATION:City Resort Helmond
ATTACH;FMTTYPE=text/plain:https://hbb.rivio.dev/senioren/2017/wedstrijd/188
 72
END:VEVENT
BEGIN:VEVENT
UID:https://hbb.rivio.dev/senioren/2017/wedstrijd/18901
DTSTAMP:20260420T085905Z
SUMMARY:Con Brio 6 - Mierlo 5
DESCRIPTION:Baan 10\, Wedstrijdnummer 1109\, Afdeling 1e klasse 
DTSTART:20180329T200000
DTEND:20180329T230000
LOCATION:City Resort Helmond
ATTACH;FMTTYPE=text/plain:https://hbb.rivio.dev/senioren/2017/wedstrijd/189
 01
END:VEVENT
BEGIN:VEVENT
UID:https://hbb.rivio.dev/senioren/2017/wedstrijd/18914
DTSTAMP:20260420T085905Z
SUMMARY:Eindhoven 1 - Con Brio 6
DESCRIPTION:Baan 2\, Wedstrijdnummer 1113\, Afdeling 1e klasse 
DTSTART:20180419T200000
DTEND:20180419T230000
LOCATION:City Resort Helmond
ATTACH;FMTTYPE=text/plain:https://hbb.rivio.dev/senioren/2017/wedstrijd/189
 14
END:VEVENT
BEGIN:VEVENT
UID:https://hbb.rivio.dev/senioren/2017/wedstrijd/18736
DTSTAMP:20260420T085905Z
SUMMARY:Smashing Bruang 2 - Con Brio 6
DESCRIPTION:Baan 15\, Wedstrijdnummer 118\, Afdeling 1e klasse 
DTSTART:20180516T200000
DTEND:20180516T230000
LOCATION:City Resort Helmond
ATTACH;FMTTYPE=text/plain:https://hbb.rivio.dev/senioren/2017/wedstrijd/187
 36
END:VEVENT
BEGIN:VTIMEZONE
TZID:Europe/Amsterdam
BEGIN:STANDARD
DTSTART:20170101T000000
TZNAME:CET
TZOFFSETTO:+0100
TZOFFSETFROM:+0100
END:STANDARD
BEGIN:DAYLIGHT
DTSTART:20170326T030000
TZNAME:CEST
TZOFFSETTO:+0200
TZOFFSETFROM:+0100
END:DAYLIGHT
BEGIN:STANDARD
DTSTART:20171029T020000
TZNAME:CET
TZOFFSETTO:+0100
TZOFFSETFROM:+0200
END:STANDARD
BEGIN:DAYLIGHT
DTSTART:20180325T030000
TZNAME:CEST
TZOFFSETTO:+0200
TZOFFSETFROM:+0100
END:DAYLIGHT
BEGIN:STANDARD
DTSTART:20181028T020000
TZNAME:CET
TZOFFSETTO:+0100
TZOFFSETFROM:+0200
END:STANDARD
END:VTIMEZONE
END:VCALENDAR
